BEGIN:VCALENDAR
VERSION:2.0
PRODID:-//kompass - ECPv6.15.20//NONSGML v1.0//EN
CALSCALE:GREGORIAN
METHOD:PUBLISH
X-ORIGINAL-URL:https://kompass-so.ch
X-WR-CALDESC:Veranstaltungen für kompass
REFRESH-INTERVAL;VALUE=DURATION:PT1H
X-Robots-Tag:noindex
X-PUBLISHED-TTL:PT1H
BEGIN:VTIMEZONE
TZID:Europe/Paris
BEGIN:DAYLIGHT
TZOFFSETFROM:+0100
TZOFFSETTO:+0200
TZNAME:CEST
DTSTART:20250330T010000
END:DAYLIGHT
BEGIN:STANDARD
TZOFFSETFROM:+0200
TZOFFSETTO:+0100
TZNAME:CET
DTSTART:20251026T010000
END:STANDARD
BEGIN:DAYLIGHT
TZOFFSETFROM:+0100
TZOFFSETTO:+0200
TZNAME:CEST
DTSTART:20260329T010000
END:DAYLIGHT
BEGIN:STANDARD
TZOFFSETFROM:+0200
TZOFFSETTO:+0100
TZNAME:CET
DTSTART:20261025T010000
END:STANDARD
BEGIN:DAYLIGHT
TZOFFSETFROM:+0100
TZOFFSETTO:+0200
TZNAME:CEST
DTSTART:20270328T010000
END:DAYLIGHT
BEGIN:STANDARD
TZOFFSETFROM:+0200
TZOFFSETTO:+0100
TZNAME:CET
DTSTART:20271031T010000
END:STANDARD
END:VTIMEZONE
BEGIN:VEVENT
DTSTART;TZID=Europe/Paris:20260527T191500
DTEND;TZID=Europe/Paris:20260527T214500
DTSTAMP:20260421T170313
CREATED:20251124T082546Z
LAST-MODIFIED:20260420T114630Z
UID:10000167-1779909300-1779918300@kompass-so.ch
SUMMARY:SESK Starke Eltern – Starke Kinder\, Basiskurs (2629)
DESCRIPTION:Für alle Eltern / in Obergös­gen \nKinder auf dem Weg zu selb­st­ständi­gen\, ver­ant­wor­tungs­be­wussten und zufriede­nen Men­schen zu begleit­en\, ist eine anspruchsvolle Auf­gabe. Viele Eltern fühlen sich unsich­er und über­fordert. Der Kurs «Starke Eltern – Starke Kinder» gibt den Eltern mehr Sicher­heit und trägt zu einem entspan­nteren Fam­i­lien­all­t­ag bei. \nIm Basiskurs set­zen sich Eltern damit auseinan­der\, was ihnen in der Erziehung wichtig ist\, wie sie ihre Bedürfnisse und Gefüh­le aus­drück­en und sich mit ihrem Kind bess­er ver­ständi­gen kön­nen. \nDauer: 4 Kursabende à 2.5 hKurs­dat­en: 27. Mai\, 3. Juni\, 10. Juni\, 17. Juni 2026Kosten: CHF 160.– / Eltern­teil\, CHF 240.– / Eltern­paar \n			\n			\n				\n				\n				\n				\n			\n				\n				\n				\n				\n				\n				\n			\n				\n				\n				\n				\n				Kursanmeldung für den Kurs vom 27. Mai in Obergösgen\, SESK Basis (2629)\n				\n				\n				\n					\n						\n				\n				\n				\n				\n				Anrede*\n				\n						Anrede*FrauHerr\n					\n			 \n				\n				\n				\n				\n				Vor­name*\n				\n			 \n				\n				\n				\n				\n				Name*\n				\n			 \n				\n				\n				\n				\n				Strasse*\n				\n			 \n				\n				\n				\n				\n				PLZ / Ort*\n				\n			 \n				\n				\n				\n				\n				Tele­fon*\n				\n			 \n				\n				\n				\n				\n				E‑Mail-Adresse*\n				\n			 \n				\n				\n				\n				\n				Nachricht\n				\n			 \n						\n						\n							\n			\n				\n					5 + 8 = \n				 \n			\n							Anmelden\n						\n						\n					\n				\n			\n			\n			\n				\n				\n				\n				\n				\n				\n				\n				\n				\n				Kosten mehrteilige Ver­anstal­tung\nCHF 160.– / Eltern­teil\nCHF 240.– / Eltern­paar\nNach dem Absenden dieses For­mu­la­rs erhal­ten Sie eine automa­tis­che Anmeldebestä­ti­gung per E‑Mail. Die defin­i­tive Kurs­bestä­ti­gung erhal­ten Sie spätestens 1 Woche vor dem Anlass per E‑Mail. \nDie Anmel­dung ist verbindlich.\nSoll­ten Sie ver­hin­dert sein\, bit­ten wir Sie um frühzeit­ige Mit­teilung.
URL:https://kompass-so.ch/event/sesk-starke-eltern-starke-kinder-basiskurs-2629/
LOCATION:Obergösgen
CATEGORIES:Mehrteiliger Kurs
ATTACH;FMTTYPE=image/jpeg:https://kompass-so.ch/wp-content/uploads/2024/11/sesk-mit-logo_1000x550px.jpg
ORGANIZER;CN="Fachstelle kompass":MAILTO:mail@kompass-so.ch
END:VEVENT
BEGIN:VEVENT
DTSTART;TZID=Europe/Paris:20260914T191500
DTEND;TZID=Europe/Paris:20260914T211500
DTSTAMP:20260421T170313
CREATED:20260303T112318Z
LAST-MODIFIED:20260303T112457Z
UID:10000201-1789413300-1789420500@kompass-so.ch
SUMMARY:Mein Körper – meine Grenzen\, Nähe\, Neugier und Schutz im Kleinkindalter (2650)
DESCRIPTION:Für Eltern von 3- bis 6‑jährigen Kindern / in Obergös­gen \nKleinkinder ent­deck­en ihren Kör­p­er mit Neugi­er und Freude – auch beim «Dök­ter­le». Eltern sind gefordert\, sie acht­sam und alters­gerecht zu begleit­en – ohne die Ent­deck­er­freude zu brem­sen. Nähe gestal­ten\, Gren­zen wahren und frühzeitig schützen. Auch beim Teilen von Kinder­bildern gilt: Es sind Bilder des Kindes\, sein Kör­p­er\, sein Recht. Schutz begin­nt im echt­en All­t­ag wie im dig­i­tal­en Leben. \n			\n			\n				\n				\n				\n				\n			\n				\n				\n				\n				\n				\n				\n			\n				\n				\n				\n				\n				Kursanmeldung für den Kurs vom 14. September 2026\, Obergösgen\, Mein Körper – Meine Grenzen (2650)\n				\n				\n				\n					\n						\n				\n				\n				\n				\n				Anrede*\n				\n						Anrede*FrauHerr\n					\n			 \n				\n				\n				\n				\n				Vor­name*\n				\n			 \n				\n				\n				\n				\n				Name*\n				\n			 \n				\n				\n				\n				\n				Strasse*\n				\n			 \n				\n				\n				\n				\n				PLZ / Ort*\n				\n			 \n				\n				\n				\n				\n				Tele­fon*\n				\n			 \n				\n				\n				\n				\n				E‑Mail-Adresse*\n				\n			 \n				\n				\n				\n				\n				Nachricht\n				\n			 \n						\n						\n							\n			\n				\n					5 + 10 = \n				 \n			\n							Anmelden\n						\n						\n					\n				\n			\n			\n			\n				\n				\n				\n				\n				\n				\n				\n				\n				\n				Kosten Einzelver­anstal­tungDie Teil­nehmenden aus dem Kan­ton Solothurn kön­nen frei nach ihren per­sön­lichen Möglichkeit­en entschei­den\, welchen Betrag sie für die Ver­anstal­tung bezahlen möcht­en. Richtwert CHF 10.–.Für Per­so­n­en ausser­halb des Kan­ton Solothurn gilt ein Min­dest­be­trag von CHF 20.– \nNach dem Absenden dieses For­mu­la­rs erhal­ten Sie eine automa­tis­che Anmeldebestä­ti­gung per E‑Mail. Die defin­i­tive Kurs­bestä­ti­gung erhal­ten Sie spätestens 3 Tage vor dem Anlass per E‑Mail. \nDie Anmel­dung ist verbindlich.Soll­ten Sie ver­hin­dert sein\, bit­ten wir Sie um frühzeit­ige Mit­teilung.
URL:https://kompass-so.ch/event/mein-koerper-meine-grenzen-naehe-neugier-und-schutz-im-kleinkindalter-2650/
LOCATION:Obergösgen
CATEGORIES:Einzelveranstaltung
ATTACH;FMTTYPE=image/jpeg:https://kompass-so.ch/wp-content/uploads/2024/12/gefuehle-koerper-iStock-1134909201_1000x550px.jpg
ORGANIZER;CN="Fachstelle kompass":MAILTO:mail@kompass-so.ch
END:VEVENT
BEGIN:VEVENT
DTSTART;TZID=Europe/Paris:20261111T191500
DTEND;TZID=Europe/Paris:20261111T214500
DTSTAMP:20260421T170313
CREATED:20260311T095207Z
LAST-MODIFIED:20260311T095357Z
UID:10000220-1794424500-1794433500@kompass-so.ch
SUMMARY:Eltern werden – Eltern sein (2670)
DESCRIPTION:Für wer­dende Eltern / in Obergös­gen \nMut­ter oder Vater zu wer­den ist mit vie­len Verän­derun­gen ver­bun­den. Diese Zeit ist gle­ich­wohl span­nend wie her­aus­fordernd. Die bish­erige Lebensweise wird auf den Kopf gestellt; Beziehun­gen verän­dern sich. Erwerb­stätige sind zusät­zlich gefordert bei der Vere­in­barkeit von Fam­i­lie und Beruf. Eltern set­zen sich damit auseinan­der\, wie sie als junge Fam­i­lie zusam­men­leben wollen. \nDauer: 2 Kursabende à 2.5 hKurs­dat­en: 11. Novem­ber und 18. Novem­ber 2026Kosten: CHF 120.– / Eltern­paar \n			\n			\n				\n				\n				\n				\n			\n				\n				\n				\n				\n				\n				\n			\n				\n				\n				\n				\n				Kursanmeldung für den Kurs vom 11. November 2026\, in Obergösgen\, Eltern werden – Eltern sein (2670)\n				\n				\n				\n					\n						\n				\n				\n				\n				\n				Anrede*\n				\n						Anrede*FrauHerr\n					\n			 \n				\n				\n				\n				\n				Vor­name*\n				\n			 \n				\n				\n				\n				\n				Name*\n				\n			 \n				\n				\n				\n				\n				Strasse*\n				\n			 \n				\n				\n				\n				\n				PLZ / Ort*\n				\n			 \n				\n				\n				\n				\n				Tele­fon*\n				\n			 \n				\n				\n				\n				\n				E‑Mail-Adresse*\n				\n			 \n				\n				\n				\n				\n				Nachricht\n				\n			 \n						\n						\n							\n			\n				\n					9 + 13 = \n				 \n			\n							Anmelden\n						\n						\n					\n				\n			\n			\n			\n				\n				\n				\n				\n				\n				\n				\n				\n				\n				Kosten mehrteilige Ver­anstal­tung\nCHF 120.– / Eltern­paar\nNach dem Absenden dieses For­mu­la­rs erhal­ten Sie eine automa­tis­che Anmeldebestä­ti­gung per E‑Mail. Die defin­i­tive Kurs­bestä­ti­gung erhal­ten Sie spätestens 1 Woche vor dem Anlass per E‑Mail. \nDie Anmel­dung ist verbindlich.\nSoll­ten Sie ver­hin­dert sein\, bit­ten wir Sie um frühzeit­ige Mit­teilung.
URL:https://kompass-so.ch/event/eltern-werden-eltern-sein-2670/
LOCATION:Obergösgen
CATEGORIES:Mehrteiliger Kurs
ATTACH;FMTTYPE=image/jpeg:https://kompass-so.ch/wp-content/uploads/2024/11/eltern-werden-1000x550px.jpg
ORGANIZER;CN="Fachstelle kompass":MAILTO:mail@kompass-so.ch
END:VEVENT
END:VCALENDAR