BEGIN:VCALENDAR
VERSION:2.0
PRODID:-//kompass - ECPv6.15.20//NONSGML v1.0//EN
CALSCALE:GREGORIAN
METHOD:PUBLISH
X-ORIGINAL-URL:https://kompass-so.ch
X-WR-CALDESC:Veranstaltungen für kompass
REFRESH-INTERVAL;VALUE=DURATION:PT1H
X-Robots-Tag:noindex
X-PUBLISHED-TTL:PT1H
BEGIN:VTIMEZONE
TZID:Europe/Paris
BEGIN:DAYLIGHT
TZOFFSETFROM:+0100
TZOFFSETTO:+0200
TZNAME:CEST
DTSTART:20240331T010000
END:DAYLIGHT
BEGIN:STANDARD
TZOFFSETFROM:+0200
TZOFFSETTO:+0100
TZNAME:CET
DTSTART:20241027T010000
END:STANDARD
BEGIN:DAYLIGHT
TZOFFSETFROM:+0100
TZOFFSETTO:+0200
TZNAME:CEST
DTSTART:20250330T010000
END:DAYLIGHT
BEGIN:STANDARD
TZOFFSETFROM:+0200
TZOFFSETTO:+0100
TZNAME:CET
DTSTART:20251026T010000
END:STANDARD
BEGIN:DAYLIGHT
TZOFFSETFROM:+0100
TZOFFSETTO:+0200
TZNAME:CEST
DTSTART:20260329T010000
END:DAYLIGHT
BEGIN:STANDARD
TZOFFSETFROM:+0200
TZOFFSETTO:+0100
TZNAME:CET
DTSTART:20261025T010000
END:STANDARD
END:VTIMEZONE
BEGIN:VEVENT
DTSTART;TZID=Europe/Paris:20251030T191500
DTEND;TZID=Europe/Paris:20251030T211500
DTSTAMP:20260422T160747
CREATED:20241202T081711Z
LAST-MODIFIED:20241211T140538Z
UID:10000056-1761851700-1761858900@kompass-so.ch
SUMMARY:Starke Gefühle bei Kindern – so unterstützen Sie Ihr Kind (2569)
DESCRIPTION:Für Eltern von 4- bis 10-jähri­gen Kindern / in Grenchen \nFrus­tra­tion\, Wut\, Angst oder Trau­rigkeit gehören zur Gefühlswelt der Kinder dazu. Wie kön­nen Eltern in solchen Momenten beson­nen reagieren und ihren Kindern einen unter­stützen­den Umgang mit Gefühlen lehren? \n			\n			\n				\n				\n				\n				\n			\n				\n				\n				\n				\n				\n				\n			\n				\n				\n				\n				\n				Kursanmeldung für den Kurs vom 30. Oktober 2025\, in Grenchen\, Starke Gefühle bei Kindern – so unterstützen Sie Ihr Kind (2569)\n				\n				\n				\n					\n						\n				\n				\n				\n				\n				Anrede*\n				\n						Anrede*FrauHerr\n					\n			 \n				\n				\n				\n				\n				Vor­name*\n				\n			 \n				\n				\n				\n				\n				Name*\n				\n			 \n				\n				\n				\n				\n				Strasse*\n				\n			 \n				\n				\n				\n				\n				PLZ / Ort*\n				\n			 \n				\n				\n				\n				\n				Tele­fon*\n				\n			 \n				\n				\n				\n				\n				E‑Mail-Adresse*\n				\n			 \n				\n				\n				\n				\n				Nachricht\n				\n			 \n						\n						\n							\n			\n				\n					10 + 2 = \n				 \n			\n							Anmelden\n						\n						\n					\n				\n			\n			\n			\n				\n				\n				\n				\n				\n				\n				\n				\n				\n				Kosten Einzelver­anstal­tung\nDie Teil­nehmenden aus dem Kan­ton Solothurn kön­nen frei nach ihren per­sön­lichen Möglichkeit­en entschei­den\, welchen Betrag sie für die Ver­anstal­tung bezahlen möcht­en. Richtwert CHF 10.–.\nFür Per­so­n­en ausser­halb des Kan­ton Solothurn gilt ein Min­dest­be­trag von CHF 20.–\nNach dem Absenden dieses For­mu­la­rs erhal­ten Sie eine automa­tis­che Anmeldebestä­ti­gung per E‑Mail. Die defin­i­tive Kurs­bestä­ti­gung erhal­ten Sie spätestens 1 Woche vor dem Anlass per E‑Mail. \nDie Anmel­dung ist verbindlich.\nSoll­ten Sie ver­hin­dert sein\, bit­ten wir Sie um frühzeit­ige Mit­teilung.
URL:https://kompass-so.ch/event/starke-gefuehle-bei-kindern-so-unterstuetzen-sie-ihr-kind-2569/
LOCATION:Grenchen
CATEGORIES:Einzelveranstaltung
ATTACH;FMTTYPE=image/jpeg:https://kompass-so.ch/wp-content/uploads/2024/11/starke-gefuehle_1000x550px.jpg
ORGANIZER;CN="Fachstelle kompass":MAILTO:mail@kompass-so.ch
END:VEVENT
BEGIN:VEVENT
DTSTART;TZID=Europe/Paris:20250910T191500
DTEND;TZID=Europe/Paris:20250910T211500
DTSTAMP:20260422T160747
CREATED:20241129T072408Z
LAST-MODIFIED:20241210T133854Z
UID:10000023-1757531700-1757538900@kompass-so.ch
SUMMARY:Digitale Welt – Kleinkinder sicher begleiten (2529)
DESCRIPTION:Für Eltern von 0- bis 4‑jährigen Kindern / in Grenchen \nDer All­t­ag mit Kleinkind und Tablet ist eine Grat­wan­derung. Wie kön­nen Eltern ihre Kinder alters­gerecht in die dig­i­tale Welt begleit­en und von welch­er Qual­ität soll die Medi­en­nutzung sein? Eine wichtige Auseinan­der­set­zung für kon­struk­tive und sichere Nutzung im Fam­i­lien­all­t­ag. \n			\n			\n				\n				\n				\n				\n			\n				\n				\n				\n				\n				\n				\n			\n				\n				\n				\n				\n				Kursanmeldung für den Kurs vom 10. September 2025 in Grenchen\, Digitale Welt – Kleinkinder sicher begleiten (2529)\n				\n				\n				\n					\n						\n				\n				\n				\n				\n				Anrede*\n				\n						Anrede*FrauHerr\n					\n			 \n				\n				\n				\n				\n				Vor­name*\n				\n			 \n				\n				\n				\n				\n				Name*\n				\n			 \n				\n				\n				\n				\n				Strasse*\n				\n			 \n				\n				\n				\n				\n				PLZ / Ort*\n				\n			 \n				\n				\n				\n				\n				Tele­fon*\n				\n			 \n				\n				\n				\n				\n				E‑Mail-Adresse*\n				\n			 \n				\n				\n				\n				\n				Nachricht\n				\n			 \n						\n						\n							\n			\n				\n					3 + 7 = \n				 \n			\n							Anmelden\n						\n						\n					\n				\n			\n			\n			\n				\n				\n				\n				\n				\n				\n				\n				\n				\n				Kosten Einzelver­anstal­tung\nDie Teil­nehmenden aus dem Kan­ton Solothurn kön­nen frei nach ihren per­sön­lichen Möglichkeit­en entschei­den\, welchen Betrag sie für die Ver­anstal­tung bezahlen möcht­en. Richtwert CHF 10.–.\nFür Per­so­n­en ausser­halb des Kan­ton Solothurn gilt ein Min­dest­be­trag von CHF 20.–\n\nNach dem Absenden dieses For­mu­la­rs erhal­ten Sie eine automa­tis­che Anmeldebestä­ti­gung per E‑Mail. Die defin­i­tive Kurs­bestä­ti­gung erhal­ten Sie spätestens 1 Woche vor dem Anlass per E‑Mail.\n\nDie Anmel­dung ist verbindlich.\nSoll­ten Sie ver­hin­dert sein\, bit­ten wir Sie um frühzeit­ige Mit­teilung.
URL:https://kompass-so.ch/event/digitale-welt-kleinkinder-sicher-begleiten-2529/
LOCATION:Grenchen
CATEGORIES:Einzelveranstaltung
ATTACH;FMTTYPE=image/jpeg:https://kompass-so.ch/wp-content/uploads/2024/11/digitale-welt_1000x550px.jpg
ORGANIZER;CN="Fachstelle kompass":MAILTO:mail@kompass-so.ch
END:VEVENT
BEGIN:VEVENT
DTSTART;TZID=Europe/Paris:20250909T191500
DTEND;TZID=Europe/Paris:20250909T214500
DTSTAMP:20260422T160747
CREATED:20241203T104323Z
LAST-MODIFIED:20241210T131830Z
UID:10000086-1757445300-1757454300@kompass-so.ch
SUMMARY:SESK Basis (2508)
DESCRIPTION:Für alle Eltern / in Grenchen \nKinder auf dem Weg zu selb­st­ständi­gen\, ver­ant­wor­tungs­be­wussten und zufriede­nen Men­schen zu begleit­en\, ist eine anspruchsvolle Auf­gabe. Viele Eltern fühlen sich unsich­er und über­fordert. Der Kurs «Starke Eltern – Starke Kinder» gibt den Eltern mehr Sicher­heit und trägt zu einem entspan­nteren Fam­i­lien­all­t­ag bei. \nIm Basiskurs set­zen sich Eltern damit auseinan­der\, was ihnen in der Erziehung wichtig ist\, wie sie ihre Bedürfnisse und Gefüh­le aus­drück­en und sich mit ihrem Kind bess­er ver­ständi­gen kön­nen. \nDauer: 4 Kursabende à 2.5 hKurs­dat­en: 9. Sep­tem­ber\, 16. Sep­tem­ber\, 23. Sep­tem­ber\, 30. Sep­tem­ber 2025Kosten: CHF 160.– / Eltern­teil\, CHF 240.– / Eltern­paar \n			\n			\n				\n				\n				\n				\n			\n				\n				\n				\n				\n				\n				\n			\n				\n				\n				\n				\n				Kursanmeldung für den Kurs vom 9. September 2025 in Grenchen \, SESK Basis (2508)\n				\n				\n				\n					\n						\n				\n				\n				\n				\n				Anrede*\n				\n						Anrede*FrauHerr\n					\n			 \n				\n				\n				\n				\n				Vor­name*\n				\n			 \n				\n				\n				\n				\n				Name*\n				\n			 \n				\n				\n				\n				\n				Strasse*\n				\n			 \n				\n				\n				\n				\n				PLZ / Ort*\n				\n			 \n				\n				\n				\n				\n				Tele­fon*\n				\n			 \n				\n				\n				\n				\n				E‑Mail-Adresse*\n				\n			 \n				\n				\n				\n				\n				Nachricht\n				\n			 \n						\n						\n							\n			\n				\n					14 + 10 = \n				 \n			\n							Anmelden\n						\n						\n					\n				\n			\n			\n			\n				\n				\n				\n				\n				\n				\n				\n				\n				\n				Kosten Mehrteilige Ver­anstal­tung\nCHF 160.– / Eltern­teil\nCHF 240.– / Eltern­paar\nNach dem Absenden dieses For­mu­la­rs erhal­ten Sie eine automa­tis­che Anmeldebestä­ti­gung per E‑Mail. Die defin­i­tive Kurs­bestä­ti­gung erhal­ten Sie spätestens 1 Woche vor dem Anlass per E‑Mail. \nDie Anmel­dung ist verbindlich.\nSoll­ten Sie ver­hin­dert sein\, bit­ten wir Sie um frühzeit­ige Mit­teilung.
URL:https://kompass-so.ch/event/sesk-basis-2508/
LOCATION:Grenchen
CATEGORIES:Mehrteiliger Kurs
ATTACH;FMTTYPE=image/jpeg:https://kompass-so.ch/wp-content/uploads/2024/11/sesk-mit-logo_1000x550px.jpg
ORGANIZER;CN="Fachstelle kompass":MAILTO:mail@kompass-so.ch
END:VEVENT
BEGIN:VEVENT
DTSTART;TZID=Europe/Paris:20250602T191500
DTEND;TZID=Europe/Paris:20250602T211500
DTSTAMP:20260422T160747
CREATED:20241129T140726Z
LAST-MODIFIED:20241211T095029Z
UID:10000031-1748891700-1748898900@kompass-so.ch
SUMMARY:Väter aktiv – Balance zwischen Familie und Beruf (2544)
DESCRIPTION:Für Väter von 0- bis 10-jähri­gen Kindern / in Grenchen \nViele Väter wollen aktiv am Leben ihrer Kinder teil­nehmen\, sie begleit­en und unter­stützen. Wie gehen sie mit den gestiege­nen Erwartun­gen um und in welch­er Rolle sehen sie sich? Väter teilen ihre Erfahrun­gen und find­en Wege\, wie sie die Bal­ance zwis­chen Beruf und Fam­i­lie meis­tern kön­nen. \n			\n			\n				\n				\n				\n				\n			\n				\n				\n				\n				\n				\n				\n			\n				\n				\n				\n				\n				Kursanmeldung für den Kurs vom 2. Juni 2025 in Grenchen\, Väter aktiv – Balance zwischen Familie und Beruf (2544)\n				\n				\n				\n					\n						\n				\n				\n				\n				\n				Anrede*\n				\n						Anrede*FrauHerr\n					\n			 \n				\n				\n				\n				\n				Vor­name*\n				\n			 \n				\n				\n				\n				\n				Name*\n				\n			 \n				\n				\n				\n				\n				Strasse*\n				\n			 \n				\n				\n				\n				\n				PLZ / Ort*\n				\n			 \n				\n				\n				\n				\n				Tele­fon*\n				\n			 \n				\n				\n				\n				\n				E‑Mail-Adresse*\n				\n			 \n				\n				\n				\n				\n				Nachricht\n				\n			 \n						\n						\n							\n			\n				\n					6 + 4 = \n				 \n			\n							Anmelden\n						\n						\n					\n				\n			\n			\n			\n				\n				\n				\n				\n				\n				\n				\n				\n				\n				Kosten Einzelver­anstal­tung\nDie Teil­nehmenden aus dem Kan­ton Solothurn kön­nen frei nach ihren per­sön­lichen Möglichkeit­en entschei­den\, welchen Betrag sie für die Ver­anstal­tung bezahlen möcht­en. Richtwert CHF 10.–.\nFür Per­so­n­en ausser­halb des Kan­ton Solothurn gilt ein Min­dest­be­trag von CHF 20.–\nNach dem Absenden dieses For­mu­la­rs erhal­ten Sie eine automa­tis­che Anmeldebestä­ti­gung per E‑Mail. Die defin­i­tive Kurs­bestä­ti­gung erhal­ten Sie spätestens 1 Woche vor dem Anlass per E‑Mail. \nDie Anmel­dung ist verbindlich.\nSoll­ten Sie ver­hin­dert sein\, bit­ten wir Sie um frühzeit­ige Mit­teilung.
URL:https://kompass-so.ch/event/vaeter-aktiv-balance-zwischen-familie-und-beruf-2544/
LOCATION:Grenchen
CATEGORIES:Einzelveranstaltung
ATTACH;FMTTYPE=image/jpeg:https://kompass-so.ch/wp-content/uploads/2024/11/vaeter-aktiv_1000x550px.jpg
ORGANIZER;CN="Fachstelle kompass":MAILTO:mail@kompass-so.ch
END:VEVENT
BEGIN:VEVENT
DTSTART;TZID=Europe/Paris:20250522T191500
DTEND;TZID=Europe/Paris:20250522T211500
DTSTAMP:20260422T160747
CREATED:20241128T155554Z
LAST-MODIFIED:20241210T133648Z
UID:10000019-1747941300-1747948500@kompass-so.ch
SUMMARY:Sprachabenteuer – die Welt der Wörter erobern (2526)
DESCRIPTION:Für Eltern von 0- bis 4‑jährigen Kindern / in Solothurn\nDie ersten Leben­s­jahre sind entschei­dend für die Sprachen­twick­lung. Eltern erfahren\, wie sie ihre Kinder spielerisch und ohne Über­forderung gezielt unter­stützen kön­nen.\nSie erhal­ten einen prak­tis­chen Werkzeugkof­fer voller Ideen und Anre­gun­gen. \n			\n			\n				\n				\n				\n				\n			\n				\n				\n				\n				\n				\n				\n			\n				\n				\n				\n				\n				Kursanmeldung für den Kurs vom 22. Mai 2025\, online\, Sprachabenteuer – die Welt der Wörter erobern (2526)\n				\n				\n				\n					\n						\n				\n				\n				\n				\n				Anrede*\n				\n						Anrede*FrauHerr\n					\n			 \n				\n				\n				\n				\n				Vor­name*\n				\n			 \n				\n				\n				\n				\n				Name*\n				\n			 \n				\n				\n				\n				\n				Strasse*\n				\n			 \n				\n				\n				\n				\n				PLZ / Ort*\n				\n			 \n				\n				\n				\n				\n				Tele­fon*\n				\n			 \n				\n				\n				\n				\n				E‑Mail-Adresse*\n				\n			 \n				\n				\n				\n				\n				Nachricht\n				\n			 \n						\n						\n							\n			\n				\n					5 + 9 = \n				 \n			\n							Anmelden\n						\n						\n					\n				\n			\n			\n			\n				\n				\n				\n				\n				\n				\n				\n				\n				\n				Kosten Einzelver­anstal­tung\nDie Teil­nehmenden aus dem Kan­ton Solothurn kön­nen frei nach ihren per­sön­lichen Möglichkeit­en entschei­den\, welchen Betrag sie für die Ver­anstal­tung bezahlen möcht­en. Richtwert CHF 10.–.\nFür Per­so­n­en ausser­halb des Kan­ton Solothurn gilt ein Min­dest­be­trag von CHF 20.–\nNach dem Absenden dieses For­mu­la­rs erhal­ten Sie eine automa­tis­che Anmeldebestä­ti­gung per E‑Mail. Die defin­i­tive Kurs­bestä­ti­gung erhal­ten Sie spätestens 1 Woche vor dem Anlass per E‑Mail. \nDie Anmel­dung ist verbindlich.\nSoll­ten Sie ver­hin­dert sein\, bit­ten wir Sie um frühzeit­ige Mit­teilung.
URL:https://kompass-so.ch/event/sprachabenteuer-die-welt-der-woerter-erobern-2526/
LOCATION:Grenchen
CATEGORIES:Einzelveranstaltung
ATTACH;FMTTYPE=image/jpeg:https://kompass-so.ch/wp-content/uploads/2024/11/sprachabendteuer-1000x550px.jpg
ORGANIZER;CN="Fachstelle kompass":MAILTO:mail@kompass-so.ch
END:VEVENT
BEGIN:VEVENT
DTSTART;TZID=Europe/Paris:20250508T191500
DTEND;TZID=Europe/Paris:20250508T211500
DTSTAMP:20260422T160747
CREATED:20241129T134718Z
LAST-MODIFIED:20241211T094722Z
UID:10000027-1746731700-1746738900@kompass-so.ch
SUMMARY:Kleine Stürme\, grosse Chancen – die Trotzphase meistern (2540)
DESCRIPTION:Für Eltern von 2- bis 4‑jährigen Kindern / in Grenchen \nWenn Kleinkinder nicht wollen und nicht hören\, stattdessen schreien und toben\, um ihren Willen durchzuset­zen\, fordert das Eltern her­aus. Welche Bedürfnisse und Entwick­lungss­chritte ste­hen dahin­ter und wie kön­nen Eltern gelassen­er auf das Kind einge­hen und es unter­stützen? \n			\n			\n				\n				\n				\n				\n			\n				\n				\n				\n				\n				\n				\n			\n				\n				\n				\n				\n				Kursanmeldung für den Kurs vom 8. Mai 2025 in Grenchen\, Kleine Stürme\, grosse Chancen – die Trotzphase meistern (2540)\n				\n				\n				\n					\n						\n				\n				\n				\n				\n				Anrede*\n				\n						Anrede*FrauHerr\n					\n			 \n				\n				\n				\n				\n				Vor­name*\n				\n			 \n				\n				\n				\n				\n				Name*\n				\n			 \n				\n				\n				\n				\n				Strasse*\n				\n			 \n				\n				\n				\n				\n				PLZ / Ort*\n				\n			 \n				\n				\n				\n				\n				Tele­fon*\n				\n			 \n				\n				\n				\n				\n				E‑Mail-Adresse*\n				\n			 \n				\n				\n				\n				\n				Nachricht\n				\n			 \n						\n						\n							\n			\n				\n					11 + 4 = \n				 \n			\n							Anmelden\n						\n						\n					\n				\n			\n			\n			\n				\n				\n				\n				\n				\n				\n				\n				\n				\n				Kosten Einzelver­anstal­tung\nDie Teil­nehmenden aus dem Kan­ton Solothurn kön­nen frei nach ihren per­sön­lichen Möglichkeit­en entschei­den\, welchen Betrag sie für die Ver­anstal­tung bezahlen möcht­en. Richtwert CHF 10.–.\nFür Per­so­n­en ausser­halb des Kan­ton Solothurn gilt ein Min­dest­be­trag von CHF 20.–\nNach dem Absenden dieses For­mu­la­rs erhal­ten Sie eine automa­tis­che Anmeldebestä­ti­gung per E‑Mail. Die defin­i­tive Kurs­bestä­ti­gung erhal­ten Sie spätestens 1 Woche vor dem Anlass per E‑Mail. \nDie Anmel­dung ist verbindlich.\nSoll­ten Sie ver­hin­dert sein\, bit­ten wir Sie um frühzeit­ige Mit­teilung.
URL:https://kompass-so.ch/event/kleine-stuerme-grosse-chancen-die-trotzphase-meistern-2540/
LOCATION:Grenchen
CATEGORIES:Einzelveranstaltung
ATTACH;FMTTYPE=image/jpeg:https://kompass-so.ch/wp-content/uploads/2024/11/kleine-stuerme-grosse-chancen_1000x550px.jpg
ORGANIZER;CN="Fachstelle kompass":MAILTO:mail@kompass-so.ch
END:VEVENT
BEGIN:VEVENT
DTSTART;TZID=Europe/Paris:20250507T180000
DTEND;TZID=Europe/Paris:20250507T203000
DTSTAMP:20260422T160747
CREATED:20241203T143848Z
LAST-MODIFIED:20241210T133307Z
UID:10000098-1746640800-1746649800@kompass-so.ch
SUMMARY:Für pädagogische Fachpersonen (2521)
DESCRIPTION:Stark in Beziehung – Erziehung – Bil­dung / in GrenchenVer­anstal­tung für päd­a­gogis­che Fach­per­so­n­en \nBasierend auf dem Mod­ell der anlei­t­en­den Erziehung aus «Starke Eltern – Starke Kinder». Ziel der Fort­bil­dung ist\, die Hand­lungskom­pe­ten­zen der päd­a­gogis­chen Fach­per­so­n­en zu erweit­ern. Ein beziehungs­fördern­der Umgang mit Schülern und Eltern kann beson­ders in schwieri­gen Sit­u­a­tio­nen für Erle­ichterung sor­gen. \nDauer: 2 Kursabende à 2.5 hKurs­dat­en: 7. Mai\, 21. Mai 2025Kosten: CHF 160.– \n			\n			\n				\n				\n				\n				\n			\n				\n				\n				\n				\n				\n				\n			\n				\n				\n				\n				\n				Kursanmeldung für den Kurs vom 7. Mai 2025 in Grenchen\, für pädagogische Fachpersonen (2521)\n				\n				\n				\n					\n						\n				\n				\n				\n				\n				Anrede*\n				\n						Anrede*FrauHerr\n					\n			 \n				\n				\n				\n				\n				Vor­name*\n				\n			 \n				\n				\n				\n				\n				Name*\n				\n			 \n				\n				\n				\n				\n				Strasse*\n				\n			 \n				\n				\n				\n				\n				PLZ / Ort*\n				\n			 \n				\n				\n				\n				\n				Tele­fon*\n				\n			 \n				\n				\n				\n				\n				E‑Mail-Adresse*\n				\n			 \n				\n				\n				\n				\n				Nachricht\n				\n			 \n						\n						\n							\n			\n				\n					5 + 4 = \n				 \n			\n							Anmelden\n						\n						\n					\n				\n			\n			\n			\n				\n				\n				\n				\n				\n				\n				\n				\n				\n				Kosten mehrteilige Ver­anstal­tungCHF 160.– \nNach dem Absenden dieses For­mu­la­rs erhal­ten Sie eine automa­tis­che Anmeldebestä­ti­gung per E‑Mail. Die defin­i­tive Kurs­bestä­ti­gung erhal­ten Sie spätestens 1 Woche vor dem Anlass per E‑Mail. \nDie Anmel­dung ist verbindlich.Soll­ten Sie ver­hin­dert sein\, bit­ten wir Sie um frühzeit­ige Mit­teilung.
URL:https://kompass-so.ch/event/stark-in-beziehung-erziehung-bildung-2521/
LOCATION:Grenchen
CATEGORIES:Mehrteiliger Kurs
ATTACH;FMTTYPE=image/jpeg:https://kompass-so.ch/wp-content/uploads/2024/11/paedagogische-fachpersonen_1000x550px.jpg
ORGANIZER;CN="Fachstelle kompass":MAILTO:mail@kompass-so.ch
END:VEVENT
BEGIN:VEVENT
DTSTART;TZID=Europe/Paris:20250425T191500
DTEND;TZID=Europe/Paris:20250425T211500
DTSTAMP:20260422T160747
CREATED:20241129T171654Z
LAST-MODIFIED:20241211T101412Z
UID:10000040-1745608500-1745615700@kompass-so.ch
SUMMARY:Kinder stärken – Resilienz und Selbstvertrauen fördern (2554)
DESCRIPTION:Für Eltern von 2- bis 12-jähri­gen Kindern / in Grenchen \nWie kön­nen Eltern ihre Kinder unter­stützen\, schwierige Lebenssi­t­u­a­tio­nen und Krisen zu meis­tern und sich psy­chisch gesund weit­erzuen­twick­eln? Eltern erfahren\, wie das Mod­ell der anlei­t­en­den Erziehung hil­ft\, Selb­stver­trauen zu fördern und eine pos­i­tive Ein­stel­lung zu wahren. \n			\n			\n				\n				\n				\n				\n			\n				\n				\n				\n				\n				\n				\n			\n				\n				\n				\n				\n				Kursanmeldung für den Kurs vom 25. April in Grenchen\, Kinder stärken – Resilienz und Selbstvertrauen fördern (2554)\n				\n				\n				\n					\n						\n				\n				\n				\n				\n				Anrede*\n				\n						Anrede*FrauHerr\n					\n			 \n				\n				\n				\n				\n				Vor­name*\n				\n			 \n				\n				\n				\n				\n				Name*\n				\n			 \n				\n				\n				\n				\n				Strasse*\n				\n			 \n				\n				\n				\n				\n				PLZ / Ort*\n				\n			 \n				\n				\n				\n				\n				Tele­fon*\n				\n			 \n				\n				\n				\n				\n				E‑Mail-Adresse*\n				\n			 \n				\n				\n				\n				\n				Nachricht\n				\n			 \n						\n						\n							\n			\n				\n					9 + 1 = \n				 \n			\n							Anmelden\n						\n						\n					\n				\n			\n			\n			\n				\n				\n				\n				\n				\n				\n				\n				\n				\n				Kosten Einzelver­anstal­tung\nDie Teil­nehmenden aus dem Kan­ton Solothurn kön­nen frei nach ihren per­sön­lichen Möglichkeit­en entschei­den\, welchen Betrag sie für die Ver­anstal­tung bezahlen möcht­en. Richtwert CHF 10.–.\nFür Per­so­n­en ausser­halb des Kan­ton Solothurn gilt ein Min­dest­be­trag von CHF 20.–\nNach dem Absenden dieses For­mu­la­rs erhal­ten Sie eine automa­tis­che Anmeldebestä­ti­gung per E‑Mail. Die defin­i­tive Kurs­bestä­ti­gung erhal­ten Sie spätestens 1 Woche vor dem Anlass per E‑Mail. \nDie Anmel­dung ist verbindlich.\nSoll­ten Sie ver­hin­dert sein\, bit­ten wir Sie um frühzeit­ige Mit­teilung.
URL:https://kompass-so.ch/event/kinder-staerken-resilienz-und-selbstvertrauen-foerdern-2554/
LOCATION:Grenchen
CATEGORIES:Einzelveranstaltung
ATTACH;FMTTYPE=image/jpeg:https://kompass-so.ch/wp-content/uploads/2024/11/kinder-staerken-resilienz_1000x550px.jpg
ORGANIZER;CN="Fachstelle kompass":MAILTO:mail@kompass-so.ch
END:VEVENT
BEGIN:VEVENT
DTSTART;TZID=Europe/Paris:20250408T191500
DTEND;TZID=Europe/Paris:20250408T211500
DTSTAMP:20260422T160747
CREATED:20241205T141029Z
LAST-MODIFIED:20250116T104049Z
UID:10000111-1744139700-1744146900@kompass-so.ch
SUMMARY:Gefühle\, Körper und mehr – Aufklärung von Anfang an (2534)
DESCRIPTION:Für Eltern von 0- bis 5‑jährigen Kindern / in Grenchen \nReak­tio­nen wie «das ist nichts für dich» oder «dafür bist du zu klein» ver­mit­teln dem Kind\, dass es falsch liegt\, wenn es nach den Fak­ten des Lebens fragt. Wie kön­nen Eltern acht­sam und alters­gerecht auf die kindliche Neugi­er reagieren\, damit das Kind einen natür­lichen Bezug zu seinem Kör­p­er erfahren darf? Dies stärkt ihr Ver­trauen in sich selb­st und hil­ft ihm später\, sich vor neg­a­tiv­en Erfahrun­gen zu schützen. \nIn Koop­er­a­tion mit der Fach­stelle für Beziehungs­fra­gen\, Solothurn \n			\n			\n				\n				\n				\n				\n			\n				\n				\n				\n				\n				\n				\n			\n				\n				\n				\n				\n				Kursanmeldung für den Kurs vom 8. April in Grenchen\, Gefühle\, Körper und mehr – Aufklärung von Anfang an (2534)\n				\n				\n				\n					\n						\n				\n				\n				\n				\n				Anrede*\n				\n						Anrede*FrauHerr\n					\n			 \n				\n				\n				\n				\n				Vor­name*\n				\n			 \n				\n				\n				\n				\n				Name*\n				\n			 \n				\n				\n				\n				\n				Strasse*\n				\n			 \n				\n				\n				\n				\n				PLZ / Ort*\n				\n			 \n				\n				\n				\n				\n				Tele­fon*\n				\n			 \n				\n				\n				\n				\n				E‑Mail-Adresse*\n				\n			 \n				\n				\n				\n				\n				Nachricht\n				\n			 \n						\n						\n							\n			\n				\n					15 + 13 = \n				 \n			\n							Anmelden\n						\n						\n					\n				\n			\n			\n			\n				\n				\n				\n				\n				\n				\n				\n				\n				\n				Kosten Einzelver­anstal­tung\nDie Teil­nehmenden aus dem Kan­ton Solothurn kön­nen frei nach ihren per­sön­lichen Möglichkeit­en entschei­den\, welchen Betrag sie für die Ver­anstal­tung bezahlen möcht­en. Richtwert CHF 10.–.\nFür Per­so­n­en ausser­halb des Kan­ton Solothurn gilt ein Min­dest­be­trag von CHF 20.–\nNach dem Absenden dieses For­mu­la­rs erhal­ten Sie eine automa­tis­che Anmeldebestä­ti­gung per E‑Mail. Die defin­i­tive Kurs­bestä­ti­gung erhal­ten Sie spätestens 3 Tage vor dem Anlass per E‑Mail. \nDie Anmel­dung ist verbindlich.\nSoll­ten Sie ver­hin­dert sein\, bit­ten wir Sie um frühzeit­ige Mit­teilung.
URL:https://kompass-so.ch/event/gefuehle-koerper-und-mehr-aufklaerung-von-anfang-an-2534/
LOCATION:Grenchen
CATEGORIES:Einzelveranstaltung
ATTACH;FMTTYPE=image/jpeg:https://kompass-so.ch/wp-content/uploads/2024/12/gefuehle-koerper-iStock-1134909201_1000x550px.jpg
ORGANIZER;CN="Fachstelle kompass":MAILTO:mail@kompass-so.ch
END:VEVENT
BEGIN:VEVENT
DTSTART;TZID=Europe/Paris:20250311T191500
DTEND;TZID=Europe/Paris:20250311T211500
DTSTAMP:20260422T160747
CREATED:20241201T154208Z
LAST-MODIFIED:20241211T103729Z
UID:10000045-1741720500-1741727700@kompass-so.ch
SUMMARY:Grenzen und Regeln – motivieren statt strafen (2558)
DESCRIPTION:Für Eltern von 2- bis 16-jähri­gen Kindern / in Grenchen \nEltern wer­den Wege aufgezeigt\, wie sie in stres­si­gen Sit­u­a­tio­nen ohne Strafen und Schreien ihr Kind zum gewün­scht­en Ver­hal­ten motivieren kön­nen. Sie erken­nen\, was ihnen in der Erziehung wirk­lich wichtig ist\, set­zen selb­st­be­wusst Gren­zen und fordern gewalt­frei Regeln ein. \n			\n			\n				\n				\n				\n				\n			\n				\n				\n				\n				\n				\n				\n			\n				\n				\n				\n				\n				Kursanmeldung für den Kurs vom 11. März 2025 in Grenchen\, Grenzen und Regeln – motivieren statt strafen (2558)\n				\n				\n				\n					\n						\n				\n				\n				\n				\n				Anrede*\n				\n						Anrede*FrauHerr\n					\n			 \n				\n				\n				\n				\n				Vor­name*\n				\n			 \n				\n				\n				\n				\n				Name*\n				\n			 \n				\n				\n				\n				\n				Strasse*\n				\n			 \n				\n				\n				\n				\n				PLZ / Ort*\n				\n			 \n				\n				\n				\n				\n				Tele­fon*\n				\n			 \n				\n				\n				\n				\n				E‑Mail-Adresse*\n				\n			 \n				\n				\n				\n				\n				Nachricht\n				\n			 \n						\n						\n							\n			\n				\n					1 + 10 = \n				 \n			\n							Anmelden\n						\n						\n					\n				\n			\n			\n			\n				\n				\n				\n				\n				\n				\n				\n				\n				\n				Kosten Einzelver­anstal­tung\nDie Teil­nehmenden aus dem Kan­ton Solothurn kön­nen frei nach ihren per­sön­lichen Möglichkeit­en entschei­den\, welchen Betrag sie für die Ver­anstal­tung bezahlen möcht­en. Richtwert CHF 10.–.\nFür Per­so­n­en ausser­halb des Kan­ton Solothurn gilt ein Min­dest­be­trag von CHF 20.–\nNach dem Absenden dieses For­mu­la­rs erhal­ten Sie eine automa­tis­che Anmeldebestä­ti­gung per E‑Mail. Die defin­i­tive Kurs­bestä­ti­gung erhal­ten Sie spätestens 1 Woche vor dem Anlass per E‑Mail. \nDie Anmel­dung ist verbindlich.\nSoll­ten Sie ver­hin­dert sein\, bit­ten wir Sie um frühzeit­ige Mit­teilung.
URL:https://kompass-so.ch/event/grenzen-und-regeln-motivieren-statt-strafen-2558/
LOCATION:Grenchen
CATEGORIES:Einzelveranstaltung
ATTACH;FMTTYPE=image/jpeg:https://kompass-so.ch/wp-content/uploads/2024/11/grenzen-und-regeln_1000x550px.jpg
ORGANIZER;CN="Fachstelle kompass":MAILTO:mail@kompass-so.ch
END:VEVENT
END:VCALENDAR