BEGIN:VCALENDAR
VERSION:2.0
PRODID:-//kompass - ECPv6.15.20//NONSGML v1.0//EN
CALSCALE:GREGORIAN
METHOD:PUBLISH
X-ORIGINAL-URL:https://kompass-so.ch
X-WR-CALDESC:Veranstaltungen für kompass
REFRESH-INTERVAL;VALUE=DURATION:PT1H
X-Robots-Tag:noindex
X-PUBLISHED-TTL:PT1H
BEGIN:VTIMEZONE
TZID:Europe/Paris
BEGIN:DAYLIGHT
TZOFFSETFROM:+0100
TZOFFSETTO:+0200
TZNAME:CEST
DTSTART:20250330T010000
END:DAYLIGHT
BEGIN:STANDARD
TZOFFSETFROM:+0200
TZOFFSETTO:+0100
TZNAME:CET
DTSTART:20251026T010000
END:STANDARD
BEGIN:DAYLIGHT
TZOFFSETFROM:+0100
TZOFFSETTO:+0200
TZNAME:CEST
DTSTART:20260329T010000
END:DAYLIGHT
BEGIN:STANDARD
TZOFFSETFROM:+0200
TZOFFSETTO:+0100
TZNAME:CET
DTSTART:20261025T010000
END:STANDARD
BEGIN:DAYLIGHT
TZOFFSETFROM:+0100
TZOFFSETTO:+0200
TZNAME:CEST
DTSTART:20270328T010000
END:DAYLIGHT
BEGIN:STANDARD
TZOFFSETFROM:+0200
TZOFFSETTO:+0100
TZNAME:CET
DTSTART:20271031T010000
END:STANDARD
END:VTIMEZONE
BEGIN:VEVENT
DTSTART;TZID=Europe/Paris:20260513T173000
DTEND;TZID=Europe/Paris:20260513T193000
DTSTAMP:20260420T015218
CREATED:20260309T150830Z
LAST-MODIFIED:20260417T083928Z
UID:10000211-1778693400-1778700600@kompass-so.ch
SUMMARY:Hilfe mein Kind trotzt! Chancen und Herausforderungen (2696)
DESCRIPTION:Für Eltern von 2- bis 5‑jährigen Kindern / in Biberist \nDie Trotzphase der Kleinkinder kann für Eltern ganz schön anstren­gend sein. Nicht immer ist es nachvol­lziehbar\, wieso sich der Kleine mit toben­dem Geschrei auf den Boden wirft. Und den­noch ist diese Phase für die gesunde Entwick­lung des Kindes wichtig und nicht etwa die Folge ein­er falschen Erziehung. Unter der fachkundi­gen Leitung von Yolan­da Andreoli\, Fach­stelle kom­pass\, tauschen sich Eltern aus\, wie sie in solchen Momenten Ruhe bewahren kön­nen. \nDatum: Mittwoch\, 13. Mai und 20. Mai 2026\, 17.30 bis 19.30 UhrAm ersten Abend sprechen wir über die Her­aus­forderun­gen von kindlichen Frus­tra­tio­nen – und entschei­den\, ob wir das The­ma am zweit­en Abend ver­tiefen oder ein anderes Erziehungs­the­ma wählen wollen. \nOrt: Mütter- und Väter­ber­atungsstelle Biberist\, Bern­strasse 9\,Untergeschoss des Feuer­wehrmagazins \nIn Koop­er­a­tion mit der Müt­ter- und Väter­ber­atung \n			\n			\n				\n				\n				\n				\n			\n				\n				\n				\n				\n				\n				\n			\n				\n				\n				\n				\n				Kursanmeldung für den Kurs vom 13. Mai 2026\, Biberist\, Hilfe mein Kind trotzt! Chancen und Herausforderungen (2696)\n				\n				\n				\n					\n						\n				\n				\n				\n				\n				Anrede*\n				\n						Anrede*FrauHerr\n					\n			 \n				\n				\n				\n				\n				Vor­name*\n				\n			 \n				\n				\n				\n				\n				Name*\n				\n			 \n				\n				\n				\n				\n				Strasse*\n				\n			 \n				\n				\n				\n				\n				PLZ / Ort*\n				\n			 \n				\n				\n				\n				\n				Tele­fon*\n				\n			 \n				\n				\n				\n				\n				E‑Mail-Adresse*\n				\n			 \n				\n				\n				\n				\n				Nachricht\n				\n			 \n						\n						\n							\n			\n				\n					14 + 5 = \n				 \n			\n							Anmelden\n						\n						\n					\n				\n			\n			\n			\n				\n				\n				\n				\n				\n				\n				\n				\n				\n				Kosten Einzelver­anstal­tung\nDie Teil­nehmenden aus dem Kan­ton Solothurn kön­nen frei nach ihren per­sön­lichen Möglichkeit­en entschei­den\, welchen Betrag sie für die Ver­anstal­tung bezahlen möcht­en. Richtwert CHF 10.–.\nFür Per­so­n­en ausser­halb des Kan­ton Solothurn gilt ein Min­dest­be­trag von CHF 20.–\nNach dem Absenden dieses For­mu­la­rs erhal­ten Sie eine automa­tis­che Anmeldebestä­ti­gung per E‑Mail. Die defin­i­tive Kurs­bestä­ti­gung erhal­ten Sie spätestens 1 Woche vor dem Anlass per E‑Mail. \nDie Anmel­dung ist verbindlich.\nSoll­ten Sie ver­hin­dert sein\, bit­ten wir Sie um frühzeit­ige Mit­teilung.
URL:https://kompass-so.ch/event/trotzphase-meistern-kleine-stuerme-grosse-chancen-2696/
LOCATION:Biberist
CATEGORIES:Einzelveranstaltung
ATTACH;FMTTYPE=image/jpeg:https://kompass-so.ch/wp-content/uploads/2024/11/kleine-stuerme-grosse-chancen_1000x550px.jpg
ORGANIZER;CN="Fachstelle kompass":MAILTO:mail@kompass-so.ch
END:VEVENT
BEGIN:VEVENT
DTSTART;TZID=Europe/Paris:20260519T090000
DTEND;TZID=Europe/Paris:20260519T110000
DTSTAMP:20260420T015218
CREATED:20251124T081809Z
LAST-MODIFIED:20260417T084241Z
UID:10000164-1779181200-1779188400@kompass-so.ch
SUMMARY:Trotzphase meistern – kleine Stürme\, grosse Chancen (2626)
DESCRIPTION:Für Eltern von 2- bis 4‑jährigen Kindern / in Solothurn \nWenn Kleinkinder nicht wollen und nicht hören\, stattdessen schreien und toben\, um ihren Willen durchzuset­zen\, fordert das Eltern her­aus. Welche Bedürfnisse und Entwick­lungss­chritte ste­hen dahin­ter und wie kön­nen Eltern gelassen­er auf das Kind einge­hen und es unter­stützen? \n			\n			\n				\n				\n				\n				\n			\n				\n				\n				\n				\n				\n				\n			\n				\n				\n				\n				\n				Kursanmeldung für den Kurs vom 19. Mai\, Solothurn\, Trotzphase meistern – kleine Stürme\, grosse Chancen (2626)\n				\n				\n				\n					\n						\n				\n				\n				\n				\n				Anrede*\n				\n						Anrede*FrauHerr\n					\n			 \n				\n				\n				\n				\n				Vor­name*\n				\n			 \n				\n				\n				\n				\n				Name*\n				\n			 \n				\n				\n				\n				\n				Strasse*\n				\n			 \n				\n				\n				\n				\n				PLZ / Ort*\n				\n			 \n				\n				\n				\n				\n				Tele­fon*\n				\n			 \n				\n				\n				\n				\n				E‑Mail-Adresse*\n				\n			 \n				\n				\n				\n				\n				Nachricht\n				\n			 \n						\n						\n							\n			\n				\n					13 + 3 = \n				 \n			\n							Anmelden\n						\n						\n					\n				\n			\n			\n			\n				\n				\n				\n				\n				\n				\n				\n				\n				\n				Kosten Einzelver­anstal­tung\nDie Teil­nehmenden aus dem Kan­ton Solothurn kön­nen frei nach ihren per­sön­lichen Möglichkeit­en entschei­den\, welchen Betrag sie für die Ver­anstal­tung bezahlen möcht­en. Richtwert CHF 10.–.\nFür Per­so­n­en ausser­halb des Kan­ton Solothurn gilt ein Min­dest­be­trag von CHF 20.–\nNach dem Absenden dieses For­mu­la­rs erhal­ten Sie eine automa­tis­che Anmeldebestä­ti­gung per E‑Mail. Die defin­i­tive Kurs­bestä­ti­gung erhal­ten Sie spätestens 1 Woche vor dem Anlass per E‑Mail. \nDie Anmel­dung ist verbindlich.\nSoll­ten Sie ver­hin­dert sein\, bit­ten wir Sie um frühzeit­ige Mit­teilung.
URL:https://kompass-so.ch/event/trotzphase-meistern-kleine-stuerme-grosse-chancen-2626/
LOCATION:Solothurn
CATEGORIES:Einzelveranstaltung
ATTACH;FMTTYPE=image/jpeg:https://kompass-so.ch/wp-content/uploads/2024/11/kleine-stuerme-grosse-chancen_1000x550px.jpg
ORGANIZER;CN="Fachstelle kompass":MAILTO:mail@kompass-so.ch
END:VEVENT
BEGIN:VEVENT
DTSTART;TZID=Europe/Paris:20261007T201500
DTEND;TZID=Europe/Paris:20261007T221500
DTSTAMP:20260420T015218
CREATED:20260303T141700Z
LAST-MODIFIED:20260303T141806Z
UID:10000209-1791404100-1791411300@kompass-so.ch
SUMMARY:Trotzphase meistern – kleine Stürme\, grosse Chancen (2655)
DESCRIPTION:Für Eltern von 2- bis 4‑jährigen Kindern / online \nWenn Kleinkinder nicht wollen und nicht hören\, stattdessen schreien und toben\, um ihren Willen durchzuset­zen\, fordert das Eltern her­aus. Welche Bedürfnisse und Entwick­lungss­chritte ste­hen dahin­ter und wie kön­nen Eltern gelassen­er auf das Kind einge­hen und es unter­stützen? \n			\n			\n				\n				\n				\n				\n			\n				\n				\n				\n				\n				\n				\n			\n				\n				\n				\n				\n				Kursanmeldung für den Kurs vom 7. Okt. 2026\, online\, Trotzphase meistern – kleine Stürme\, grosse Chancen (2655)\n				\n				\n				\n					\n						\n				\n				\n				\n				\n				Anrede*\n				\n						Anrede*FrauHerr\n					\n			 \n				\n				\n				\n				\n				Vor­name*\n				\n			 \n				\n				\n				\n				\n				Name*\n				\n			 \n				\n				\n				\n				\n				Strasse*\n				\n			 \n				\n				\n				\n				\n				PLZ / Ort*\n				\n			 \n				\n				\n				\n				\n				Tele­fon*\n				\n			 \n				\n				\n				\n				\n				E‑Mail-Adresse*\n				\n			 \n				\n				\n				\n				\n				Nachricht\n				\n			 \n						\n						\n							\n			\n				\n					3 + 2 = \n				 \n			\n							Anmelden\n						\n						\n					\n				\n			\n			\n			\n				\n				\n				\n				\n				\n				\n				\n				\n				\n				Kosten Einzelver­anstal­tung\nDie Teil­nehmenden aus dem Kan­ton Solothurn kön­nen frei nach ihren per­sön­lichen Möglichkeit­en entschei­den\, welchen Betrag sie für die Ver­anstal­tung bezahlen möcht­en. Richtwert CHF 10.–.\nFür Per­so­n­en ausser­halb des Kan­ton Solothurn gilt ein Min­dest­be­trag von CHF 20.–\nNach dem Absenden dieses For­mu­la­rs erhal­ten Sie eine automa­tis­che Anmeldebestä­ti­gung per E‑Mail. Die defin­i­tive Kurs­bestä­ti­gung erhal­ten Sie spätestens 1 Woche vor dem Anlass per E‑Mail. \nDie Anmel­dung ist verbindlich.\nSoll­ten Sie ver­hin­dert sein\, bit­ten wir Sie um frühzeit­ige Mit­teilung.
URL:https://kompass-so.ch/event/trotzphase-meistern-kleine-stuerme-grosse-chancen-2655/
LOCATION:Online
CATEGORIES:Einzelveranstaltung
ATTACH;FMTTYPE=image/jpeg:https://kompass-so.ch/wp-content/uploads/2024/11/kleine-stuerme-grosse-chancen_1000x550px.jpg
ORGANIZER;CN="Fachstelle kompass":MAILTO:mail@kompass-so.ch
END:VEVENT
BEGIN:VEVENT
DTSTART;TZID=Europe/Paris:20261207T201500
DTEND;TZID=Europe/Paris:20261207T221500
DTSTAMP:20260420T015218
CREATED:20260311T103935Z
LAST-MODIFIED:20260311T104036Z
UID:10000222-1796674500-1796681700@kompass-so.ch
SUMMARY:Trotzphase meistern – kleine Stürme\, grosse Chancen (2694)
DESCRIPTION:Für Eltern von 2- bis 4‑jährigen Kindern / online \nWenn Kleinkinder nicht wollen und nicht hören\, stattdessen schreien und toben\, um ihren Willen durchzuset­zen\, fordert das Eltern her­aus. Welche Bedürfnisse und Entwick­lungss­chritte ste­hen dahin­ter und wie kön­nen Eltern gelassen­er auf das Kind einge­hen und es unter­stützen? \n			\n			\n				\n				\n				\n				\n			\n				\n				\n				\n				\n				\n				\n			\n				\n				\n				\n				\n				Kursanmeldung für den Kurs vom 7. Dez. 2026\, online\, Trotzphase meistern – kleine Stürme\, grosse Chancen (2694)\n				\n				\n				\n					\n						\n				\n				\n				\n				\n				Anrede*\n				\n						Anrede*FrauHerr\n					\n			 \n				\n				\n				\n				\n				Vor­name*\n				\n			 \n				\n				\n				\n				\n				Name*\n				\n			 \n				\n				\n				\n				\n				Strasse*\n				\n			 \n				\n				\n				\n				\n				PLZ / Ort*\n				\n			 \n				\n				\n				\n				\n				Tele­fon*\n				\n			 \n				\n				\n				\n				\n				E‑Mail-Adresse*\n				\n			 \n				\n				\n				\n				\n				Nachricht\n				\n			 \n						\n						\n							\n			\n				\n					13 + 6 = \n				 \n			\n							Anmelden\n						\n						\n					\n				\n			\n			\n			\n				\n				\n				\n				\n				\n				\n				\n				\n				\n				Kosten Einzelver­anstal­tung\nDie Teil­nehmenden aus dem Kan­ton Solothurn kön­nen frei nach ihren per­sön­lichen Möglichkeit­en entschei­den\, welchen Betrag sie für die Ver­anstal­tung bezahlen möcht­en. Richtwert CHF 10.–.\nFür Per­so­n­en ausser­halb des Kan­ton Solothurn gilt ein Min­dest­be­trag von CHF 20.–\nNach dem Absenden dieses For­mu­la­rs erhal­ten Sie eine automa­tis­che Anmeldebestä­ti­gung per E‑Mail. Die defin­i­tive Kurs­bestä­ti­gung erhal­ten Sie spätestens 1 Woche vor dem Anlass per E‑Mail. \nDie Anmel­dung ist verbindlich.\nSoll­ten Sie ver­hin­dert sein\, bit­ten wir Sie um frühzeit­ige Mit­teilung.
URL:https://kompass-so.ch/event/trotzphase-meistern-kleine-stuerme-grosse-chancen-2694/
LOCATION:Online
CATEGORIES:Einzelveranstaltung
ATTACH;FMTTYPE=image/jpeg:https://kompass-so.ch/wp-content/uploads/2024/11/kleine-stuerme-grosse-chancen_1000x550px.jpg
ORGANIZER;CN="Fachstelle kompass":MAILTO:mail@kompass-so.ch
END:VEVENT
END:VCALENDAR