BEGIN:VCALENDAR
VERSION:2.0
PRODID:-//kompass - ECPv6.15.20//NONSGML v1.0//EN
CALSCALE:GREGORIAN
METHOD:PUBLISH
X-WR-CALNAME:kompass
X-ORIGINAL-URL:https://kompass-so.ch
X-WR-CALDESC:Veranstaltungen für kompass
REFRESH-INTERVAL;VALUE=DURATION:PT1H
X-Robots-Tag:noindex
X-PUBLISHED-TTL:PT1H
BEGIN:VTIMEZONE
TZID:Europe/Paris
BEGIN:DAYLIGHT
TZOFFSETFROM:+0100
TZOFFSETTO:+0200
TZNAME:CEST
DTSTART:20240331T010000
END:DAYLIGHT
BEGIN:STANDARD
TZOFFSETFROM:+0200
TZOFFSETTO:+0100
TZNAME:CET
DTSTART:20241027T010000
END:STANDARD
BEGIN:DAYLIGHT
TZOFFSETFROM:+0100
TZOFFSETTO:+0200
TZNAME:CEST
DTSTART:20250330T010000
END:DAYLIGHT
BEGIN:STANDARD
TZOFFSETFROM:+0200
TZOFFSETTO:+0100
TZNAME:CET
DTSTART:20251026T010000
END:STANDARD
BEGIN:DAYLIGHT
TZOFFSETFROM:+0100
TZOFFSETTO:+0200
TZNAME:CEST
DTSTART:20260329T010000
END:DAYLIGHT
BEGIN:STANDARD
TZOFFSETFROM:+0200
TZOFFSETTO:+0100
TZNAME:CET
DTSTART:20261025T010000
END:STANDARD
END:VTIMEZONE
BEGIN:VEVENT
DTSTART;TZID=Europe/Paris:20250911T191500
DTEND;TZID=Europe/Paris:20250911T211500
DTSTAMP:20260420T171822
CREATED:20241129T071250Z
LAST-MODIFIED:20241210T134840Z
UID:10000021-1757618100-1757625300@kompass-so.ch
SUMMARY:Kleine Stürme\, grosse Chancen – die Trotzphase meistern (2538)
DESCRIPTION:Für Eltern von 2- bis 4‑jährigen Kindern / in Solothurn \nWenn Kleinkinder nicht wollen und nicht hören\, stattdessen schreien und toben\, um ihren Willen durchzuset­zen\, fordert das Eltern her­aus. Welche Bedürfnisse und Entwick­lungss­chritte ste­hen dahin­ter und wie kön­nen Eltern gelassen­er auf das Kind einge­hen und es unter­stützen? \n			\n			\n				\n				\n				\n				\n			\n				\n				\n				\n				\n				\n				\n			\n				\n				\n				\n				\n				Kursanmeldung für den Kurs vom 11. September 2025 in Solothurn\, Kleine Stürme\, grosse Chancen die Trotzphase meistern (2538)\n				\n				\n				\n					\n						\n				\n				\n				\n				\n				Anrede*\n				\n						Anrede*FrauHerr\n					\n			 \n				\n				\n				\n				\n				Vor­name*\n				\n			 \n				\n				\n				\n				\n				Name*\n				\n			 \n				\n				\n				\n				\n				Strasse*\n				\n			 \n				\n				\n				\n				\n				PLZ / Ort*\n				\n			 \n				\n				\n				\n				\n				Tele­fon*\n				\n			 \n				\n				\n				\n				\n				E‑Mail-Adresse*\n				\n			 \n				\n				\n				\n				\n				Nachricht\n				\n			 \n						\n						\n							\n			\n				\n					12 + 7 = \n				 \n			\n							Anmelden\n						\n						\n					\n				\n			\n			\n			\n				\n				\n				\n				\n				\n				\n				\n				\n				\n				Kosten Einzelver­anstal­tungDie Teil­nehmenden aus dem Kan­ton Solothurn kön­nen frei nach ihren per­sön­lichen Möglichkeit­en entschei­den\, welchen Betrag sie für die Ver­anstal­tung bezahlen möcht­en. Richtwert CHF 10.–.Für Per­so­n­en ausser­halb des Kan­ton Solothurn gilt ein Min­dest­be­trag von CHF 20.– \nNach dem Absenden dieses For­mu­la­rs erhal­ten Sie eine automa­tis­che Anmeldebestä­ti­gung per E‑Mail. Die defin­i­tive Kurs­bestä­ti­gung erhal­ten Sie spätestens 1 Woche vor dem Anlass per E‑Mail. \nDie Anmel­dung ist verbindlich.Soll­ten Sie ver­hin­dert sein\, bit­ten wir Sie um frühzeit­ige Mit­teilung.
URL:https://kompass-so.ch/event/kleine-stuerme-grosse-chancen-die-trotzphase-meistern-2538/
LOCATION:Solothurn
CATEGORIES:Einzelveranstaltung
ATTACH;FMTTYPE=image/jpeg:https://kompass-so.ch/wp-content/uploads/2024/11/kleine-stuerme-grosse-chancen_1000x550px.jpg
ORGANIZER;CN="Fachstelle kompass":MAILTO:mail@kompass-so.ch
END:VEVENT
BEGIN:VEVENT
DTSTART;TZID=Europe/Paris:20250917T194500
DTEND;TZID=Europe/Paris:20250917T214500
DTSTAMP:20260420T171823
CREATED:20241129T134434Z
LAST-MODIFIED:20241210T134929Z
UID:10000026-1758138300-1758145500@kompass-so.ch
SUMMARY:Kleine Stürme\, grosse Chancen – die Trotzphase meistern (2539)
DESCRIPTION:Für Eltern von 2- bis 4‑jährigen Kindern / online \nWenn Kleinkinder nicht wollen und nicht hören\, stattdessen schreien und toben\, um ihren Willen durchzuset­zen\, fordert das Eltern her­aus. Welche Bedürfnisse und Entwick­lungss­chritte ste­hen dahin­ter und wie kön­nen Eltern gelassen­er auf das Kind einge­hen und es unter­stützen? \n			\n			\n				\n				\n				\n				\n			\n				\n				\n				\n				\n				\n				\n			\n				\n				\n				\n				\n				Kursanmeldung für den Kurs vom 17. September 2025\, online\, Kleine Stürme\, grosse Chancen – die Trotzphase meistern (2539)\n				\n				\n				\n					\n						\n				\n				\n				\n				\n				Anrede*\n				\n						Anrede*FrauHerr\n					\n			 \n				\n				\n				\n				\n				Vor­name*\n				\n			 \n				\n				\n				\n				\n				Name*\n				\n			 \n				\n				\n				\n				\n				Strasse*\n				\n			 \n				\n				\n				\n				\n				PLZ / Ort*\n				\n			 \n				\n				\n				\n				\n				Tele­fon*\n				\n			 \n				\n				\n				\n				\n				E‑Mail-Adresse*\n				\n			 \n				\n				\n				\n				\n				Nachricht\n				\n			 \n						\n						\n							\n			\n				\n					8 + 10 = \n				 \n			\n							Anmelden\n						\n						\n					\n				\n			\n			\n			\n				\n				\n				\n				\n				\n				\n				\n				\n				\n				Kosten Einzelver­anstal­tungDie Teil­nehmenden aus dem Kan­ton Solothurn kön­nen frei nach ihren per­sön­lichen Möglichkeit­en entschei­den\, welchen Betrag sie für die Ver­anstal­tung bezahlen möcht­en. Richtwert CHF 10.–.Für Per­so­n­en ausser­halb des Kan­ton Solothurn gilt ein Min­dest­be­trag von CHF 20.– \nNach dem Absenden dieses For­mu­la­rs erhal­ten Sie eine automa­tis­che Anmeldebestä­ti­gung per E‑Mail. Die defin­i­tive Kurs­bestä­ti­gung erhal­ten Sie spätestens 3 Tage vor dem Anlass per E‑Mail. \nDie Anmel­dung ist verbindlich.Soll­ten Sie ver­hin­dert sein\, bit­ten wir Sie um frühzeit­ige Mit­teilung.
URL:https://kompass-so.ch/event/kleine-stuerme-grosse-chancen-die-trotzphase-meistern-2539/
LOCATION:Online
CATEGORIES:Einzelveranstaltung
ATTACH;FMTTYPE=image/jpeg:https://kompass-so.ch/wp-content/uploads/2024/11/kleine-stuerme-grosse-chancen_1000x550px.jpg
ORGANIZER;CN="Fachstelle kompass":MAILTO:mail@kompass-so.ch
END:VEVENT
BEGIN:VEVENT
DTSTART;TZID=Europe/Paris:20250922T194500
DTEND;TZID=Europe/Paris:20250922T214500
DTSTAMP:20260420T171823
CREATED:20241129T135032Z
LAST-MODIFIED:20241211T094755Z
UID:10000028-1758570300-1758577500@kompass-so.ch
SUMMARY:Kleine Stürme\, grosse Chancen – die Trotzphase meistern (2541)
DESCRIPTION:Für Eltern von 2- bis 4‑jährigen Kindern / online \nWenn Kleinkinder nicht wollen und nicht hören\, stattdessen schreien und toben\, um ihren Willen durchzuset­zen\, fordert das Eltern her­aus. Welche Bedürfnisse und Entwick­lungss­chritte ste­hen dahin­ter und wie kön­nen Eltern gelassen­er auf das Kind einge­hen und es unter­stützen? \n			\n			\n				\n				\n				\n				\n			\n				\n				\n				\n				\n				\n				\n			\n				\n				\n				\n				\n				Kursanmeldung für den Kurs vom 22. September 2025\, online\, Kleine Stürme\, grosse Chancen – die Trotzphase meistern (2541)\n				\n				\n				\n					\n						\n				\n				\n				\n				\n				Anrede*\n				\n						Anrede*FrauHerr\n					\n			 \n				\n				\n				\n				\n				Vor­name*\n				\n			 \n				\n				\n				\n				\n				Name*\n				\n			 \n				\n				\n				\n				\n				Strasse*\n				\n			 \n				\n				\n				\n				\n				PLZ / Ort*\n				\n			 \n				\n				\n				\n				\n				Tele­fon*\n				\n			 \n				\n				\n				\n				\n				E‑Mail-Adresse*\n				\n			 \n				\n				\n				\n				\n				Nachricht\n				\n			 \n						\n						\n							\n			\n				\n					5 + 8 = \n				 \n			\n							Anmelden\n						\n						\n					\n				\n			\n			\n			\n				\n				\n				\n				\n				\n				\n				\n				\n				\n				Kosten Einzelver­anstal­tungDie Teil­nehmenden aus dem Kan­ton Solothurn kön­nen frei nach ihren per­sön­lichen Möglichkeit­en entschei­den\, welchen Betrag sie für die Ver­anstal­tung bezahlen möcht­en. Richtwert CHF 10.–.Für Per­so­n­en ausser­halb des Kan­ton Solothurn gilt ein Min­dest­be­trag von CHF 20.– \nNach dem Absenden dieses For­mu­la­rs erhal­ten Sie eine automa­tis­che Anmeldebestä­ti­gung per E‑Mail. Die defin­i­tive Kurs­bestä­ti­gung erhal­ten Sie spätestens 3 Tage vor dem Anlass per E‑Mail. \nDie Anmel­dung ist verbindlich.Soll­ten Sie ver­hin­dert sein\, bit­ten wir Sie um frühzeit­ige Mit­teilung.
URL:https://kompass-so.ch/event/kleine-stuerme-grosse-chancen-die-trotzphase-meistern-2541/
LOCATION:Online
CATEGORIES:Einzelveranstaltung
ATTACH;FMTTYPE=image/jpeg:https://kompass-so.ch/wp-content/uploads/2024/11/kleine-stuerme-grosse-chancen_1000x550px.jpg
ORGANIZER;CN="Fachstelle kompass":MAILTO:mail@kompass-so.ch
END:VEVENT
END:VCALENDAR