BEGIN:VCALENDAR
VERSION:2.0
PRODID:-//kompass - ECPv6.15.20//NONSGML v1.0//EN
CALSCALE:GREGORIAN
METHOD:PUBLISH
X-ORIGINAL-URL:https://kompass-so.ch
X-WR-CALDESC:Veranstaltungen für kompass
REFRESH-INTERVAL;VALUE=DURATION:PT1H
X-Robots-Tag:noindex
X-PUBLISHED-TTL:PT1H
BEGIN:VTIMEZONE
TZID:Europe/Paris
BEGIN:DAYLIGHT
TZOFFSETFROM:+0100
TZOFFSETTO:+0200
TZNAME:CEST
DTSTART:20250330T010000
END:DAYLIGHT
BEGIN:STANDARD
TZOFFSETFROM:+0200
TZOFFSETTO:+0100
TZNAME:CET
DTSTART:20251026T010000
END:STANDARD
BEGIN:DAYLIGHT
TZOFFSETFROM:+0100
TZOFFSETTO:+0200
TZNAME:CEST
DTSTART:20260329T010000
END:DAYLIGHT
BEGIN:STANDARD
TZOFFSETFROM:+0200
TZOFFSETTO:+0100
TZNAME:CET
DTSTART:20261025T010000
END:STANDARD
BEGIN:DAYLIGHT
TZOFFSETFROM:+0100
TZOFFSETTO:+0200
TZNAME:CEST
DTSTART:20270328T010000
END:DAYLIGHT
BEGIN:STANDARD
TZOFFSETFROM:+0200
TZOFFSETTO:+0100
TZNAME:CET
DTSTART:20271031T010000
END:STANDARD
END:VTIMEZONE
BEGIN:VEVENT
DTSTART;TZID=Europe/Paris:20260421T201500
DTEND;TZID=Europe/Paris:20260421T221500
DTSTAMP:20260419T143242
CREATED:20251123T173353Z
LAST-MODIFIED:20260417T074859Z
UID:10000155-1776802500-1776809700@kompass-so.ch
SUMMARY:Kinder stärken – Resilienz und Selbstvertrauen fördern (2617)
DESCRIPTION:Für Eltern von 2- bis 12-jähri­gen Kindern / online \nWie kön­nen Eltern ihre Kinder unterstützen\, schwierige Lebenssi­t­u­a­tio­nen und Krisen zu meis­tern und sich psy­chisch gesund weit­erzuen­twick­eln? Eltern erfahren\, wie das Mod­ell der anlei­t­en­den Erziehung hil­ft\, Selb­stver­trauen zu fördern und eine pos­i­tive Ein­stel­lung zu wahren. \n			\n			\n				\n				\n				\n				\n			\n				\n				\n				\n				\n				\n				\n			\n				\n				\n				\n				\n				Kursanmeldung für den Kurs vom 21. April 2026\, online\, Kinder stärken – Resilienz und Selbstvertrauen fördern (2617)\n				\n				\n				\n					\n						\n				\n				\n				\n				\n				Anrede*\n				\n						Anrede*FrauHerr\n					\n			 \n				\n				\n				\n				\n				Vor­name*\n				\n			 \n				\n				\n				\n				\n				Name*\n				\n			 \n				\n				\n				\n				\n				Strasse*\n				\n			 \n				\n				\n				\n				\n				PLZ / Ort*\n				\n			 \n				\n				\n				\n				\n				Tele­fon*\n				\n			 \n				\n				\n				\n				\n				E‑Mail-Adresse*\n				\n			 \n				\n				\n				\n				\n				Nachricht\n				\n			 \n						\n						\n							\n			\n				\n					1 + 13 = \n				 \n			\n							Anmelden\n						\n						\n					\n				\n			\n			\n			\n				\n				\n				\n				\n				\n				\n				\n				\n				\n				Kosten Einzelver­anstal­tung\nDie Teil­nehmenden aus dem Kan­ton Solothurn kön­nen frei nach ihren per­sön­lichen Möglichkeit­en entschei­den\, welchen Betrag sie für die Ver­anstal­tung bezahlen möcht­en. Richtwert CHF 10.–.\nFür Per­so­n­en ausser­halb des Kan­ton Solothurn gilt ein Min­dest­be­trag von CHF 20.–\nNach dem Absenden dieses For­mu­la­rs erhal­ten Sie eine automa­tis­che Anmeldebestä­ti­gung per E‑Mail. Die defin­i­tive Kurs­bestä­ti­gung erhal­ten Sie spätestens 1 Woche vor dem Anlass per E‑Mail. \nDie Anmel­dung ist verbindlich.\nSoll­ten Sie ver­hin­dert sein\, bit­ten wir Sie um frühzeit­ige Mit­teilung.
URL:https://kompass-so.ch/event/kinder-staerken-resilienz-und-selbstvertrauen-foerdern-2617/
LOCATION:Online
CATEGORIES:Einzelveranstaltung
ATTACH;FMTTYPE=image/jpeg:https://kompass-so.ch/wp-content/uploads/2024/11/kinder-staerken-resilienz_1000x550px.jpg
ORGANIZER;CN="Fachstelle kompass":MAILTO:mail@kompass-so.ch
END:VEVENT
BEGIN:VEVENT
DTSTART;TZID=Europe/Paris:20260422T191500
DTEND;TZID=Europe/Paris:20260422T214500
DTSTAMP:20260419T143242
CREATED:20251123T173616Z
LAST-MODIFIED:20260417T075652Z
UID:10000156-1776885300-1776894300@kompass-so.ch
SUMMARY:SESK Starke Eltern – Starke Kinder\, Basiskurs (2618)
DESCRIPTION:Für alle Eltern / Olten \nKinder auf dem Weg zu selb­st­ständi­gen\, ver­ant­wor­tungs­be­wussten und zufriede­nen Men­schen zu begleit­en\, ist eine anspruchsvolle Auf­gabe. Viele Eltern fühlen sich unsich­er und über­fordert. Der Kurs «Starke Eltern – Starke Kinder» gibt den Eltern mehr Sicher­heit und trägt zu einem entspan­nteren Fam­i­lien­all­t­ag bei. \nIm Basiskurs set­zen sich Eltern damit auseinan­der\, was ihnen in der Erziehung wichtig ist\, wie sie ihre Bedürfnisse und Gefüh­le aus­drück­en und sich mit ihrem Kind bess­er ver­ständi­gen kön­nen. \nDauer: 4 Kursabende à 2.5 hKurs­dat­en: 22. April\, 29. April\, 6. Mai\, 13. Mai 2026Kosten: CHF 160.– / Eltern­teil\, CHF 240.– / Eltern­paar \n			\n			\n				\n				\n				\n				\n			\n				\n				\n				\n				\n				\n				\n			\n				\n				\n				\n				\n				Kursanmeldung für den Kurs vom 22. April in Olten\, SESK Basis (2618)\n				\n				\n				\n					\n						\n				\n				\n				\n				\n				Anrede*\n				\n						Anrede*FrauHerr\n					\n			 \n				\n				\n				\n				\n				Vor­name*\n				\n			 \n				\n				\n				\n				\n				Name*\n				\n			 \n				\n				\n				\n				\n				Strasse*\n				\n			 \n				\n				\n				\n				\n				PLZ / Ort*\n				\n			 \n				\n				\n				\n				\n				Tele­fon*\n				\n			 \n				\n				\n				\n				\n				E‑Mail-Adresse*\n				\n			 \n				\n				\n				\n				\n				Nachricht\n				\n			 \n						\n						\n							\n			\n				\n					4 + 4 = \n				 \n			\n							Anmelden\n						\n						\n					\n				\n			\n			\n			\n				\n				\n				\n				\n				\n				\n				\n				\n				\n				Kosten mehrteilige Ver­anstal­tung\nCHF 160.– / Eltern­teil\nCHF 240.– / Eltern­paar\nNach dem Absenden dieses For­mu­la­rs erhal­ten Sie eine automa­tis­che Anmeldebestä­ti­gung per E‑Mail. Die defin­i­tive Kurs­bestä­ti­gung erhal­ten Sie spätestens 1 Woche vor dem Anlass per E‑Mail. \nDie Anmel­dung ist verbindlich.\nSoll­ten Sie ver­hin­dert sein\, bit­ten wir Sie um frühzeit­ige Mit­teilung.
URL:https://kompass-so.ch/event/sesk-starke-eltern-starke-kinder-basiskurs-2618/
LOCATION:Olten
CATEGORIES:Mehrteiliger Kurs
ATTACH;FMTTYPE=image/jpeg:https://kompass-so.ch/wp-content/uploads/2024/11/sesk-mit-logo_1000x550px.jpg
ORGANIZER;CN="Fachstelle kompass":MAILTO:mail@kompass-so.ch
END:VEVENT
BEGIN:VEVENT
DTSTART;TZID=Europe/Paris:20260423T190000
DTEND;TZID=Europe/Paris:20260423T210000
DTSTAMP:20260419T143242
CREATED:20260218T131445Z
LAST-MODIFIED:20260218T131656Z
UID:10000186-1776970800-1776978000@kompass-so.ch
SUMMARY:Digitale Medien im Familienalltag – Einfluss auf Babys und Kleinkinder?
DESCRIPTION:Für Eltern von 0- bis 4‑jährigen Kindern / in Oensin­genKoop­er­a­tion mit der Müt­ter- und Väter­ber­atung Thal-Gäu \nDig­i­tale Medi­en gehören zu unser­er Lebenswelt. Unsere Kinder bekom­men dies bere­its früh mit. Was bedeutet dies für die Medi­en­nutzung der Eltern? Wann und wie kön­nen Eltern ihre Kinder alters­gerecht in die dig­i­tale Welt begleit­en und worauf müssen sie acht­en? \nWir laden Sie her­zlich ein zu einem Vor­tragsabend über ein aktuelles The­ma mit vie­len prak­tis­chen Beispie­len und Anre­gun­gen für den Erziehungsall­t­ag mit kleinen Kindern. Wir freuen uns auf Ihre Teil­nahme. \nOrt: Feuer­wehrmagazin\, Müh­le­feld­strasse 3\, 4702 Oensin­gen \nAnmel­dung an: 077 528 59 80\, gaby.eggenberger@sozialregion.ch \nKoop­er­a­tion mit der Müt­ter- und Väter­ber­atung Thal-Gäu
URL:https://kompass-so.ch/event/digitale-medien-im-familienalltag-einfluss-auf-babys-und-kleinkinder/
LOCATION:Oensingen
CATEGORIES:Einzelveranstaltung
ATTACH;FMTTYPE=image/jpeg:https://kompass-so.ch/wp-content/uploads/2024/11/digitale-welt_1000x550px.jpg
ORGANIZER;CN="Fachstelle kompass":MAILTO:mail@kompass-so.ch
END:VEVENT
BEGIN:VEVENT
DTSTART;TZID=Europe/Paris:20260424T191500
DTEND;TZID=Europe/Paris:20260424T211500
DTSTAMP:20260419T143242
CREATED:20251123T174128Z
LAST-MODIFIED:20260417T075910Z
UID:10000157-1777058100-1777065300@kompass-so.ch
SUMMARY:Loslassen und Haltgeben – Herausforderung Pubertät (2619)
DESCRIPTION:Für Eltern von 12- bis 16-jähri­gen Kindern / in Oensin­gen \nDie Pubertät ist für Eltern wie für Jugendliche eine her­aus­fordernde Zeit. Vieles ist im Umbruch\, auch die Beziehung zu den Eltern und Geschwis­tern. Eltern bekom­men Möglichkeit­en aufgezeigt\, wie sie im Span­nungs­feld von Loslassen und Halt­geben mit ihrem Jugendlichen in Beziehung bleiben. Es gilt die Rolle als Erziehende neu zu definieren. \n			\n			\n				\n				\n				\n				\n			\n				\n				\n				\n				\n				\n				\n			\n				\n				\n				\n				\n				Kursanmeldung für den Kurs vom 24. April 2026\, online\, Loslassen und Haltgeben – Herausforderung Pubertät (2619)\n				\n				\n				\n					\n						\n				\n				\n				\n				\n				Anrede*\n				\n						Anrede*FrauHerr\n					\n			 \n				\n				\n				\n				\n				Vor­name*\n				\n			 \n				\n				\n				\n				\n				Name*\n				\n			 \n				\n				\n				\n				\n				Strasse*\n				\n			 \n				\n				\n				\n				\n				PLZ / Ort*\n				\n			 \n				\n				\n				\n				\n				Tele­fon*\n				\n			 \n				\n				\n				\n				\n				E‑Mail-Adresse*\n				\n			 \n				\n				\n				\n				\n				Nachricht\n				\n			 \n						\n						\n							\n			\n				\n					9 + 8 = \n				 \n			\n							Anmelden\n						\n						\n					\n				\n			\n			\n			\n				\n				\n				\n				\n				\n				\n				\n				\n				\n				Kosten Einzelver­anstal­tung\nDie Teil­nehmenden aus dem Kan­ton Solothurn kön­nen frei nach ihren per­sön­lichen Möglichkeit­en entschei­den\, welchen Betrag sie für die Ver­anstal­tung bezahlen möcht­en. Richtwert CHF 10.–.\nFür Per­so­n­en ausser­halb des Kan­ton Solothurn gilt ein Min­dest­be­trag von CHF 20.–\nNach dem Absenden dieses For­mu­la­rs erhal­ten Sie eine automa­tis­che Anmeldebestä­ti­gung per E‑Mail. Die defin­i­tive Kurs­bestä­ti­gung erhal­ten Sie spätestens 3 Tage vor dem Anlass per E‑Mail. \nDie Anmel­dung ist verbindlich.\nSoll­ten Sie ver­hin­dert sein\, bit­ten wir Sie um frühzeit­ige Mit­teilung.
URL:https://kompass-so.ch/event/loslassen-und-haltgeben-herausforderung-pubertaet-2619/
LOCATION:Oensingen
CATEGORIES:Einzelveranstaltung
ATTACH;FMTTYPE=image/jpeg:https://kompass-so.ch/wp-content/uploads/2024/11/loslassen-und-halt-geben_1000x550px.jpg
ORGANIZER;CN="Fachstelle kompass":MAILTO:mail@kompass-so.ch
END:VEVENT
BEGIN:VEVENT
DTSTART;TZID=Europe/Paris:20260428T191500
DTEND;TZID=Europe/Paris:20260428T214500
DTSTAMP:20260419T143242
CREATED:20251123T175221Z
LAST-MODIFIED:20260417T080748Z
UID:10000159-1777403700-1777412700@kompass-so.ch
SUMMARY:SESK Starke Eltern – Starke Kinder\, Basiskurs (2621)
DESCRIPTION:Für alle Eltern / in Bal­sthal \nKinder auf dem Weg zu selb­st­ständi­gen\, ver­ant­wor­tungs­be­wussten und zufriede­nen Men­schen zu begleit­en\, ist eine anspruchsvolle Auf­gabe. Viele Eltern fühlen sich unsich­er und über­fordert. Der Kurs «Starke Eltern – Starke Kinder» gibt den Eltern mehr Sicher­heit und trägt zu einem entspan­nteren Fam­i­lien­all­t­ag bei. \nIm Basiskurs set­zen sich Eltern damit auseinan­der\, was ihnen in der Erziehung wichtig ist\, wie sie ihre Bedürfnisse und Gefüh­le aus­drück­en und sich mit ihrem Kind bess­er ver­ständi­gen kön­nen. \nDauer: 4 Kursabende à 2.5 hKurs­dat­en: 28. April\, 5. Mai\, 12. Mai\, 19. Mai 2026Kosten: CHF 160.– / Eltern­teil\, CHF 240.– / Eltern­paar \n			\n			\n				\n				\n				\n				\n			\n				\n				\n				\n				\n				\n				\n			\n				\n				\n				\n				\n				Kursanmeldung für den Kurs vom 28. April in Balsthal\, SESK Basis (2621)\n				\n				\n				\n					\n						\n				\n				\n				\n				\n				Anrede*\n				\n						Anrede*FrauHerr\n					\n			 \n				\n				\n				\n				\n				Vor­name*\n				\n			 \n				\n				\n				\n				\n				Name*\n				\n			 \n				\n				\n				\n				\n				Strasse*\n				\n			 \n				\n				\n				\n				\n				PLZ / Ort*\n				\n			 \n				\n				\n				\n				\n				Tele­fon*\n				\n			 \n				\n				\n				\n				\n				E‑Mail-Adresse*\n				\n			 \n				\n				\n				\n				\n				Nachricht\n				\n			 \n						\n						\n							\n			\n				\n					11 + 2 = \n				 \n			\n							Anmelden\n						\n						\n					\n				\n			\n			\n			\n				\n				\n				\n				\n				\n				\n				\n				\n				\n				Kosten mehrteilige Ver­anstal­tung\nCHF 160.– / Eltern­teil\nCHF 240.– / Eltern­paar\nNach dem Absenden dieses For­mu­la­rs erhal­ten Sie eine automa­tis­che Anmeldebestä­ti­gung per E‑Mail. Die defin­i­tive Kurs­bestä­ti­gung erhal­ten Sie spätestens 1 Woche vor dem Anlass per E‑Mail. \nDie Anmel­dung ist verbindlich.\nSoll­ten Sie ver­hin­dert sein\, bit­ten wir Sie um frühzeit­ige Mit­teilung.
URL:https://kompass-so.ch/event/sesk-starke-eltern-starke-kinder-basiskurs-2621/
LOCATION:Balsthal
CATEGORIES:Mehrteiliger Kurs
ATTACH;FMTTYPE=image/jpeg:https://kompass-so.ch/wp-content/uploads/2024/11/sesk-mit-logo_1000x550px.jpg
ORGANIZER;CN="Fachstelle kompass":MAILTO:mail@kompass-so.ch
END:VEVENT
BEGIN:VEVENT
DTSTART;TZID=Europe/Paris:20260429T201500
DTEND;TZID=Europe/Paris:20260429T210000
DTSTAMP:20260419T143242
CREATED:20260122T152028Z
LAST-MODIFIED:20260417T082111Z
UID:10000184-1777493700-1777496400@kompass-so.ch
SUMMARY:Elternzeit online – Papa-Runde (2673)
DESCRIPTION:Für alle Väter  / online \nElternzeit online – echt und ehrlich \nManch­mal tut es gut\, ein­fach zu reden. In diesen 45-minütigen Online-Aus­tauschrun­den tre­f­fen sich Mütter oder Väter unter sich\, um über den Fam­i­lien­all­t­ag\, Her­aus­forderun­gen und kleine Erfolge zu sprechen. Mit Kurz­in­put mit offe­nen Ohren\, ehrlichem Inter­esse und der Möglichkeit\, sich wiederzuse­hen. Wer möchte\, bleibt länger – wer mag\, kommt wieder. \nZwei Ter­mine pro Jahr für Mütter\, zwei für Väter.Mama-Runde – zuhören\, teilen\, tanken.Papa-Runde – offen\, direkt und entspan­nt. \n			\n			\n				\n				\n				\n				\n			\n				\n				\n				\n				\n				\n				\n			\n				\n				\n				\n				\n				Kursanmeldung für den Kurs vom 29. April\, online\, Elternzeit online – Papa-Runde (2673)\n				\n				\n				\n					\n						\n				\n				\n				\n				\n				Anrede*\n				\n						Anrede*FrauHerr\n					\n			 \n				\n				\n				\n				\n				Vor­name*\n				\n			 \n				\n				\n				\n				\n				Name*\n				\n			 \n				\n				\n				\n				\n				Strasse*\n				\n			 \n				\n				\n				\n				\n				PLZ / Ort*\n				\n			 \n				\n				\n				\n				\n				Tele­fon*\n				\n			 \n				\n				\n				\n				\n				E‑Mail-Adresse*\n				\n			 \n				\n				\n				\n				\n				Nachricht\n				\n			 \n						\n						\n							\n			\n				\n					12 + 13 = \n				 \n			\n							Anmelden\n						\n						\n					\n				\n			\n			\n			\n				\n				\n				\n				\n				\n				\n				\n				\n				\n				Kosten Einzelver­anstal­tung\nDie Teil­nehmenden aus dem Kan­ton Solothurn kön­nen frei nach ihren per­sön­lichen Möglichkeit­en entschei­den\, welchen Betrag sie für die Ver­anstal­tung bezahlen möcht­en. Richtwert CHF 10.–.\nFür Per­so­n­en ausser­halb des Kan­ton Solothurn gilt ein Min­dest­be­trag von CHF 20.–\nNach dem Absenden dieses For­mu­la­rs erhal­ten Sie eine automa­tis­che Anmeldebestä­ti­gung per E‑Mail. Die defin­i­tive Kurs­bestä­ti­gung erhal­ten Sie spätestens 3 Tage vor dem Anlass per E‑Mail. \nDie Anmel­dung ist verbindlich.\nSoll­ten Sie ver­hin­dert sein\, bit­ten wir Sie um frühzeit­ige Mit­teilung.
URL:https://kompass-so.ch/event/elternzeit-online-papa-runde-2673/
LOCATION:Online
CATEGORIES:Einzelveranstaltung
ATTACH;FMTTYPE=image/jpeg:https://kompass-so.ch/wp-content/uploads/2026/01/elternzeit-papa-runde_iStock-1457993377_1000x550px.jpg
ORGANIZER;CN="Fachstelle kompass":MAILTO:mail@kompass-so.ch
END:VEVENT
END:VCALENDAR