BEGIN:VCALENDAR
VERSION:2.0
PRODID:-//kompass - ECPv6.15.20//NONSGML v1.0//EN
CALSCALE:GREGORIAN
METHOD:PUBLISH
X-WR-CALNAME:kompass
X-ORIGINAL-URL:https://kompass-so.ch
X-WR-CALDESC:Veranstaltungen für kompass
REFRESH-INTERVAL;VALUE=DURATION:PT1H
X-Robots-Tag:noindex
X-PUBLISHED-TTL:PT1H
BEGIN:VTIMEZONE
TZID:Europe/Paris
BEGIN:DAYLIGHT
TZOFFSETFROM:+0100
TZOFFSETTO:+0200
TZNAME:CEST
DTSTART:20250330T010000
END:DAYLIGHT
BEGIN:STANDARD
TZOFFSETFROM:+0200
TZOFFSETTO:+0100
TZNAME:CET
DTSTART:20251026T010000
END:STANDARD
BEGIN:DAYLIGHT
TZOFFSETFROM:+0100
TZOFFSETTO:+0200
TZNAME:CEST
DTSTART:20260329T010000
END:DAYLIGHT
BEGIN:STANDARD
TZOFFSETFROM:+0200
TZOFFSETTO:+0100
TZNAME:CET
DTSTART:20261025T010000
END:STANDARD
BEGIN:DAYLIGHT
TZOFFSETFROM:+0100
TZOFFSETTO:+0200
TZNAME:CEST
DTSTART:20270328T010000
END:DAYLIGHT
BEGIN:STANDARD
TZOFFSETFROM:+0200
TZOFFSETTO:+0100
TZNAME:CET
DTSTART:20271031T010000
END:STANDARD
END:VTIMEZONE
BEGIN:VEVENT
DTSTART;TZID=Europe/Paris:20260303T191500
DTEND;TZID=Europe/Paris:20260303T214500
DTSTAMP:20260419T202615
CREATED:20251121T144349Z
LAST-MODIFIED:20260219T110127Z
UID:10000142-1772565300-1772574300@kompass-so.ch
SUMMARY:SESK Starke Eltern – Starke Teenies (2604)
DESCRIPTION:Für alle Eltern von Tee­nies / in Bal­sthal \nPubertät ist eine Zeit des Umbruchs\, voller Rei­bung\, Selb­stfind­ung und wach­sender Autonomie. Die Beziehung verän­dert sich und Eltern ste­hen vor der Her­aus­forderung\, Halt zu geben\, ohne zu kon­trol­lieren und Nähe zu wahren\, ohne sich selb­st zu vergessen. \nDer SESK-Kurs stärkt Eltern\, auch in tur­bu­len­ten Phasen präsent\, klar und liebevoll zu bleiben. Statt Macht geht es um Beziehung\, statt Strafe um Sprache\, statt Druck um Präsenz. Im Zen­trum ste­hen Selb­stre­flex­ion\, Gefühle und Bedürfnisse – die eige­nen und jene der Jugendlichen. Eltern erhal­ten Impulse\, wie sie in Verbindung bleiben\, Gren­zen acht­sam set­zen und ihre Hal­tung bewusst gestal­ten. Wie gelingt Führung ohne Machtkampf? \nEltern ver­tiefen ihre Fähigkeit\, Regeln gemein­sam zu vere­in­baren und Kon­flik­te gewalt­frei zu lösen. Sie ler­nen\, psy­chis­che Gren­zver­let­zun­gen zu erken­nen und zu ver­mei­den und bauen Ver­trauen in die Selb­st­wirk­samkeit ihrer Tee­nies auf. \nDauer: 4 Kursabende à 2.5 hKurs­dat­en: 3. März\, 10. März\, 17. März\, 24. März 2026Kosten: CHF 160.– / Eltern­teil\, CHF 240.– / Eltern­paar \n			\n			\n				\n				\n				\n				\n			\n				\n				\n				\n				\n				\n				\n			\n				\n				\n				\n				\n				Kursanmeldung für den Kurs vom 3. März\, SESK Teenies in Balsthal (2604\n				\n				\n				\n					\n						\n				\n				\n				\n				\n				Anrede*\n				\n						Anrede*FrauHerr\n					\n			 \n				\n				\n				\n				\n				Vor­name*\n				\n			 \n				\n				\n				\n				\n				Name*\n				\n			 \n				\n				\n				\n				\n				Strasse*\n				\n			 \n				\n				\n				\n				\n				PLZ / Ort*\n				\n			 \n				\n				\n				\n				\n				Tele­fon*\n				\n			 \n				\n				\n				\n				\n				E‑Mail-Adresse*\n				\n			 \n				\n				\n				\n				\n				Nachricht\n				\n			 \n						\n						\n							\n			\n				\n					11 + 10 = \n				 \n			\n							Anmelden\n						\n						\n					\n				\n			\n			\n			\n				\n				\n				\n				\n				\n				\n				\n				\n				\n				Kosten mehrteilige Ver­anstal­tung\nCHF 160.– / Eltern­teil\nCHF 240.– / Eltern­paar\nNach dem Absenden dieses For­mu­la­rs erhal­ten Sie eine automa­tis­che Anmeldebestä­ti­gung per E‑Mail. Die defin­i­tive Kurs­bestä­ti­gung erhal­ten Sie spätestens 1 Woche vor dem Anlass per E‑Mail. \nDie Anmel­dung ist verbindlich.\nSoll­ten Sie ver­hin­dert sein\, bit­ten wir Sie um frühzeit­ige Mit­teilung.
URL:https://kompass-so.ch/event/sesk-starke-eltern-starke-teenies-2604/
LOCATION:Balsthal
CATEGORIES:Mehrteiliger Kurs
ATTACH;FMTTYPE=image/jpeg:https://kompass-so.ch/wp-content/uploads/2026/02/starke-eltern-starke-teenies_1000x550px.jpg
ORGANIZER;CN="Fachstelle kompass":MAILTO:mail@kompass-so.ch
END:VEVENT
BEGIN:VEVENT
DTSTART;TZID=Europe/Paris:20260306T191500
DTEND;TZID=Europe/Paris:20260306T211500
DTSTAMP:20260419T202615
CREATED:20251121T151322Z
LAST-MODIFIED:20251121T151518Z
UID:10000143-1772824500-1772831700@kompass-so.ch
SUMMARY:Geschwisterstreit – Harmonie um jeden Preis? (2605)
DESCRIPTION:Für Eltern von 3- bis 10-jähri­gen Kindern / in Bal­sthal \nLaut­starke Kon­flik­te zwis­chen Geschwis­tern gehören zum Fam­i­lien­all­t­ag und fordern Eltern her­aus. Sie ler­nen Strate­gien ken­nen\, wie sie kon­struk­tiv mit Stre­it­igkeit­en umge­hen und diese in pos­i­tive Lern­er­fahrun­gen umwan­deln kön­nen. Einfühlsame Kom­mu­nika­tion stärkt den Zusam­men­halt der Fam­i­lie – auch wenn es mal laut wird. \n			\n			\n				\n				\n				\n				\n			\n				\n				\n				\n				\n				\n				\n			\n				\n				\n				\n				\n				Kursanmeldung für den Kurs vom 6. März 2026 in Balsthal\, Geschwisterstreite – Harmonie um jeden Preis (2605)\n				\n				\n				\n					\n						\n				\n				\n				\n				\n				Anrede*\n				\n						Anrede*FrauHerr\n					\n			 \n				\n				\n				\n				\n				Vor­name*\n				\n			 \n				\n				\n				\n				\n				Name*\n				\n			 \n				\n				\n				\n				\n				Strasse*\n				\n			 \n				\n				\n				\n				\n				PLZ / Ort*\n				\n			 \n				\n				\n				\n				\n				Tele­fon*\n				\n			 \n				\n				\n				\n				\n				E‑Mail-Adresse*\n				\n			 \n				\n				\n				\n				\n				Nachricht\n				\n			 \n						\n						\n							\n			\n				\n					2 + 12 = \n				 \n			\n							Anmelden\n						\n						\n					\n				\n			\n			\n			\n				\n				\n				\n				\n				\n				\n				\n				\n				\n				Kosten Einzelver­anstal­tungDie Teil­nehmenden aus dem Kan­ton Solothurn kön­nen frei nach ihren per­sön­lichen Möglichkeit­en entschei­den\, welchen Betrag sie für die Ver­anstal­tung bezahlen möcht­en. Richtwert CHF 10.–.Für Per­so­n­en ausser­halb des Kan­ton Solothurn gilt ein Min­dest­be­trag von CHF 20.– \nNach dem Absenden dieses For­mu­la­rs erhal­ten Sie eine automa­tis­che Anmeldebestä­ti­gung per E‑Mail. Die defin­i­tive Kurs­bestä­ti­gung erhal­ten Sie spätestens 1 Woche vor dem Anlass per E‑Mail. \nDie Anmel­dung ist verbindlich.Soll­ten Sie ver­hin­dert sein\, bit­ten wir Sie um frühzeit­ige Mit­teilung.
URL:https://kompass-so.ch/event/geschwisterstreit-harmonie-um-jeden-preis-2605/
LOCATION:Balsthal
CATEGORIES:Einzelveranstaltung
ATTACH;FMTTYPE=image/jpeg:https://kompass-so.ch/wp-content/uploads/2024/11/harmonie-im-Kinderzimmer_1000c550px.jpg
ORGANIZER;CN="Fachstelle kompass":MAILTO:mail@kompass-so.ch
END:VEVENT
BEGIN:VEVENT
DTSTART;TZID=Europe/Paris:20260310T201500
DTEND;TZID=Europe/Paris:20260310T221500
DTSTAMP:20260419T202615
CREATED:20251121T151700Z
LAST-MODIFIED:20251121T151835Z
UID:10000144-1773173700-1773180900@kompass-so.ch
SUMMARY:Vertrauen statt Kontrolle – Wie Kinder selbstständig lernen (2606)
DESCRIPTION:Für Eltern von 6- bis 12-jähri­gen Kindern / online \nViele Eltern wünschen sich\, dass ihre Kinder in der Schule erfol­gre­ich sind und ger­at­en dabei sel­ber unter Druck. Doch Ler­nen ist mehr als Leis­tung. Welche Strate­gien helfen\, dass Kinder lieber ler­nen und selb­ständi­ger wer­den\, ohne dabei Druck ausüben zu müssen? Ein Abend mit prak­tis­chen Impulsen\, ehrlichem Aus­tausch und einem Blick auf das Wesentliche. \n			\n			\n				\n				\n				\n				\n			\n				\n				\n				\n				\n				\n				\n			\n				\n				\n				\n				\n				Kursanmeldung für den Kurs vom 10. März 2026\, online\, Vertrauen statt Kontrolle – Wie Kinder selbstständig lernen (2606)\n				\n				\n				\n					\n						\n				\n				\n				\n				\n				Anrede*\n				\n						Anrede*FrauHerr\n					\n			 \n				\n				\n				\n				\n				Vor­name*\n				\n			 \n				\n				\n				\n				\n				Name*\n				\n			 \n				\n				\n				\n				\n				Strasse*\n				\n			 \n				\n				\n				\n				\n				PLZ / Ort*\n				\n			 \n				\n				\n				\n				\n				Tele­fon*\n				\n			 \n				\n				\n				\n				\n				E‑Mail-Adresse*\n				\n			 \n				\n				\n				\n				\n				Nachricht\n				\n			 \n						\n						\n							\n			\n				\n					1 + 2 = \n				 \n			\n							Anmelden\n						\n						\n					\n				\n			\n			\n			\n				\n				\n				\n				\n				\n				\n				\n				\n				\n				Kosten Einzelver­anstal­tung\nDie Teil­nehmenden aus dem Kan­ton Solothurn kön­nen frei nach ihren per­sön­lichen Möglichkeit­en entschei­den\, welchen Betrag sie für die Ver­anstal­tung bezahlen möcht­en. Richtwert CHF 10.–.\nFür Per­so­n­en ausser­halb des Kan­ton Solothurn gilt ein Min­dest­be­trag von CHF 20.–\nNach dem Absenden dieses For­mu­la­rs erhal­ten Sie eine automa­tis­che Anmeldebestä­ti­gung per E‑Mail. Die defin­i­tive Kurs­bestä­ti­gung erhal­ten Sie spätestens 3 Tage vor dem Anlass per E‑Mail. \nDie Anmel­dung ist verbindlich.\nSoll­ten Sie ver­hin­dert sein\, bit­ten wir Sie um frühzeit­ige Mit­teilung.
URL:https://kompass-so.ch/event/vertrauen-statt-kontrolle-wie-kinder-selbststaendig-lernen-2606/
LOCATION:Online
CATEGORIES:Einzelveranstaltung
ATTACH;FMTTYPE=image/jpeg:https://kompass-so.ch/wp-content/uploads/2024/11/lernen-1000x550px.jpg
ORGANIZER;CN="Fachstelle kompass":MAILTO:mail@kompass-so.ch
END:VEVENT
BEGIN:VEVENT
DTSTART;TZID=Europe/Paris:20260312T191500
DTEND;TZID=Europe/Paris:20260312T211500
DTSTAMP:20260419T202615
CREATED:20251121T152016Z
LAST-MODIFIED:20260216T143619Z
UID:10000145-1773342900-1773350100@kompass-so.ch
SUMMARY:Kleine Schritte\, grosse Entwicklung – was Eltern wissen sollten (2607)
DESCRIPTION:Für Eltern von 0- bis 3‑jährigen Kindern / in Biberist \nDie ersten Leben­s­jahre eines Kindes sind geprägt von ras­an­ten Entwick­lungss­chrit­ten — kör­per­lich\, emo­tion­al und sprach­lich. Für Eltern bedeutet das oft wenig Schlaf\, viele Fra­gen und ein ständi­ges Abwä­gen zwis­chen Fördern und Über­fordern. Eltern erhal­ten Impulse\, welche Rit­uale und Ideen im All­t­ag helfen kön­nen\, Kindern Struk­tur und Sicher­heit zu geben. \n			\n			\n				\n				\n				\n				\n			\n				\n				\n				\n				\n				\n				\n			\n				\n				\n				\n				\n				Kursanmeldung für den Kurs vom 12. März 2026\, Biberist\, Kleine Schritte\, grosse Entwicklung (2607)\n				\n				\n				\n					\n						\n				\n				\n				\n				\n				Anrede*\n				\n						Anrede*FrauHerr\n					\n			 \n				\n				\n				\n				\n				Vor­name*\n				\n			 \n				\n				\n				\n				\n				Name*\n				\n			 \n				\n				\n				\n				\n				Strasse*\n				\n			 \n				\n				\n				\n				\n				PLZ / Ort*\n				\n			 \n				\n				\n				\n				\n				Tele­fon*\n				\n			 \n				\n				\n				\n				\n				E‑Mail-Adresse*\n				\n			 \n				\n				\n				\n				\n				Nachricht\n				\n			 \n						\n						\n							\n			\n				\n					6 + 9 = \n				 \n			\n							Anmelden\n						\n						\n					\n				\n			\n			\n			\n				\n				\n				\n				\n				\n				\n				\n				\n				\n				Kosten Einzelver­anstal­tung\nDie Teil­nehmenden aus dem Kan­ton Solothurn kön­nen frei nach ihren per­sön­lichen Möglichkeit­en entschei­den\, welchen Betrag sie für die Ver­anstal­tung bezahlen möcht­en. Richtwert CHF 10.–.\nFür Per­so­n­en ausser­halb des Kan­ton Solothurn gilt ein Min­dest­be­trag von CHF 20.–\nNach dem Absenden dieses For­mu­la­rs erhal­ten Sie eine automa­tis­che Anmeldebestä­ti­gung per E‑Mail. Die defin­i­tive Kurs­bestä­ti­gung erhal­ten Sie spätestens 3 Tage vor dem Anlass per E‑Mail. \nDie Anmel­dung ist verbindlich.\nSoll­ten Sie ver­hin­dert sein\, bit­ten wir Sie um frühzeit­ige Mit­teilung.
URL:https://kompass-so.ch/event/kleine-schritte-grosse-entwicklung-was-eltern-wissen-sollten-2607/
LOCATION:Biberist
CATEGORIES:Einzelveranstaltung
ATTACH;FMTTYPE=image/jpeg:https://kompass-so.ch/wp-content/uploads/2026/02/kleine-schritte-grosse-entwicklung_1000x550px.jpg
ORGANIZER;CN="Fachstelle kompass":MAILTO:mail@kompass-so.ch
END:VEVENT
BEGIN:VEVENT
DTSTART;TZID=Europe/Paris:20260317T191500
DTEND;TZID=Europe/Paris:20260317T211500
DTSTAMP:20260419T202615
CREATED:20251121T152404Z
LAST-MODIFIED:20251121T152515Z
UID:10000146-1773774900-1773782100@kompass-so.ch
SUMMARY:Geschwisterstreit – Harmonie um jeden Preis? (2608)
DESCRIPTION:Für Eltern von 3- bis 10-jähri­gen Kindern / in Bet­t­lach \nLaut­starke Kon­flik­te zwis­chen Geschwis­tern gehören zum Fam­i­lien­all­t­ag und fordern Eltern her­aus. Sie ler­nen Strate­gien ken­nen\, wie sie kon­struk­tiv mit Stre­it­igkeit­en umge­hen und diese in pos­i­tive Lern­er­fahrun­gen umwan­deln kön­nen. Einfühlsame Kom­mu­nika­tion stärkt den Zusam­men­halt der Fam­i­lie – auch wenn es mal laut wird. \n			\n			\n				\n				\n				\n				\n			\n				\n				\n				\n				\n				\n				\n			\n				\n				\n				\n				\n				Kursanmeldung für den Kurs vom 17. März 2026 in Bettlach\, Geschwisterstreit – Harmonie um jeden Preis (2608)\n				\n				\n				\n					\n						\n				\n				\n				\n				\n				Anrede*\n				\n						Anrede*FrauHerr\n					\n			 \n				\n				\n				\n				\n				Vor­name*\n				\n			 \n				\n				\n				\n				\n				Name*\n				\n			 \n				\n				\n				\n				\n				Strasse*\n				\n			 \n				\n				\n				\n				\n				PLZ / Ort*\n				\n			 \n				\n				\n				\n				\n				Tele­fon*\n				\n			 \n				\n				\n				\n				\n				E‑Mail-Adresse*\n				\n			 \n				\n				\n				\n				\n				Nachricht\n				\n			 \n						\n						\n							\n			\n				\n					10 + 11 = \n				 \n			\n							Anmelden\n						\n						\n					\n				\n			\n			\n			\n				\n				\n				\n				\n				\n				\n				\n				\n				\n				Kosten Einzelver­anstal­tung\nDie Teil­nehmenden aus dem Kan­ton Solothurn kön­nen frei nach ihren per­sön­lichen Möglichkeit­en entschei­den\, welchen Betrag sie für die Ver­anstal­tung bezahlen möcht­en. Richtwert CHF 10.–.\nFür Per­so­n­en ausser­halb des Kan­ton Solothurn gilt ein Min­dest­be­trag von CHF 20.–\nNach dem Absenden dieses For­mu­la­rs erhal­ten Sie eine automa­tis­che Anmeldebestä­ti­gung per E‑Mail. Die defin­i­tive Kurs­bestä­ti­gung erhal­ten Sie spätestens 1 Woche vor dem Anlass per E‑Mail. \nDie Anmel­dung ist verbindlich.\nSoll­ten Sie ver­hin­dert sein\, bit­ten wir Sie um frühzeit­ige Mit­teilung.
URL:https://kompass-so.ch/event/geschwisterstreit-harmonie-um-jeden-preis-2608/
LOCATION:Bettlach
CATEGORIES:Einzelveranstaltung
ATTACH;FMTTYPE=image/jpeg:https://kompass-so.ch/wp-content/uploads/2024/11/harmonie-im-Kinderzimmer_1000c550px.jpg
ORGANIZER;CN="Fachstelle kompass":MAILTO:mail@kompass-so.ch
END:VEVENT
BEGIN:VEVENT
DTSTART;TZID=Europe/Paris:20260325T191500
DTEND;TZID=Europe/Paris:20260325T211500
DTSTAMP:20260419T202615
CREATED:20251121T153010Z
LAST-MODIFIED:20251121T153429Z
UID:10000148-1774466100-1774473300@kompass-so.ch
SUMMARY:Trotzphase meistern – kleine Stürme\, grosse Chancen (2610)
DESCRIPTION:Für Eltern von 2- bis 4‑jährigen Kindern / in Buchegg \nWenn Kleinkinder nicht wollen und nicht hören\, stattdessen schreien und toben\, um ihren Willen durchzuset­zen\, fordert das Eltern her­aus. Welche Bedürfnisse und Entwick­lungss­chritte ste­hen dahin­ter und wie kön­nen Eltern gelassen­er auf das Kind einge­hen und es unter­stützen? \n			\n			\n				\n				\n				\n				\n			\n				\n				\n				\n				\n				\n				\n			\n				\n				\n				\n				\n				Kursanmeldung für den Kurs vom 25. März 2026 in Buchegg\, Trotzphase meistern – kleine Stürme\, grosse Chancen (2610)\n				\n				\n				\n					\n						\n				\n				\n				\n				\n				Anrede*\n				\n						Anrede*FrauHerr\n					\n			 \n				\n				\n				\n				\n				Vor­name*\n				\n			 \n				\n				\n				\n				\n				Name*\n				\n			 \n				\n				\n				\n				\n				Strasse*\n				\n			 \n				\n				\n				\n				\n				PLZ / Ort*\n				\n			 \n				\n				\n				\n				\n				Tele­fon*\n				\n			 \n				\n				\n				\n				\n				E‑Mail-Adresse*\n				\n			 \n				\n				\n				\n				\n				Nachricht\n				\n			 \n						\n						\n							\n			\n				\n					10 + 15 = \n				 \n			\n							Anmelden\n						\n						\n					\n				\n			\n			\n			\n				\n				\n				\n				\n				\n				\n				\n				\n				\n				Kosten Einzelver­anstal­tung\nDie Teil­nehmenden aus dem Kan­ton Solothurn kön­nen frei nach ihren per­sön­lichen Möglichkeit­en entschei­den\, welchen Betrag sie für die Ver­anstal­tung bezahlen möcht­en. Richtwert CHF 10.–.\nFür Per­so­n­en ausser­halb des Kan­ton Solothurn gilt ein Min­dest­be­trag von CHF 20.–\nNach dem Absenden dieses For­mu­la­rs erhal­ten Sie eine automa­tis­che Anmeldebestä­ti­gung per E‑Mail. Die defin­i­tive Kurs­bestä­ti­gung erhal­ten Sie spätestens 1 Woche vor dem Anlass per E‑Mail. \nDie Anmel­dung ist verbindlich.\nSoll­ten Sie ver­hin­dert sein\, bit­ten wir Sie um frühzeit­ige Mit­teilung.
URL:https://kompass-so.ch/event/trotzphase-meistern-kleine-stuerme-grosse-chancen-2510/
LOCATION:Buchegg
CATEGORIES:Einzelveranstaltung
ATTACH;FMTTYPE=image/jpeg:https://kompass-so.ch/wp-content/uploads/2024/11/kleine-stuerme-grosse-chancen_1000x550px.jpg
ORGANIZER;CN="Fachstelle kompass":MAILTO:mail@kompass-so.ch
END:VEVENT
BEGIN:VEVENT
DTSTART;TZID=Europe/Paris:20260331T191500
DTEND;TZID=Europe/Paris:20260331T211500
DTSTAMP:20260419T202616
CREATED:20251121T153714Z
LAST-MODIFIED:20251121T153813Z
UID:10000149-1774984500-1774991700@kompass-so.ch
SUMMARY:Trotzphase meistern – kleine Stürme\, grosse Chancen (2611)
DESCRIPTION:Für Eltern von 2- bis 4‑jährigen Kindern / in Olten \nWenn Kleinkinder nicht wollen und nicht hören\, stattdessen schreien und toben\, um ihren Willen durchzuset­zen\, fordert das Eltern her­aus. Welche Bedürfnisse und Entwick­lungss­chritte ste­hen dahin­ter und wie kön­nen Eltern gelassen­er auf das Kind einge­hen und es unter­stützen? \n			\n			\n				\n				\n				\n				\n			\n				\n				\n				\n				\n				\n				\n			\n				\n				\n				\n				\n				Kursanmeldung für den Kurs vom 31. März 2026 in Olten\, Trotzphase meistern – kleine Stürme\, grosse Chancen (2611)\n				\n				\n				\n					\n						\n				\n				\n				\n				\n				Anrede*\n				\n						Anrede*FrauHerr\n					\n			 \n				\n				\n				\n				\n				Vor­name*\n				\n			 \n				\n				\n				\n				\n				Name*\n				\n			 \n				\n				\n				\n				\n				Strasse*\n				\n			 \n				\n				\n				\n				\n				PLZ / Ort*\n				\n			 \n				\n				\n				\n				\n				Tele­fon*\n				\n			 \n				\n				\n				\n				\n				E‑Mail-Adresse*\n				\n			 \n				\n				\n				\n				\n				Nachricht\n				\n			 \n						\n						\n							\n			\n				\n					6 + 7 = \n				 \n			\n							Anmelden\n						\n						\n					\n				\n			\n			\n			\n				\n				\n				\n				\n				\n				\n				\n				\n				\n				Kosten Einzelver­anstal­tung\nDie Teil­nehmenden aus dem Kan­ton Solothurn kön­nen frei nach ihren per­sön­lichen Möglichkeit­en entschei­den\, welchen Betrag sie für die Ver­anstal­tung bezahlen möcht­en. Richtwert CHF 10.–.\nFür Per­so­n­en ausser­halb des Kan­ton Solothurn gilt ein Min­dest­be­trag von CHF 20.–\nNach dem Absenden dieses For­mu­la­rs erhal­ten Sie eine automa­tis­che Anmeldebestä­ti­gung per E‑Mail. Die defin­i­tive Kurs­bestä­ti­gung erhal­ten Sie spätestens 1 Woche vor dem Anlass per E‑Mail. \nDie Anmel­dung ist verbindlich.\nSoll­ten Sie ver­hin­dert sein\, bit­ten wir Sie um frühzeit­ige Mit­teilung.
URL:https://kompass-so.ch/event/trotzphase-meistern-kleine-stuerme-grosse-chancen-2611/
LOCATION:Olten
CATEGORIES:Einzelveranstaltung
ATTACH;FMTTYPE=image/jpeg:https://kompass-so.ch/wp-content/uploads/2024/11/kleine-stuerme-grosse-chancen_1000x550px.jpg
ORGANIZER;CN="Fachstelle kompass":MAILTO:mail@kompass-so.ch
END:VEVENT
END:VCALENDAR