BEGIN:VCALENDAR
VERSION:2.0
PRODID:-//kompass - ECPv6.15.20//NONSGML v1.0//EN
CALSCALE:GREGORIAN
METHOD:PUBLISH
X-WR-CALNAME:kompass
X-ORIGINAL-URL:https://kompass-so.ch
X-WR-CALDESC:Veranstaltungen für kompass
REFRESH-INTERVAL;VALUE=DURATION:PT1H
X-Robots-Tag:noindex
X-PUBLISHED-TTL:PT1H
BEGIN:VTIMEZONE
TZID:Europe/Paris
BEGIN:DAYLIGHT
TZOFFSETFROM:+0100
TZOFFSETTO:+0200
TZNAME:CEST
DTSTART:20240331T010000
END:DAYLIGHT
BEGIN:STANDARD
TZOFFSETFROM:+0200
TZOFFSETTO:+0100
TZNAME:CET
DTSTART:20241027T010000
END:STANDARD
BEGIN:DAYLIGHT
TZOFFSETFROM:+0100
TZOFFSETTO:+0200
TZNAME:CEST
DTSTART:20250330T010000
END:DAYLIGHT
BEGIN:STANDARD
TZOFFSETFROM:+0200
TZOFFSETTO:+0100
TZNAME:CET
DTSTART:20251026T010000
END:STANDARD
BEGIN:DAYLIGHT
TZOFFSETFROM:+0100
TZOFFSETTO:+0200
TZNAME:CEST
DTSTART:20260329T010000
END:DAYLIGHT
BEGIN:STANDARD
TZOFFSETFROM:+0200
TZOFFSETTO:+0100
TZNAME:CET
DTSTART:20261025T010000
END:STANDARD
END:VTIMEZONE
BEGIN:VEVENT
DTSTART;TZID=Europe/Paris:20251202T191500
DTEND;TZID=Europe/Paris:20251202T211500
DTSTAMP:20260421T035441
CREATED:20241202T110032Z
LAST-MODIFIED:20251121T101036Z
UID:10000071-1764702900-1764710100@kompass-so.ch
SUMMARY:Null-Bock – mache ich später (2586)
DESCRIPTION:Für Eltern von 12- bis 16-jähri­gen Kindern / in Oensin­gen \nSinn- und Moti­va­tion­skrisen kom­men in der Pubertät häu­fig vor\, ins­beson­dere dann\, wenn sich die Jugendlichen Gedanken über ihr Leben machen. Eltern erfahren mehr über die nöti­gen Auf­gaben und Entwick­lungss­chritte\, welche ihr Teenag­er zu bewälti­gen hat. Wie kön­nen sie ihrem Kind hil­fre­ich zur Seite ste­hen und dabei auf Vor­wurf\, Kri­tik und Druck verzicht­en? \n			\n			\n				\n				\n				\n				\n			\n				\n				\n				\n				\n				\n				\n			\n				\n				\n				\n				\n				Kursanmeldung für den Kurs vom 2. Dezember 2025 in Oensingen\, Null-Bock – mache ich später (2586)\n				\n				\n				\n					\n						\n				\n				\n				\n				\n				Anrede*\n				\n						Anrede*FrauHerr\n					\n			 \n				\n				\n				\n				\n				Vor­name*\n				\n			 \n				\n				\n				\n				\n				Name*\n				\n			 \n				\n				\n				\n				\n				Strasse*\n				\n			 \n				\n				\n				\n				\n				PLZ / Ort*\n				\n			 \n				\n				\n				\n				\n				Tele­fon*\n				\n			 \n				\n				\n				\n				\n				E‑Mail-Adresse*\n				\n			 \n				\n				\n				\n				\n				Nachricht\n				\n			 \n						\n						\n							\n			\n				\n					6 + 7 = \n				 \n			\n							Anmelden\n						\n						\n					\n				\n			\n			\n			\n				\n				\n				\n				\n				\n				\n				\n				\n				\n				Kosten Einzelver­anstal­tung\nDie Teil­nehmenden aus dem Kan­ton Solothurn kön­nen frei nach ihren per­sön­lichen Möglichkeit­en entschei­den\, welchen Betrag sie für die Ver­anstal­tung bezahlen möcht­en. Richtwert CHF 10.–.\nFür Per­so­n­en ausser­halb des Kan­ton Solothurn gilt ein Min­dest­be­trag von CHF 20.–\nNach dem Absenden dieses For­mu­la­rs erhal­ten Sie eine automa­tis­che Anmeldebestä­ti­gung per E‑Mail. Die defin­i­tive Kurs­bestä­ti­gung erhal­ten Sie spätestens 1 Woche vor dem Anlass per E‑Mail. \nDie Anmel­dung ist verbindlich.\nSoll­ten Sie ver­hin­dert sein\, bit­ten wir Sie um frühzeit­ige Mit­teilung.
URL:https://kompass-so.ch/event/null-bock-mache-ich-spaeter-2586/
LOCATION:Oensingen
CATEGORIES:Einzelveranstaltung
ATTACH;FMTTYPE=image/jpeg:https://kompass-so.ch/wp-content/uploads/2024/11/null-bock_1000x550px.jpg
ORGANIZER;CN="Fachstelle kompass":MAILTO:mail@kompass-so.ch
END:VEVENT
BEGIN:VEVENT
DTSTART;TZID=Europe/Paris:20251202T191500
DTEND;TZID=Europe/Paris:20251202T211500
DTSTAMP:20260421T035441
CREATED:20250828T080547Z
LAST-MODIFIED:20251121T101005Z
UID:10000132-1764702900-1764710100@kompass-so.ch
SUMMARY:Kinder stärken – Resilienz und Selbstvertrauen fördern (2595)
DESCRIPTION:Für Eltern von 2- bis 12-jähri­gen Kindern / in der Bib­lio­thek Hägen­dorf \nWie kön­nen Eltern ihre Kinder unter­stützen\, schwierige Lebenssi­t­u­a­tio­nen und Krisen zu meis­tern und sich psy­chisch gesund weit­erzuen­twick­eln? Eltern erfahren\, wie das Mod­ell der anlei­t­en­den Erziehung hil­ft\, Selb­stver­trauen zu fördern und eine pos­i­tive Ein­stel­lung zu wahren. \n			\n			\n				\n				\n				\n				\n			\n				\n				\n				\n				\n				\n				\n			\n				\n				\n				\n				\n				Kursanmeldung für den Kurs vom 2. Dezember 2025 in Hägendorf\, Kinder stärken – Resilienz und Selbstvertrauen fördern (2595)\n				\n				\n				\n					\n						\n				\n				\n				\n				\n				Anrede*\n				\n						Anrede*FrauHerr\n					\n			 \n				\n				\n				\n				\n				Vor­name*\n				\n			 \n				\n				\n				\n				\n				Name*\n				\n			 \n				\n				\n				\n				\n				Strasse*\n				\n			 \n				\n				\n				\n				\n				PLZ / Ort*\n				\n			 \n				\n				\n				\n				\n				Tele­fon*\n				\n			 \n				\n				\n				\n				\n				E‑Mail-Adresse*\n				\n			 \n				\n				\n				\n				\n				Nachricht\n				\n			 \n						\n						\n							\n			\n				\n					3 + 7 = \n				 \n			\n							Anmelden\n						\n						\n					\n				\n			\n			\n			\n				\n				\n				\n				\n				\n				\n				\n				\n				\n				Kosten Einzelver­anstal­tung\nDie Teil­nehmenden aus dem Kan­ton Solothurn kön­nen frei nach ihren per­sön­lichen Möglichkeit­en entschei­den\, welchen Betrag sie für die Ver­anstal­tung bezahlen möcht­en. Richtwert CHF 10.–.\nFür Per­so­n­en ausser­halb des Kan­ton Solothurn gilt ein Min­dest­be­trag von CHF 20.–\nNach dem Absenden dieses For­mu­la­rs erhal­ten Sie eine automa­tis­che Anmeldebestä­ti­gung per E‑Mail. Die defin­i­tive Kurs­bestä­ti­gung erhal­ten Sie spätestens 1 Woche vor dem Anlass per E‑Mail. \nDie Anmel­dung ist verbindlich.\nSoll­ten Sie ver­hin­dert sein\, bit­ten wir Sie um frühzeit­ige Mit­teilung.
URL:https://kompass-so.ch/event/kinder-staerken-resilienz-und-selbstvertrauen-foerdern-2595/
LOCATION:Hägendorf
CATEGORIES:Einzelveranstaltung
ATTACH;FMTTYPE=image/jpeg:https://kompass-so.ch/wp-content/uploads/2024/11/kinder-staerken-resilienz_1000x550px.jpg
ORGANIZER;CN="Fachstelle kompass":MAILTO:mail@kompass-so.ch
END:VEVENT
BEGIN:VEVENT
DTSTART;TZID=Europe/Paris:20251203T194500
DTEND;TZID=Europe/Paris:20251203T214500
DTSTAMP:20260421T035441
CREATED:20241202T093758Z
LAST-MODIFIED:20251121T100930Z
UID:10000068-1764791100-1764798300@kompass-so.ch
SUMMARY:Hochsensible Kinder – ganz (ausser)gewöhnlich (2583)
DESCRIPTION:Für Eltern von 0- bis 16-jähri­gen Kindern / online\nSocken­nähte stören\, Über­raschun­gen sind ein Gräuel und das Ein­schlafen bere­it­et Mühe. Wenn zu viele Ein­drücke auf hochsen­si­tive Kinder ein­strö­men\, ger­at­en sie in eine Über­reizung. Eltern erfahren was Hochsen­si­bil­ität ist und wie sie hochsen­si­tive Kinder erken­nen kön­nen und erhal­ten dabei inspiri­erende Unter­stützungsideen. \nIn Koop­er­a­tion mit Nicole Leu\, Coach & Exper­tin im The­ma Hochsen­si­bil­ität\, Sozialpäd­a­gogin FH \n			\n			\n				\n				\n				\n				\n			\n				\n				\n				\n				\n				\n				\n			\n				\n				\n				\n				\n				Kursanmeldung für den Kurs vom 3. Dezember 2025\, online\, Hochsensible Kinder – ganz (ausser)gewöhnlich (2583)\n				\n				\n				\n					\n						\n				\n				\n				\n				\n				Anrede*\n				\n						Anrede*FrauHerr\n					\n			 \n				\n				\n				\n				\n				Vor­name*\n				\n			 \n				\n				\n				\n				\n				Name*\n				\n			 \n				\n				\n				\n				\n				Strasse*\n				\n			 \n				\n				\n				\n				\n				PLZ / Ort*\n				\n			 \n				\n				\n				\n				\n				Tele­fon*\n				\n			 \n				\n				\n				\n				\n				E‑Mail-Adresse*\n				\n			 \n				\n				\n				\n				\n				Nachricht\n				\n			 \n						\n						\n							\n			\n				\n					10 + 8 = \n				 \n			\n							Anmelden\n						\n						\n					\n				\n			\n			\n			\n				\n				\n				\n				\n				\n				\n				\n				\n				\n				Kosten Einzelver­anstal­tungDie Teil­nehmenden aus dem Kan­ton Solothurn kön­nen frei nach ihren per­sön­lichen Möglichkeit­en entschei­den\, welchen Betrag sie für die Ver­anstal­tung bezahlen möcht­en. Richtwert CHF 10.–.Für Per­so­n­en ausser­halb des Kan­ton Solothurn gilt ein Min­dest­be­trag von CHF 20.– \nNach dem Absenden dieses For­mu­la­rs erhal­ten Sie eine automa­tis­che Anmeldebestä­ti­gung per E‑Mail. Die defin­i­tive Kurs­bestä­ti­gung erhal­ten Sie spätestens 3 Tage vor dem Anlass per E‑Mail. \nDie Anmel­dung ist verbindlich.Soll­ten Sie ver­hin­dert sein\, bit­ten wir Sie um frühzeit­ige Mit­teilung.
URL:https://kompass-so.ch/event/hochsensible-kinder-ganz-aussergewoehnlich-2583/
LOCATION:Online
CATEGORIES:Einzelveranstaltung
ATTACH;FMTTYPE=image/jpeg:https://kompass-so.ch/wp-content/uploads/2024/11/hochsensibel_1000x550px.jpg
ORGANIZER;CN="Fachstelle kompass":MAILTO:mail@kompass-so.ch
END:VEVENT
BEGIN:VEVENT
DTSTART;TZID=Europe/Paris:20251204T194500
DTEND;TZID=Europe/Paris:20251204T214500
DTSTAMP:20260421T035441
CREATED:20241202T110304Z
LAST-MODIFIED:20251121T100857Z
UID:10000072-1764877500-1764884700@kompass-so.ch
SUMMARY:Null-Bock – mache ich später (2587)
DESCRIPTION:Für Eltern von 12- bis 16-jähri­gen Kindern / online \nSinn- und Moti­va­tion­skrisen kom­men in der Pubertät häu­fig vor\, ins­beson­dere dann\, wenn sich die Jugendlichen Gedanken über ihr Leben machen. Eltern erfahren mehr über die nöti­gen Auf­gaben und Entwick­lungss­chritte\, welche ihr Teenag­er zu bewälti­gen hat. Wie kön­nen sie ihrem Kind hil­fre­ich zur Seite ste­hen und dabei auf Vor­wurf\, Kri­tik und Druck verzicht­en? \n			\n			\n				\n				\n				\n				\n			\n				\n				\n				\n				\n				\n				\n			\n				\n				\n				\n				\n				Kursanmeldung für den Kurs vom 4. Dezember 2025\, online\, Null-Bock – mache ich später (2587)\n				\n				\n				\n					\n						\n				\n				\n				\n				\n				Anrede*\n				\n						Anrede*FrauHerr\n					\n			 \n				\n				\n				\n				\n				Vor­name*\n				\n			 \n				\n				\n				\n				\n				Name*\n				\n			 \n				\n				\n				\n				\n				Strasse*\n				\n			 \n				\n				\n				\n				\n				PLZ / Ort*\n				\n			 \n				\n				\n				\n				\n				Tele­fon*\n				\n			 \n				\n				\n				\n				\n				E‑Mail-Adresse*\n				\n			 \n				\n				\n				\n				\n				Nachricht\n				\n			 \n						\n						\n							\n			\n				\n					12 + 15 = \n				 \n			\n							Anmelden\n						\n						\n					\n				\n			\n			\n			\n				\n				\n				\n				\n				\n				\n				\n				\n				\n				Kosten Einzelver­anstal­tungDie Teil­nehmenden aus dem Kan­ton Solothurn kön­nen frei nach ihren per­sön­lichen Möglichkeit­en entschei­den\, welchen Betrag sie für die Ver­anstal­tung bezahlen möcht­en. Richtwert CHF 10.–.Für Per­so­n­en ausser­halb des Kan­ton Solothurn gilt ein Min­dest­be­trag von CHF 20.– \nNach dem Absenden dieses For­mu­la­rs erhal­ten Sie eine automa­tis­che Anmeldebestä­ti­gung per E‑Mail. Die defin­i­tive Kurs­bestä­ti­gung erhal­ten Sie spätestens 3 Tage vor dem Anlass per E‑Mail. \nDie Anmel­dung ist verbindlich.Soll­ten Sie ver­hin­dert sein\, bit­ten wir Sie um frühzeit­ige Mit­teilung.
URL:https://kompass-so.ch/event/null-bock-mache-ich-spaeter-2587/
LOCATION:Online
CATEGORIES:Einzelveranstaltung
ATTACH;FMTTYPE=image/jpeg:https://kompass-so.ch/wp-content/uploads/2024/11/null-bock_1000x550px.jpg
ORGANIZER;CN="Fachstelle kompass":MAILTO:mail@kompass-so.ch
END:VEVENT
BEGIN:VEVENT
DTSTART;TZID=Europe/Paris:20251205T194500
DTEND;TZID=Europe/Paris:20251205T214500
DTSTAMP:20260421T035441
CREATED:20250911T115249Z
LAST-MODIFIED:20251121T100817Z
UID:10000133-1764963900-1764971100@kompass-so.ch
SUMMARY:Grenzen und Regeln – motivieren statt strafen (2596)
DESCRIPTION:Für Eltern von 2- bis 16-jähri­gen Kindern / online \nEltern wer­den Wege aufgezeigt\, wie sie in stres­si­gen Sit­u­a­tio­nen ohne Strafen und Schreien ihr Kind zum gewün­scht­en Ver­hal­ten motivieren kön­nen. Sie erken­nen\, was ihnen in der Erziehung wirk­lich wichtig ist\, set­zen selb­st­be­wusst Gren­zen und fordern gewalt­frei Regeln ein. \n			\n			\n				\n				\n				\n				\n			\n				\n				\n				\n				\n				\n				\n			\n				\n				\n				\n				\n				Kursanmeldung für den Kurs vom 5. Dezember 2025\, online\, Grenzen und Regeln – motivieren statt strafen (2596)\n				\n				\n				\n					\n						\n				\n				\n				\n				\n				Anrede*\n				\n						Anrede*FrauHerr\n					\n			 \n				\n				\n				\n				\n				Vor­name*\n				\n			 \n				\n				\n				\n				\n				Name*\n				\n			 \n				\n				\n				\n				\n				Strasse*\n				\n			 \n				\n				\n				\n				\n				PLZ / Ort*\n				\n			 \n				\n				\n				\n				\n				Tele­fon*\n				\n			 \n				\n				\n				\n				\n				E‑Mail-Adresse*\n				\n			 \n				\n				\n				\n				\n				Nachricht\n				\n			 \n						\n						\n							\n			\n				\n					11 + 3 = \n				 \n			\n							Anmelden\n						\n						\n					\n				\n			\n			\n			\n				\n				\n				\n				\n				\n				\n				\n				\n				\n				Kosten Einzelver­anstal­tungDie Teil­nehmenden aus dem Kan­ton Solothurn kön­nen frei nach ihren per­sön­lichen Möglichkeit­en entschei­den\, welchen Betrag sie für die Ver­anstal­tung bezahlen möcht­en. Richtwert CHF 10.–.Für Per­so­n­en ausser­halb des Kan­ton Solothurn gilt ein Min­dest­be­trag von CHF 20.– \nNach dem Absenden dieses For­mu­la­rs erhal­ten Sie eine automa­tis­che Anmeldebestä­ti­gung per E‑Mail. Die defin­i­tive Kurs­bestä­ti­gung erhal­ten Sie spätestens 3 Tage vor dem Anlass per E‑Mail. \nDie Anmel­dung ist verbindlich.Soll­ten Sie ver­hin­dert sein\, bit­ten wir Sie um frühzeit­ige Mit­teilung.
URL:https://kompass-so.ch/event/grenzen-und-regeln-motivieren-statt-strafen-2596/
LOCATION:Online
CATEGORIES:Einzelveranstaltung
ATTACH;FMTTYPE=image/jpeg:https://kompass-so.ch/wp-content/uploads/2024/11/grenzen-und-regeln_1000x550px.jpg
ORGANIZER;CN="Fachstelle kompass":MAILTO:mail@kompass-so.ch
END:VEVENT
END:VCALENDAR