BEGIN:VCALENDAR
VERSION:2.0
PRODID:-//kompass - ECPv6.15.20//NONSGML v1.0//EN
CALSCALE:GREGORIAN
METHOD:PUBLISH
X-WR-CALNAME:kompass
X-ORIGINAL-URL:https://kompass-so.ch
X-WR-CALDESC:Veranstaltungen für kompass
REFRESH-INTERVAL;VALUE=DURATION:PT1H
X-Robots-Tag:noindex
X-PUBLISHED-TTL:PT1H
BEGIN:VTIMEZONE
TZID:Europe/Paris
BEGIN:DAYLIGHT
TZOFFSETFROM:+0100
TZOFFSETTO:+0200
TZNAME:CEST
DTSTART:20240331T010000
END:DAYLIGHT
BEGIN:STANDARD
TZOFFSETFROM:+0200
TZOFFSETTO:+0100
TZNAME:CET
DTSTART:20241027T010000
END:STANDARD
BEGIN:DAYLIGHT
TZOFFSETFROM:+0100
TZOFFSETTO:+0200
TZNAME:CEST
DTSTART:20250330T010000
END:DAYLIGHT
BEGIN:STANDARD
TZOFFSETFROM:+0200
TZOFFSETTO:+0100
TZNAME:CET
DTSTART:20251026T010000
END:STANDARD
BEGIN:DAYLIGHT
TZOFFSETFROM:+0100
TZOFFSETTO:+0200
TZNAME:CEST
DTSTART:20260329T010000
END:DAYLIGHT
BEGIN:STANDARD
TZOFFSETFROM:+0200
TZOFFSETTO:+0100
TZNAME:CET
DTSTART:20261025T010000
END:STANDARD
END:VTIMEZONE
BEGIN:VEVENT
DTSTART;TZID=Europe/Paris:20250806T191500
DTEND;TZID=Europe/Paris:20250806T214500
DTSTAMP:20260421T222138
CREATED:20250627T090836Z
LAST-MODIFIED:20250627T090857Z
UID:10000126-1754507700-1754516700@kompass-so.ch
SUMMARY:SESK Basis (2513)
DESCRIPTION:Für alle Eltern / in Olten \nKinder auf dem Weg zu selb­st­ständi­gen\, ver­ant­wor­tungs­be­wussten und zufriede­nen Men­schen zu begleit­en\, ist eine anspruchsvolle Auf­gabe. Viele Eltern fühlen sich unsich­er und über­fordert. Der Kurs «Starke Eltern – Starke Kinder» gibt den Eltern mehr Sicher­heit und trägt zu einem entspan­nteren Fam­i­lien­all­t­ag bei. \nIm Basiskurs set­zen sich Eltern damit auseinan­der\, was ihnen in der Erziehung wichtig ist\, wie sie ihre Bedürfnisse und Gefüh­le aus­drück­en und sich mit ihrem Kind bess­er ver­ständi­gen kön­nen. \nDauer: 4 Kursabende à 2.5 hKurs­dat­en: 6. August\, 13. August\, 20. August\, 27. August 2025Kosten: CHF 160.– / Eltern­teil\, CHF 240.– / Eltern­paar \n			\n			\n				\n				\n				\n				\n			\n				\n				\n				\n				\n				\n				\n			\n				\n				\n				\n				\n				Kursanmeldung für den Kurs vom 6. August 2025 in Olten \, SESK Basis (2513)\n				\n				\n				\n					\n						\n				\n				\n				\n				\n				Anrede*\n				\n						Anrede*FrauHerr\n					\n			 \n				\n				\n				\n				\n				Vor­name*\n				\n			 \n				\n				\n				\n				\n				Name*\n				\n			 \n				\n				\n				\n				\n				Strasse*\n				\n			 \n				\n				\n				\n				\n				PLZ / Ort*\n				\n			 \n				\n				\n				\n				\n				Tele­fon*\n				\n			 \n				\n				\n				\n				\n				E‑Mail-Adresse*\n				\n			 \n				\n				\n				\n				\n				Nachricht\n				\n			 \n						\n						\n							\n			\n				\n					11 + 12 = \n				 \n			\n							Anmelden\n						\n						\n					\n				\n			\n			\n			\n				\n				\n				\n				\n				\n				\n				\n				\n				\n				Kosten mehrteilige Ver­anstal­tungCHF 160.– / Eltern­teilCHF 240.– / Eltern­paar \nNach dem Absenden dieses For­mu­la­rs erhal­ten Sie eine automa­tis­che Anmeldebestä­ti­gung per E‑Mail. Die defin­i­tive Kurs­bestä­ti­gung erhal­ten Sie spätestens 1 Woche vor dem Anlass per E‑Mail. \nDie Anmel­dung ist verbindlich.Soll­ten Sie ver­hin­dert sein\, bit­ten wir Sie um frühzeit­ige Mit­teilung.
URL:https://kompass-so.ch/event/sesk-basis-2513/
LOCATION:Olten
CATEGORIES:Mehrteiliger Kurs
ATTACH;FMTTYPE=image/jpeg:https://kompass-so.ch/wp-content/uploads/2024/11/sesk-mit-logo_1000x550px.jpg
ORGANIZER;CN="Fachstelle kompass":MAILTO:mail@kompass-so.ch
END:VEVENT
BEGIN:VEVENT
DTSTART;TZID=Europe/Paris:20250819T090000
DTEND;TZID=Europe/Paris:20250819T113000
DTSTAMP:20260421T222138
CREATED:20241203T140857Z
LAST-MODIFIED:20241210T132539Z
UID:10000094-1755594000-1755603000@kompass-so.ch
SUMMARY:Starke Grosseltern – Starke Kinder (2517)
DESCRIPTION:Für alle Grossel­tern / in Oensin­gen \nBei aller Freude mit den Enkel\, kann es schwierig sein\, als Grossel­tern den richti­gen Platz in der Fam­i­lie zu find­en\, den ver­schiede­nen Anforderun­gen gerecht zu wer­den und sich dabei selb­st nicht zu vergessen. In diesem Kurs wird über den Wert und die Rolle der Grossel­tern gesprochen und wie ein wertschätzen­des Zusam­men­leben gestal­tet wer­den kann. \nDauer: 3 Kursmor­gen à 2.5 hKurs­dat­en: 19. August\, 26. August\, 2. Sep­tem­ber 2025Kosten: CHF 120.– / Einzelper­son\, CHF 200.– / Paar \n			\n			\n				\n				\n				\n				\n			\n				\n				\n				\n				\n				\n				\n			\n				\n				\n				\n				\n				Kursanmeldung für den Kurs vom 19. August 2025 in Oensingen\, Starke Grosseltern – Starke Kinder (2517)\n				\n				\n				\n					\n						\n				\n				\n				\n				\n				Anrede*\n				\n						Anrede*FrauHerr\n					\n			 \n				\n				\n				\n				\n				Vor­name*\n				\n			 \n				\n				\n				\n				\n				Name*\n				\n			 \n				\n				\n				\n				\n				Strasse*\n				\n			 \n				\n				\n				\n				\n				PLZ / Ort*\n				\n			 \n				\n				\n				\n				\n				Tele­fon*\n				\n			 \n				\n				\n				\n				\n				E‑Mail-Adresse*\n				\n			 \n				\n				\n				\n				\n				Nachricht\n				\n			 \n						\n						\n							\n			\n				\n					2 + 6 = \n				 \n			\n							Anmelden\n						\n						\n					\n				\n			\n			\n			\n				\n				\n				\n				\n				\n				\n				\n				\n				\n				Kosten mehrteilige Ver­anstal­tung\nCHF 120.– / Einzelper­son\nCHF 200.– / Paar\nNach dem Absenden dieses For­mu­la­rs erhal­ten Sie eine automa­tis­che Anmeldebestä­ti­gung per E‑Mail. Die defin­i­tive Kurs­bestä­ti­gung erhal­ten Sie spätestens 1 Woche vor dem Anlass per E‑Mail. \nDie Anmel­dung ist verbindlich.\nSoll­ten Sie ver­hin­dert sein\, bit­ten wir Sie um frühzeit­ige Mit­teilung.
URL:https://kompass-so.ch/event/starke-grosseltern-starke-kinder-2517/
LOCATION:Oensingen
CATEGORIES:Mehrteiliger Kurs
ATTACH;FMTTYPE=image/jpeg:https://kompass-so.ch/wp-content/uploads/2024/11/starke-grosseltern_1000x550px.jpg
ORGANIZER;CN="Fachstelle kompass":MAILTO:mail@kompass-so.ch
END:VEVENT
BEGIN:VEVENT
DTSTART;TZID=Europe/Paris:20250819T191500
DTEND;TZID=Europe/Paris:20250819T211500
DTSTAMP:20260421T222138
CREATED:20241201T160337Z
LAST-MODIFIED:20241211T104329Z
UID:10000050-1755630900-1755638100@kompass-so.ch
SUMMARY:Grenzen und Regeln – motivieren statt strafen (2563)
DESCRIPTION:Für Eltern von 2- bis 16-jähri­gen Kindern / in Büsser­ach \nEltern wer­den Wege aufgezeigt\, wie sie in stres­si­gen Sit­u­a­tio­nen ohne Strafen und Schreien ihr Kind zum gewün­scht­en Ver­hal­ten motivieren kön­nen. Sie erken­nen\, was ihnen in der Erziehung wirk­lich wichtig ist\, set­zen selb­st­be­wusst Gren­zen und fordern gewalt­frei Regeln ein. \n			\n			\n				\n				\n				\n				\n			\n				\n				\n				\n				\n				\n				\n			\n				\n				\n				\n				\n				Kursanmeldung für den Kurs vom 19. August 2025 in Büsserach\, Grenzen und Regeln – motivieren statt strafen (2563)\n				\n				\n				\n					\n						\n				\n				\n				\n				\n				Anrede*\n				\n						Anrede*FrauHerr\n					\n			 \n				\n				\n				\n				\n				Vor­name*\n				\n			 \n				\n				\n				\n				\n				Name*\n				\n			 \n				\n				\n				\n				\n				Strasse*\n				\n			 \n				\n				\n				\n				\n				PLZ / Ort*\n				\n			 \n				\n				\n				\n				\n				Tele­fon*\n				\n			 \n				\n				\n				\n				\n				E‑Mail-Adresse*\n				\n			 \n				\n				\n				\n				\n				Nachricht\n				\n			 \n						\n						\n							\n			\n				\n					15 + 5 = \n				 \n			\n							Anmelden\n						\n						\n					\n				\n			\n			\n			\n				\n				\n				\n				\n				\n				\n				\n				\n				\n				Kosten Einzelver­anstal­tung\nDie Teil­nehmenden aus dem Kan­ton Solothurn kön­nen frei nach ihren per­sön­lichen Möglichkeit­en entschei­den\, welchen Betrag sie für die Ver­anstal­tung bezahlen möcht­en. Richtwert CHF 10.–.\nFür Per­so­n­en ausser­halb des Kan­ton Solothurn gilt ein Min­dest­be­trag von CHF 20.–\nNach dem Absenden dieses For­mu­la­rs erhal­ten Sie eine automa­tis­che Anmeldebestä­ti­gung per E‑Mail. Die defin­i­tive Kurs­bestä­ti­gung erhal­ten Sie spätestens 1 Woche vor dem Anlass per E‑Mail. \nDie Anmel­dung ist verbindlich.\nSoll­ten Sie ver­hin­dert sein\, bit­ten wir Sie um frühzeit­ige Mit­teilung.
URL:https://kompass-so.ch/event/grenzen-und-regeln-motivieren-statt-strafen-2563/
LOCATION:Büsserach
CATEGORIES:Einzelveranstaltung
ATTACH;FMTTYPE=image/jpeg:https://kompass-so.ch/wp-content/uploads/2024/11/grenzen-und-regeln_1000x550px.jpg
ORGANIZER;CN="Fachstelle kompass":MAILTO:mail@kompass-so.ch
END:VEVENT
BEGIN:VEVENT
DTSTART;TZID=Europe/Paris:20250821T194500
DTEND;TZID=Europe/Paris:20250821T203000
DTSTAMP:20260421T222138
CREATED:20241205T134105Z
LAST-MODIFIED:20241211T144121Z
UID:10000105-1755805500-1755808200@kompass-so.ch
SUMMARY:Kurz und knackig: MeTime – Selbstfürsorge für Mütter und Väter (2592.8)
DESCRIPTION:Für Eltern von 0- bis 16-jähri­gen Kindern / online \nMeTime – Selb­st­für­sorge für Müt­ter und VäterKurz gehal­tene Online-Diskus­sion­srunde (45 Minuten) zu ver­schiede­nen Erziehungs­the­men. \n			\n			\n				\n				\n				\n				\n			\n				\n				\n				\n				\n				\n				\n			\n				\n				\n				\n				\n				Anmeldung für die Veranstaltung vom 21. August 2025\, online\, Kurz und knackig (2592.8)\n				\n				\n				\n					\n						\n				\n				\n				\n				\n				Anrede*\n				\n						Anrede*FrauHerr\n					\n			 \n				\n				\n				\n				\n				Vor­name*\n				\n			 \n				\n				\n				\n				\n				Name*\n				\n			 \n				\n				\n				\n				\n				Strasse*\n				\n			 \n				\n				\n				\n				\n				PLZ / Ort*\n				\n			 \n				\n				\n				\n				\n				Tele­fon*\n				\n			 \n				\n				\n				\n				\n				E‑Mail-Adresse*\n				\n			 \n				\n				\n				\n				\n				Nachricht\n				\n			 \n						\n						\n							\n			\n				\n					14 + 10 = \n				 \n			\n							Anmelden\n						\n						\n					\n				\n			\n			\n			\n				\n				\n				\n				\n				\n				\n				\n				\n				\n				Kosten Einzelver­anstal­tung\nDie Teil­nehmenden aus dem Kan­ton Solothurn kön­nen frei nach ihren per­sön­lichen Möglichkeit­en entschei­den\, welchen Betrag sie für die Ver­anstal­tung bezahlen möcht­en.\nFür Per­so­n­en ausser­halb des Kan­ton Solothurn gilt ein Min­dest­be­trag von CHF 20.–\nNach dem Absenden dieses For­mu­la­rs erhal­ten Sie eine automa­tis­che Anmeldebestä­ti­gung per E‑Mail. Die defin­i­tive Kurs­bestä­ti­gung erhal­ten Sie spätestens 3 Tage vor dem Anlass per E‑Mail. \nDie Anmel­dung ist verbindlich.\nSoll­ten Sie ver­hin­dert sein\, bit­ten wir Sie um frühzeit­ige Mit­teilung.
URL:https://kompass-so.ch/event/kurz-und-knackig-2592_8/
LOCATION:Online
CATEGORIES:Einzelveranstaltung
ATTACH;FMTTYPE=image/jpeg:https://kompass-so.ch/wp-content/uploads/2024/12/kurz-und-knackig-gewaltfrei-erziehen-iStock-1325578537_1000x550px.jpg
ORGANIZER;CN="Fachstelle kompass":MAILTO:mail@kompass-so.ch
END:VEVENT
BEGIN:VEVENT
DTSTART;TZID=Europe/Paris:20250828T191500
DTEND;TZID=Europe/Paris:20250828T214500
DTSTAMP:20260421T222138
CREATED:20250627T091110Z
LAST-MODIFIED:20250806T085941Z
UID:10000127-1756408500-1756417500@kompass-so.ch
SUMMARY:SESK Basis (2512)
DESCRIPTION:Für alle Eltern / online \nKinder auf dem Weg zu selb­st­ständi­gen\, ver­ant­wor­tungs­be­wussten und zufriede­nen Men­schen zu begleit­en\, ist eine anspruchsvolle Auf­gabe. Viele Eltern fühlen sich unsich­er und über­fordert. Der Kurs «Starke Eltern – Starke Kinder» gibt den Eltern mehr Sicher­heit und trägt zu einem entspan­nteren Fam­i­lien­all­t­ag bei. \nIm Basiskurs set­zen sich Eltern damit auseinan­der\, was ihnen in der Erziehung wichtig ist\, wie sie ihre Bedürfnisse und Gefüh­le aus­drück­en und sich mit ihrem Kind bess­er ver­ständi­gen kön­nen. \nDauer: 4 Kursabende à 2.5 hKurs­dat­en: 28. August\, 4. Sep­tem­ber\, 11. Sep­tem­ber\, 18. Sep­tem­ber 2025Kosten: CHF 160.– / Eltern­teil\, CHF 240.– / Eltern­paar \n			\n			\n				\n				\n				\n				\n			\n				\n				\n				\n				\n				\n				\n			\n				\n				\n				\n				\n				Kursanmeldung für den Kurs vom 28. August 2025\, online\, SESK Basis (2512)\n				\n				\n				\n					\n						\n				\n				\n				\n				\n				Anrede*\n				\n						Anrede*FrauHerr\n					\n			 \n				\n				\n				\n				\n				Vor­name*\n				\n			 \n				\n				\n				\n				\n				Name*\n				\n			 \n				\n				\n				\n				\n				Strasse*\n				\n			 \n				\n				\n				\n				\n				PLZ / Ort*\n				\n			 \n				\n				\n				\n				\n				Tele­fon*\n				\n			 \n				\n				\n				\n				\n				E‑Mail-Adresse*\n				\n			 \n				\n				\n				\n				\n				Nachricht\n				\n			 \n						\n						\n							\n			\n				\n					10 + 10 = \n				 \n			\n							Anmelden\n						\n						\n					\n				\n			\n			\n			\n				\n				\n				\n				\n				\n				\n				\n				\n				\n				Kosten mehrteilige Ver­anstal­tung\nCHF 160.– / Eltern­teil\nCHF 240.– / Eltern­paar\nNach dem Absenden dieses For­mu­la­rs erhal­ten Sie eine automa­tis­che Anmeldebestä­ti­gung per E‑Mail. Die defin­i­tive Kurs­bestä­ti­gung erhal­ten Sie spätestens 1 Woche vor dem Anlass per E‑Mail. \nDie Anmel­dung ist verbindlich.\nSoll­ten Sie ver­hin­dert sein\, bit­ten wir Sie um frühzeit­ige Mit­teilung.
URL:https://kompass-so.ch/event/sesk-basis-2512/
LOCATION:Online
CATEGORIES:Mehrteiliger Kurs
ATTACH;FMTTYPE=image/jpeg:https://kompass-so.ch/wp-content/uploads/2024/11/sesk-mit-logo_1000x550px.jpg
ORGANIZER;CN="Fachstelle kompass":MAILTO:mail@kompass-so.ch
END:VEVENT
BEGIN:VEVENT
DTSTART;TZID=Europe/Paris:20250829T194500
DTEND;TZID=Europe/Paris:20250829T214500
DTSTAMP:20260421T222138
CREATED:20241202T092549Z
LAST-MODIFIED:20241211T141301Z
UID:10000064-1756496700-1756503900@kompass-so.ch
SUMMARY:Lernen – so gehts besser (2579)
DESCRIPTION:Für Eltern von 6- bis 12-jähri­gen Kindern / online \n«Soll­test du nicht noch Hausauf­gaben erledi­gen?» Sätze die Eltern immer wieder über die Lip­pen gehen und doch nicht zum erwün­scht­en Erfolg führen. Welche Strate­gien helfen\, dass Kinder lieber ler­nen und selb­st­ständi­ger wer­den\, ohne dabei Druck ausüben zu müssen? \n			\n			\n				\n				\n				\n				\n			\n				\n				\n				\n				\n				\n				\n			\n				\n				\n				\n				\n				Kursanmeldung für den Kurs vom 29. August 2025\, online\, Lernen – so gehts besser (2579)\n				\n				\n				\n					\n						\n				\n				\n				\n				\n				Anrede*\n				\n						Anrede*FrauHerr\n					\n			 \n				\n				\n				\n				\n				Vor­name*\n				\n			 \n				\n				\n				\n				\n				Name*\n				\n			 \n				\n				\n				\n				\n				Strasse*\n				\n			 \n				\n				\n				\n				\n				PLZ / Ort*\n				\n			 \n				\n				\n				\n				\n				Tele­fon*\n				\n			 \n				\n				\n				\n				\n				E‑Mail-Adresse*\n				\n			 \n				\n				\n				\n				\n				Nachricht\n				\n			 \n						\n						\n							\n			\n				\n					11 + 5 = \n				 \n			\n							Anmelden\n						\n						\n					\n				\n			\n			\n			\n				\n				\n				\n				\n				\n				\n				\n				\n				\n				Kosten Einzelver­anstal­tungDie Teil­nehmenden aus dem Kan­ton Solothurn kön­nen frei nach ihren per­sön­lichen Möglichkeit­en entschei­den\, welchen Betrag sie für die Ver­anstal­tung bezahlen möcht­en. Richtwert CHF 10.–.Für Per­so­n­en ausser­halb des Kan­ton Solothurn gilt ein Min­dest­be­trag von CHF 20.– \nNach dem Absenden dieses For­mu­la­rs erhal­ten Sie eine automa­tis­che Anmeldebestä­ti­gung per E‑Mail. Die defin­i­tive Kurs­bestä­ti­gung erhal­ten Sie spätestens 3 Tage vor dem Anlass per E‑Mail. \nDie Anmel­dung ist verbindlich.Soll­ten Sie ver­hin­dert sein\, bit­ten wir Sie um frühzeit­ige Mit­teilung.
URL:https://kompass-so.ch/event/lernen-so-gehts-besser-2579/
LOCATION:Online
CATEGORIES:Einzelveranstaltung
ATTACH;FMTTYPE=image/jpeg:https://kompass-so.ch/wp-content/uploads/2024/11/lernen-1000x550px.jpg
ORGANIZER;CN="Fachstelle kompass":MAILTO:mail@kompass-so.ch
END:VEVENT
END:VCALENDAR