BEGIN:VCALENDAR
VERSION:2.0
PRODID:-//kompass - ECPv6.15.20//NONSGML v1.0//EN
CALSCALE:GREGORIAN
METHOD:PUBLISH
X-WR-CALNAME:kompass
X-ORIGINAL-URL:https://kompass-so.ch
X-WR-CALDESC:Veranstaltungen für kompass
REFRESH-INTERVAL;VALUE=DURATION:PT1H
X-Robots-Tag:noindex
X-PUBLISHED-TTL:PT1H
BEGIN:VTIMEZONE
TZID:Europe/Paris
BEGIN:DAYLIGHT
TZOFFSETFROM:+0100
TZOFFSETTO:+0200
TZNAME:CEST
DTSTART:20250330T010000
END:DAYLIGHT
BEGIN:STANDARD
TZOFFSETFROM:+0200
TZOFFSETTO:+0100
TZNAME:CET
DTSTART:20251026T010000
END:STANDARD
BEGIN:DAYLIGHT
TZOFFSETFROM:+0100
TZOFFSETTO:+0200
TZNAME:CEST
DTSTART:20260329T010000
END:DAYLIGHT
BEGIN:STANDARD
TZOFFSETFROM:+0200
TZOFFSETTO:+0100
TZNAME:CET
DTSTART:20261025T010000
END:STANDARD
BEGIN:DAYLIGHT
TZOFFSETFROM:+0100
TZOFFSETTO:+0200
TZNAME:CEST
DTSTART:20270328T010000
END:DAYLIGHT
BEGIN:STANDARD
TZOFFSETFROM:+0200
TZOFFSETTO:+0100
TZNAME:CET
DTSTART:20271031T010000
END:STANDARD
END:VTIMEZONE
BEGIN:VEVENT
DTSTART;TZID=Europe/Paris:20261111T191500
DTEND;TZID=Europe/Paris:20261111T214500
DTSTAMP:20260421T042211
CREATED:20260311T095207Z
LAST-MODIFIED:20260311T095357Z
UID:10000220-1794424500-1794433500@kompass-so.ch
SUMMARY:Eltern werden – Eltern sein (2670)
DESCRIPTION:Für wer­dende Eltern / in Obergös­gen \nMut­ter oder Vater zu wer­den ist mit vie­len Verän­derun­gen ver­bun­den. Diese Zeit ist gle­ich­wohl span­nend wie her­aus­fordernd. Die bish­erige Lebensweise wird auf den Kopf gestellt; Beziehun­gen verän­dern sich. Erwerb­stätige sind zusät­zlich gefordert bei der Vere­in­barkeit von Fam­i­lie und Beruf. Eltern set­zen sich damit auseinan­der\, wie sie als junge Fam­i­lie zusam­men­leben wollen. \nDauer: 2 Kursabende à 2.5 hKurs­dat­en: 11. Novem­ber und 18. Novem­ber 2026Kosten: CHF 120.– / Eltern­paar \n			\n			\n				\n				\n				\n				\n			\n				\n				\n				\n				\n				\n				\n			\n				\n				\n				\n				\n				Kursanmeldung für den Kurs vom 11. November 2026\, in Obergösgen\, Eltern werden – Eltern sein (2670)\n				\n				\n				\n					\n						\n				\n				\n				\n				\n				Anrede*\n				\n						Anrede*FrauHerr\n					\n			 \n				\n				\n				\n				\n				Vor­name*\n				\n			 \n				\n				\n				\n				\n				Name*\n				\n			 \n				\n				\n				\n				\n				Strasse*\n				\n			 \n				\n				\n				\n				\n				PLZ / Ort*\n				\n			 \n				\n				\n				\n				\n				Tele­fon*\n				\n			 \n				\n				\n				\n				\n				E‑Mail-Adresse*\n				\n			 \n				\n				\n				\n				\n				Nachricht\n				\n			 \n						\n						\n							\n			\n				\n					8 + 1 = \n				 \n			\n							Anmelden\n						\n						\n					\n				\n			\n			\n			\n				\n				\n				\n				\n				\n				\n				\n				\n				\n				Kosten mehrteilige Ver­anstal­tung\nCHF 120.– / Eltern­paar\nNach dem Absenden dieses For­mu­la­rs erhal­ten Sie eine automa­tis­che Anmeldebestä­ti­gung per E‑Mail. Die defin­i­tive Kurs­bestä­ti­gung erhal­ten Sie spätestens 1 Woche vor dem Anlass per E‑Mail. \nDie Anmel­dung ist verbindlich.\nSoll­ten Sie ver­hin­dert sein\, bit­ten wir Sie um frühzeit­ige Mit­teilung.
URL:https://kompass-so.ch/event/eltern-werden-eltern-sein-2670/
LOCATION:Obergösgen
CATEGORIES:Mehrteiliger Kurs
ATTACH;FMTTYPE=image/jpeg:https://kompass-so.ch/wp-content/uploads/2024/11/eltern-werden-1000x550px.jpg
ORGANIZER;CN="Fachstelle kompass":MAILTO:mail@kompass-so.ch
END:VEVENT
BEGIN:VEVENT
DTSTART;TZID=Europe/Paris:20261111T201500
DTEND;TZID=Europe/Paris:20261111T221500
DTSTAMP:20260421T042212
CREATED:20260311T104626Z
LAST-MODIFIED:20260311T104744Z
UID:10000225-1794428100-1794435300@kompass-so.ch
SUMMARY:Starke Gefühle bei Kindern – so unterstützen Sie Ihr Kind (2682)
DESCRIPTION:Für Eltern von 4- bis 10-jähri­gen Kindern / online \nFrus­tra­tion\, Wut\, Angst oder Trau­rigkeit gehören zur Gefühlswelt der Kinder dazu. Wie kön­nen Eltern in solchen Momenten beson­nen reagieren und ihren Kindern einen unter­stützen­den Umgang mit Gefühlen lehren? \n			\n			\n				\n				\n				\n				\n			\n				\n				\n				\n				\n				\n				\n			\n				\n				\n				\n				\n				Kursanmeldung für den Kurs vom 11. Nov. 2026\, online\, Starke Gefühle bei Kindern – so unterstützen Sie Ihr Kind (2682)\n				\n				\n				\n					\n						\n				\n				\n				\n				\n				Anrede*\n				\n						Anrede*FrauHerr\n					\n			 \n				\n				\n				\n				\n				Vor­name*\n				\n			 \n				\n				\n				\n				\n				Name*\n				\n			 \n				\n				\n				\n				\n				Strasse*\n				\n			 \n				\n				\n				\n				\n				PLZ / Ort*\n				\n			 \n				\n				\n				\n				\n				Tele­fon*\n				\n			 \n				\n				\n				\n				\n				E‑Mail-Adresse*\n				\n			 \n				\n				\n				\n				\n				Nachricht\n				\n			 \n						\n						\n							\n			\n				\n					8 + 5 = \n				 \n			\n							Anmelden\n						\n						\n					\n				\n			\n			\n			\n				\n				\n				\n				\n				\n				\n				\n				\n				\n				Kosten Einzelver­anstal­tung\nDie Teil­nehmenden aus dem Kan­ton Solothurn kön­nen frei nach ihren per­sön­lichen Möglichkeit­en entschei­den\, welchen Betrag sie für die Ver­anstal­tung bezahlen möcht­en. Richtwert CHF 10.–.\nFür Per­so­n­en ausser­halb des Kan­ton Solothurn gilt ein Min­dest­be­trag von CHF 20.–\nNach dem Absenden dieses For­mu­la­rs erhal­ten Sie eine automa­tis­che Anmeldebestä­ti­gung per E‑Mail. Die defin­i­tive Kurs­bestä­ti­gung erhal­ten Sie spätestens 1 Woche vor dem Anlass per E‑Mail. \nDie Anmel­dung ist verbindlich.\nSoll­ten Sie ver­hin­dert sein\, bit­ten wir Sie um frühzeit­ige Mit­teilung.
URL:https://kompass-so.ch/event/starke-gefuehle-bei-kindern-so-unterstuetzen-sie-ihr-kind-2682/
LOCATION:Online
CATEGORIES:Einzelveranstaltung
ATTACH;FMTTYPE=image/jpeg:https://kompass-so.ch/wp-content/uploads/2024/11/starke-gefuehle_1000x550px.jpg
ORGANIZER;CN="Fachstelle kompass":MAILTO:mail@kompass-so.ch
END:VEVENT
END:VCALENDAR