BEGIN:VCALENDAR
VERSION:2.0
PRODID:-//kompass - ECPv6.15.20//NONSGML v1.0//EN
CALSCALE:GREGORIAN
METHOD:PUBLISH
X-ORIGINAL-URL:https://kompass-so.ch
X-WR-CALDESC:Veranstaltungen für kompass
REFRESH-INTERVAL;VALUE=DURATION:PT1H
X-Robots-Tag:noindex
X-PUBLISHED-TTL:PT1H
BEGIN:VTIMEZONE
TZID:Europe/Paris
BEGIN:DAYLIGHT
TZOFFSETFROM:+0100
TZOFFSETTO:+0200
TZNAME:CEST
DTSTART:20250330T010000
END:DAYLIGHT
BEGIN:STANDARD
TZOFFSETFROM:+0200
TZOFFSETTO:+0100
TZNAME:CET
DTSTART:20251026T010000
END:STANDARD
BEGIN:DAYLIGHT
TZOFFSETFROM:+0100
TZOFFSETTO:+0200
TZNAME:CEST
DTSTART:20260329T010000
END:DAYLIGHT
BEGIN:STANDARD
TZOFFSETFROM:+0200
TZOFFSETTO:+0100
TZNAME:CET
DTSTART:20261025T010000
END:STANDARD
BEGIN:DAYLIGHT
TZOFFSETFROM:+0100
TZOFFSETTO:+0200
TZNAME:CEST
DTSTART:20270328T010000
END:DAYLIGHT
BEGIN:STANDARD
TZOFFSETFROM:+0200
TZOFFSETTO:+0100
TZNAME:CET
DTSTART:20271031T010000
END:STANDARD
END:VTIMEZONE
BEGIN:VEVENT
DTSTART;TZID=Europe/Paris:20260829T090000
DTEND;TZID=Europe/Paris:20260829T163000
DTSTAMP:20260420T114838
CREATED:20251015T144023Z
LAST-MODIFIED:20260325T131835Z
UID:10000134-1787994000-1788021000@kompass-so.ch
SUMMARY:Basiskurs für Pflegeeltern 1. Tag: Einführung und Grundlagen
DESCRIPTION:Für Pflegeel­tern — auch ver­wandtschaftliche und MNA-Pflegeel­tern / Solothurn \nAm ersten Kurstag ste­ht die Auseinan­der­set­zung mit der Rolle als Pflegeel­tern im Mit­telpunkt. Gemein­sam reflek­tieren wir Erwartun­gen\, Hoff­nun­gen und mögliche Bedenken\, die mit dieser beson­deren Auf­gabe ver­bun­den sind. Was bedeutet es\, einem Kind Gebor­gen­heit zu schenken\, ohne dabei die leib­lichen Eltern zu erset­zen? In einem offe­nen Aus­tausch beleucht­en wir die Her­aus­forderun­gen und Chan­cen dieser Rolle. The­men wie Bindungs­the­o­rie\, Beziehungs­gestal­tung\, Trau­ma und Biografiear­beit bilden eben­so Inhalte des Tages. Zum Abschluss wid­men wir uns der Kom­mu­nika­tion: Wie kön­nen Bedürfnisse wahrgenom­men\, Kon­flik­te kon­struk­tiv bewältigt und Gespräche acht­sam geführt wer­den? Dabei liegt ein beson­der­er Fokus auf der Selb­st­für­sorge in der Kom­mu­nika­tion – wie gelingt es\, gut für sich selb­st zu sor­gen\, ohne Schuldge­füh­le zu entwick­eln? Der Kurstag bietet Raum für per­sön­liche Reflex­ion und legt eine Grund­lage für den zweit­en Kurstag. \n			\n			\n				\n				\n				\n				\n			\n				\n				\n				\n				\n				\n				\n			\n				\n				\n				\n				\n				Kursanmeldung Basiskurs für Pflegeeltern vom 29. August und 12. September 2026 / Solothurn\n				\n				\n				\n					\n						\n				\n				\n				\n				\n				Anrede*\n				\n						Anrede*FrauHerr\n					\n			 \n				\n				\n				\n				\n				Vor­name*\n				\n			 \n				\n				\n				\n				\n				Name*\n				\n			 \n				\n				\n				\n				\n				Strasse*\n				\n			 \n				\n				\n				\n				\n				PLZ / Ort*\n				\n			 \n				\n				\n				\n				\n				Tele­fon*\n				\n			 \n				\n				\n				\n				\n				E‑Mail-Adresse*\n				\n			 \n				\n				\n				\n				\n				Nachricht\n				\n			 \n						\n						\n							\n			\n				\n					14 + 13 = \n				 \n			\n							Anmelden\n						\n						\n					\n				\n			\n			\n			\n				\n				\n				\n				\n				\n				\n				\n				\n				\n				KostenDie Teil­nah­mekosten für den 2‑tägigen Basiskurs betra­gen CHF 500.– für Einzelper­so­n­en und CHF 900.– für Paare. Nach Abschluss des Basiskurs­es erhal­ten Sie eine Teil­nah­mebestä­ti­gung sowie eine Rech­nung. Der Kan­ton Solothurn unter­stützt Solothurn­er Pflegeel­tern mit Bil­dungsgutschriften. \nDie Kurs­bestä­ti­gung erhal­ten Sie eine Woche vor dem Basiskurs per E‑Mail. \nDie Anmel­dung ist verbindlich.Soll­ten Sie ver­hin­dert sein\, bit­ten wir Sie um frühzeit­ige Mit­teilung.
URL:https://kompass-so.ch/event/basiskurs-fuer-pflegeeltern-1-tag-einfuehrung-und-grundlagen/
LOCATION:Solothurn
CATEGORIES:Einzelveranstaltung
ATTACH;FMTTYPE=image/jpeg:https://kompass-so.ch/wp-content/uploads/2024/07/weiterbildung-pflegeeltern.jpg
ORGANIZER;CN="Fachstelle kompass":MAILTO:mail@kompass-so.ch
END:VEVENT
END:VCALENDAR