BEGIN:VCALENDAR
VERSION:2.0
PRODID:-//kompass - ECPv6.15.20//NONSGML v1.0//EN
CALSCALE:GREGORIAN
METHOD:PUBLISH
X-ORIGINAL-URL:https://kompass-so.ch
X-WR-CALDESC:Veranstaltungen für kompass
REFRESH-INTERVAL;VALUE=DURATION:PT1H
X-Robots-Tag:noindex
X-PUBLISHED-TTL:PT1H
BEGIN:VTIMEZONE
TZID:Europe/Paris
BEGIN:DAYLIGHT
TZOFFSETFROM:+0100
TZOFFSETTO:+0200
TZNAME:CEST
DTSTART:20250330T010000
END:DAYLIGHT
BEGIN:STANDARD
TZOFFSETFROM:+0200
TZOFFSETTO:+0100
TZNAME:CET
DTSTART:20251026T010000
END:STANDARD
BEGIN:DAYLIGHT
TZOFFSETFROM:+0100
TZOFFSETTO:+0200
TZNAME:CEST
DTSTART:20260329T010000
END:DAYLIGHT
BEGIN:STANDARD
TZOFFSETFROM:+0200
TZOFFSETTO:+0100
TZNAME:CET
DTSTART:20261025T010000
END:STANDARD
BEGIN:DAYLIGHT
TZOFFSETFROM:+0100
TZOFFSETTO:+0200
TZNAME:CEST
DTSTART:20270328T010000
END:DAYLIGHT
BEGIN:STANDARD
TZOFFSETFROM:+0200
TZOFFSETTO:+0100
TZNAME:CET
DTSTART:20271031T010000
END:STANDARD
END:VTIMEZONE
BEGIN:VEVENT
DTSTART;TZID=Europe/Paris:20260303T191500
DTEND;TZID=Europe/Paris:20260303T214500
DTSTAMP:20260419T203414
CREATED:20251121T144349Z
LAST-MODIFIED:20260219T110127Z
UID:10000142-1772565300-1772574300@kompass-so.ch
SUMMARY:SESK Starke Eltern – Starke Teenies (2604)
DESCRIPTION:Für alle Eltern von Tee­nies / in Bal­sthal \nPubertät ist eine Zeit des Umbruchs\, voller Rei­bung\, Selb­stfind­ung und wach­sender Autonomie. Die Beziehung verän­dert sich und Eltern ste­hen vor der Her­aus­forderung\, Halt zu geben\, ohne zu kon­trol­lieren und Nähe zu wahren\, ohne sich selb­st zu vergessen. \nDer SESK-Kurs stärkt Eltern\, auch in tur­bu­len­ten Phasen präsent\, klar und liebevoll zu bleiben. Statt Macht geht es um Beziehung\, statt Strafe um Sprache\, statt Druck um Präsenz. Im Zen­trum ste­hen Selb­stre­flex­ion\, Gefühle und Bedürfnisse – die eige­nen und jene der Jugendlichen. Eltern erhal­ten Impulse\, wie sie in Verbindung bleiben\, Gren­zen acht­sam set­zen und ihre Hal­tung bewusst gestal­ten. Wie gelingt Führung ohne Machtkampf? \nEltern ver­tiefen ihre Fähigkeit\, Regeln gemein­sam zu vere­in­baren und Kon­flik­te gewalt­frei zu lösen. Sie ler­nen\, psy­chis­che Gren­zver­let­zun­gen zu erken­nen und zu ver­mei­den und bauen Ver­trauen in die Selb­st­wirk­samkeit ihrer Tee­nies auf. \nDauer: 4 Kursabende à 2.5 hKurs­dat­en: 3. März\, 10. März\, 17. März\, 24. März 2026Kosten: CHF 160.– / Eltern­teil\, CHF 240.– / Eltern­paar \n			\n			\n				\n				\n				\n				\n			\n				\n				\n				\n				\n				\n				\n			\n				\n				\n				\n				\n				Kursanmeldung für den Kurs vom 3. März\, SESK Teenies in Balsthal (2604\n				\n				\n				\n					\n						\n				\n				\n				\n				\n				Anrede*\n				\n						Anrede*FrauHerr\n					\n			 \n				\n				\n				\n				\n				Vor­name*\n				\n			 \n				\n				\n				\n				\n				Name*\n				\n			 \n				\n				\n				\n				\n				Strasse*\n				\n			 \n				\n				\n				\n				\n				PLZ / Ort*\n				\n			 \n				\n				\n				\n				\n				Tele­fon*\n				\n			 \n				\n				\n				\n				\n				E‑Mail-Adresse*\n				\n			 \n				\n				\n				\n				\n				Nachricht\n				\n			 \n						\n						\n							\n			\n				\n					13 + 3 = \n				 \n			\n							Anmelden\n						\n						\n					\n				\n			\n			\n			\n				\n				\n				\n				\n				\n				\n				\n				\n				\n				Kosten mehrteilige Ver­anstal­tung\nCHF 160.– / Eltern­teil\nCHF 240.– / Eltern­paar\nNach dem Absenden dieses For­mu­la­rs erhal­ten Sie eine automa­tis­che Anmeldebestä­ti­gung per E‑Mail. Die defin­i­tive Kurs­bestä­ti­gung erhal­ten Sie spätestens 1 Woche vor dem Anlass per E‑Mail. \nDie Anmel­dung ist verbindlich.\nSoll­ten Sie ver­hin­dert sein\, bit­ten wir Sie um frühzeit­ige Mit­teilung.
URL:https://kompass-so.ch/event/sesk-starke-eltern-starke-teenies-2604/
LOCATION:Balsthal
CATEGORIES:Mehrteiliger Kurs
ATTACH;FMTTYPE=image/jpeg:https://kompass-so.ch/wp-content/uploads/2026/02/starke-eltern-starke-teenies_1000x550px.jpg
ORGANIZER;CN="Fachstelle kompass":MAILTO:mail@kompass-so.ch
END:VEVENT
END:VCALENDAR