BEGIN:VCALENDAR
VERSION:2.0
PRODID:-//kompass - ECPv6.15.20//NONSGML v1.0//EN
CALSCALE:GREGORIAN
METHOD:PUBLISH
X-WR-CALNAME:kompass
X-ORIGINAL-URL:https://kompass-so.ch
X-WR-CALDESC:Veranstaltungen für kompass
REFRESH-INTERVAL;VALUE=DURATION:PT1H
X-Robots-Tag:noindex
X-PUBLISHED-TTL:PT1H
BEGIN:VTIMEZONE
TZID:Europe/Paris
BEGIN:DAYLIGHT
TZOFFSETFROM:+0100
TZOFFSETTO:+0200
TZNAME:CEST
DTSTART:20240331T010000
END:DAYLIGHT
BEGIN:STANDARD
TZOFFSETFROM:+0200
TZOFFSETTO:+0100
TZNAME:CET
DTSTART:20241027T010000
END:STANDARD
BEGIN:DAYLIGHT
TZOFFSETFROM:+0100
TZOFFSETTO:+0200
TZNAME:CEST
DTSTART:20250330T010000
END:DAYLIGHT
BEGIN:STANDARD
TZOFFSETFROM:+0200
TZOFFSETTO:+0100
TZNAME:CET
DTSTART:20251026T010000
END:STANDARD
BEGIN:DAYLIGHT
TZOFFSETFROM:+0100
TZOFFSETTO:+0200
TZNAME:CEST
DTSTART:20260329T010000
END:DAYLIGHT
BEGIN:STANDARD
TZOFFSETFROM:+0200
TZOFFSETTO:+0100
TZNAME:CET
DTSTART:20261025T010000
END:STANDARD
END:VTIMEZONE
BEGIN:VEVENT
DTSTART;TZID=Europe/Paris:20251112T190000
DTEND;TZID=Europe/Paris:20251112T210000
DTSTAMP:20260421T153636
CREATED:20250821T082427Z
LAST-MODIFIED:20250821T082603Z
UID:10000130-1762974000-1762981200@kompass-so.ch
SUMMARY:Wüten\, toben\, traurig sein
DESCRIPTION:Für Eltern von 2- bis 6‑jährigen Kindern / in Oensin­genIn Koop­er­a­tion mit der Müt­ter- und Väter­ber­atung Thal-Gäu \nWenn Kinder plöt­zlich schreien\, wild um sich schla­gen oder schein­bar unaufhör­lich weinen\, sind Eltern stark gefordert.Wie sollen sie sich in diesen Sit­u­a­tio­nen ver­hal­ten? Wie kön­nen sie ihre Kinder im Umgang mit Trotzan­fällen und anderen starken Gefühlen unter­stützen? \nVer­anstal­tung­sort: Feuer­wehrmagazin. Müh­le­feld­strasse 3\, 4702 Oensin­genKosten: Richtwert 10.– (Kollekte/ QR Code Twint vor Ort) \nAnmel­dung: bei der Müt­ter- Väter­ber­a­terin Gaby Eggen­berg­er\, gaby.eggenberger@sozialregion.ch oder 077 528 59 80
URL:https://kompass-so.ch/event/wueten-toben-traurig-sein/
LOCATION:Oensingen
CATEGORIES:Einzelveranstaltung
ATTACH;FMTTYPE=image/jpeg:https://kompass-so.ch/wp-content/uploads/2024/11/starke-gefuehle_1000x550px.jpg
ORGANIZER;CN="Fachstelle kompass":MAILTO:mail@kompass-so.ch
END:VEVENT
END:VCALENDAR