BEGIN:VCALENDAR
VERSION:2.0
PRODID:-//kompass - ECPv6.15.20//NONSGML v1.0//EN
CALSCALE:GREGORIAN
METHOD:PUBLISH
X-ORIGINAL-URL:https://kompass-so.ch
X-WR-CALDESC:Veranstaltungen für kompass
REFRESH-INTERVAL;VALUE=DURATION:PT1H
X-Robots-Tag:noindex
X-PUBLISHED-TTL:PT1H
BEGIN:VTIMEZONE
TZID:Europe/Paris
BEGIN:DAYLIGHT
TZOFFSETFROM:+0100
TZOFFSETTO:+0200
TZNAME:CEST
DTSTART:20240331T010000
END:DAYLIGHT
BEGIN:STANDARD
TZOFFSETFROM:+0200
TZOFFSETTO:+0100
TZNAME:CET
DTSTART:20241027T010000
END:STANDARD
BEGIN:DAYLIGHT
TZOFFSETFROM:+0100
TZOFFSETTO:+0200
TZNAME:CEST
DTSTART:20250330T010000
END:DAYLIGHT
BEGIN:STANDARD
TZOFFSETFROM:+0200
TZOFFSETTO:+0100
TZNAME:CET
DTSTART:20251026T010000
END:STANDARD
BEGIN:DAYLIGHT
TZOFFSETFROM:+0100
TZOFFSETTO:+0200
TZNAME:CEST
DTSTART:20260329T010000
END:DAYLIGHT
BEGIN:STANDARD
TZOFFSETFROM:+0200
TZOFFSETTO:+0100
TZNAME:CET
DTSTART:20261025T010000
END:STANDARD
END:VTIMEZONE
BEGIN:VEVENT
DTSTART;TZID=Europe/Paris:20251103T190000
DTEND;TZID=Europe/Paris:20251103T210000
DTSTAMP:20260421T180055
CREATED:20250618T124147Z
LAST-MODIFIED:20250821T082826Z
UID:10000124-1762196400-1762203600@kompass-so.ch
SUMMARY:Väter – Was sie besonders macht
DESCRIPTION:Für Väter von 0- bis 10-jähri­gen Kindern / Oensin­genKoop­er­a­tion mit dem Hebam­men­zen­trum Oensin­gen \nKön­nen sich Väter unbeschw­ert­er ihrer Fam­i­lie zuwen­den als früher? Wie gehen sie mit den gestiege­nen Erwartun­gen um und in welch­er Rolle sehen sie sich? Die Aus­tauschrunde unter Vätern wird von ein­er männlichen Fach­per­son mod­eriert. \nAnmel­dung über das Hebam­men­zen­trum: \n			\n				zur Anmel­dung
URL:https://kompass-so.ch/event/vaeter-was-sie-besonders-macht/
LOCATION:Oensingen
CATEGORIES:Einzelveranstaltung
ATTACH;FMTTYPE=image/jpeg:https://kompass-so.ch/wp-content/uploads/2024/11/vaeter-aktiv_1000x550px.jpg
ORGANIZER;CN="Fachstelle kompass":MAILTO:mail@kompass-so.ch
END:VEVENT
END:VCALENDAR