BEGIN:VCALENDAR
VERSION:2.0
PRODID:-//kompass - ECPv6.15.20//NONSGML v1.0//EN
CALSCALE:GREGORIAN
METHOD:PUBLISH
X-ORIGINAL-URL:https://kompass-so.ch
X-WR-CALDESC:Veranstaltungen für kompass
REFRESH-INTERVAL;VALUE=DURATION:PT1H
X-Robots-Tag:noindex
X-PUBLISHED-TTL:PT1H
BEGIN:VTIMEZONE
TZID:Europe/Paris
BEGIN:DAYLIGHT
TZOFFSETFROM:+0100
TZOFFSETTO:+0200
TZNAME:CEST
DTSTART:20240331T010000
END:DAYLIGHT
BEGIN:STANDARD
TZOFFSETFROM:+0200
TZOFFSETTO:+0100
TZNAME:CET
DTSTART:20241027T010000
END:STANDARD
BEGIN:DAYLIGHT
TZOFFSETFROM:+0100
TZOFFSETTO:+0200
TZNAME:CEST
DTSTART:20250330T010000
END:DAYLIGHT
BEGIN:STANDARD
TZOFFSETFROM:+0200
TZOFFSETTO:+0100
TZNAME:CET
DTSTART:20251026T010000
END:STANDARD
BEGIN:DAYLIGHT
TZOFFSETFROM:+0100
TZOFFSETTO:+0200
TZNAME:CEST
DTSTART:20260329T010000
END:DAYLIGHT
BEGIN:STANDARD
TZOFFSETFROM:+0200
TZOFFSETTO:+0100
TZNAME:CET
DTSTART:20261025T010000
END:STANDARD
END:VTIMEZONE
BEGIN:VEVENT
DTSTART;TZID=Europe/Paris:20250925T190000
DTEND;TZID=Europe/Paris:20250925T203000
DTSTAMP:20260421T223709
CREATED:20250618T111100Z
LAST-MODIFIED:20250821T083112Z
UID:10000122-1758826800-1758832200@kompass-so.ch
SUMMARY:Spielen – Kraftfutter für das Gehirn
DESCRIPTION:Für Eltern von 0- bis 6‑jährigen Kindern / Oensin­genKoop­er­a­tion mit dem Hebam­men­zen­trum Oensin­gen \nSpie­len ist ein wichtiger Bestandteil der kindlichen Entwick­lung. Spie­len\, ohne Vor­gabe und Zweck\, fördert die Kreativ­ität der Kinder und hil­ft Span­nun­gen abzubauen. Beim Spie­len erweit­ern Kinder ihre sprach­lichen Ken­nt­nisse\, soziale Kom­pe­ten­zen und ler­nen von Klein an Prob­leme zu lösen. Welche Rolle kön­nen Eltern dabei ein­nehmen? \nAnmel­dung über das Hebam­men­zen­trum: \n			\n				zur Anmel­dung
URL:https://kompass-so.ch/event/spielen-kraftfutter-fuer-das-gehirn/
LOCATION:Oensingen
CATEGORIES:Einzelveranstaltung
ATTACH;FMTTYPE=image/jpeg:https://kompass-so.ch/wp-content/uploads/2024/11/sprachabendteuer-1000x550px.jpg
ORGANIZER;CN="Fachstelle kompass":MAILTO:mail@kompass-so.ch
END:VEVENT
BEGIN:VEVENT
DTSTART;TZID=Europe/Paris:20250925T191500
DTEND;TZID=Europe/Paris:20250925T211500
DTSTAMP:20260421T223709
CREATED:20241201T163001Z
LAST-MODIFIED:20241211T140218Z
UID:10000053-1758827700-1758834900@kompass-so.ch
SUMMARY:Starke Gefühle bei Kindern – so unterstützen Sie Ihr Kind (2566)
DESCRIPTION:Für Eltern von 4- bis 10-jähri­gen Kindern / in Olten \nFrus­tra­tion\, Wut\, Angst oder Trau­rigkeit gehören zur Gefühlswelt der Kinder dazu. Wie kön­nen Eltern in solchen Momenten beson­nen reagieren und ihren Kindern einen unter­stützen­den Umgang mit Gefühlen lehren? \n			\n			\n				\n				\n				\n				\n			\n				\n				\n				\n				\n				\n				\n			\n				\n				\n				\n				\n				Kursanmeldung für den Kurs vom 25. September 2025 in Olten\, Starke Gefühle bei Kindern – so unterstützen Sie Ihr Kind (2566)\n				\n				\n				\n					\n						\n				\n				\n				\n				\n				Anrede*\n				\n						Anrede*FrauHerr\n					\n			 \n				\n				\n				\n				\n				Vor­name*\n				\n			 \n				\n				\n				\n				\n				Name*\n				\n			 \n				\n				\n				\n				\n				Strasse*\n				\n			 \n				\n				\n				\n				\n				PLZ / Ort*\n				\n			 \n				\n				\n				\n				\n				Tele­fon*\n				\n			 \n				\n				\n				\n				\n				E‑Mail-Adresse*\n				\n			 \n				\n				\n				\n				\n				Nachricht\n				\n			 \n						\n						\n							\n			\n				\n					9 + 8 = \n				 \n			\n							Anmelden\n						\n						\n					\n				\n			\n			\n			\n				\n				\n				\n				\n				\n				\n				\n				\n				\n				Kosten Einzelver­anstal­tung\nDie Teil­nehmenden aus dem Kan­ton Solothurn kön­nen frei nach ihren per­sön­lichen Möglichkeit­en entschei­den\, welchen Betrag sie für die Ver­anstal­tung bezahlen möcht­en. Richtwert CHF 10.–.\nFür Per­so­n­en ausser­halb des Kan­ton Solothurn gilt ein Min­dest­be­trag von CHF 20.–\nNach dem Absenden dieses For­mu­la­rs erhal­ten Sie eine automa­tis­che Anmeldebestä­ti­gung per E‑Mail. Die defin­i­tive Kurs­bestä­ti­gung erhal­ten Sie spätestens 1 Woche vor dem Anlass per E‑Mail. \nDie Anmel­dung ist verbindlich.\nSoll­ten Sie ver­hin­dert sein\, bit­ten wir Sie um frühzeit­ige Mit­teilung.
URL:https://kompass-so.ch/event/starke-gefuehle-bei-kindern-so-unterstuetzen-sie-ihr-kind-2566/
LOCATION:Olten
CATEGORIES:Einzelveranstaltung
ATTACH;FMTTYPE=image/jpeg:https://kompass-so.ch/wp-content/uploads/2024/11/starke-gefuehle_1000x550px.jpg
ORGANIZER;CN="Fachstelle kompass":MAILTO:mail@kompass-so.ch
END:VEVENT
END:VCALENDAR