BEGIN:VCALENDAR
VERSION:2.0
PRODID:-//kompass - ECPv6.15.20//NONSGML v1.0//EN
CALSCALE:GREGORIAN
METHOD:PUBLISH
X-WR-CALNAME:kompass
X-ORIGINAL-URL:https://kompass-so.ch
X-WR-CALDESC:Veranstaltungen für kompass
REFRESH-INTERVAL;VALUE=DURATION:PT1H
X-Robots-Tag:noindex
X-PUBLISHED-TTL:PT1H
BEGIN:VTIMEZONE
TZID:Europe/Paris
BEGIN:DAYLIGHT
TZOFFSETFROM:+0100
TZOFFSETTO:+0200
TZNAME:CEST
DTSTART:20240331T010000
END:DAYLIGHT
BEGIN:STANDARD
TZOFFSETFROM:+0200
TZOFFSETTO:+0100
TZNAME:CET
DTSTART:20241027T010000
END:STANDARD
BEGIN:DAYLIGHT
TZOFFSETFROM:+0100
TZOFFSETTO:+0200
TZNAME:CEST
DTSTART:20250330T010000
END:DAYLIGHT
BEGIN:STANDARD
TZOFFSETFROM:+0200
TZOFFSETTO:+0100
TZNAME:CET
DTSTART:20251026T010000
END:STANDARD
BEGIN:DAYLIGHT
TZOFFSETFROM:+0100
TZOFFSETTO:+0200
TZNAME:CEST
DTSTART:20260329T010000
END:DAYLIGHT
BEGIN:STANDARD
TZOFFSETFROM:+0200
TZOFFSETTO:+0100
TZNAME:CET
DTSTART:20261025T010000
END:STANDARD
END:VTIMEZONE
BEGIN:VEVENT
DTSTART;TZID=Europe/Paris:20250429T090000
DTEND;TZID=Europe/Paris:20250429T113000
DTSTAMP:20260422T103006
CREATED:20241203T140419Z
LAST-MODIFIED:20241210T132424Z
UID:10000093-1745917200-1745926200@kompass-so.ch
SUMMARY:Starke Grosseltern – Starke Kinder (2516)
DESCRIPTION:Für alle Grossel­tern / in Solothurn  \nBei aller Freude mit den Enkel\, kann es schwierig sein\, als Grossel­tern den richti­gen Platz in der Fam­i­lie zu find­en\, den ver­schiede­nen Anforderun­gen gerecht zu wer­den und sich dabei selb­st nicht zu vergessen. In diesem Kurs wird über den Wert und die Rolle der Grossel­tern gesprochen und wie ein wertschätzen­des Zusam­men­leben gestal­tet wer­den kann. \nDauer: 3 Kursmor­gen à 2.5 hKurs­dat­en: 29. April\, 6. Mai\, 13. Mai 2025Kosten: CHF 120.– / Einzelper­son\, CHF 200.– / Paar \n			\n			\n				\n				\n				\n				\n			\n				\n				\n				\n				\n				\n				\n			\n				\n				\n				\n				\n				Kursanmeldung für den Kurs vom 29. April 2025 in Solothurn\, Starke Grosseltern – Starke Kinder (2516)\n				\n				\n				\n					\n						\n				\n				\n				\n				\n				Anrede*\n				\n						Anrede*FrauHerr\n					\n			 \n				\n				\n				\n				\n				Vor­name*\n				\n			 \n				\n				\n				\n				\n				Name*\n				\n			 \n				\n				\n				\n				\n				Strasse*\n				\n			 \n				\n				\n				\n				\n				PLZ / Ort*\n				\n			 \n				\n				\n				\n				\n				Tele­fon*\n				\n			 \n				\n				\n				\n				\n				E‑Mail-Adresse*\n				\n			 \n				\n				\n				\n				\n				Nachricht\n				\n			 \n						\n						\n							\n			\n				\n					9 + 5 = \n				 \n			\n							Anmelden\n						\n						\n					\n				\n			\n			\n			\n				\n				\n				\n				\n				\n				\n				\n				\n				\n				Kosten mehrteilige Ver­anstal­tungCHF 120.– / Einzelper­sonCHF 200.– / Paar \nNach dem Absenden dieses For­mu­la­rs erhal­ten Sie eine automa­tis­che Anmeldebestä­ti­gung per E‑Mail. Die defin­i­tive Kurs­bestä­ti­gung erhal­ten Sie spätestens 1 Woche vor dem Anlass per E‑Mail. \nDie Anmel­dung ist verbindlich.Soll­ten Sie ver­hin­dert sein\, bit­ten wir Sie um frühzeit­ige Mit­teilung.
URL:https://kompass-so.ch/event/starke-grosseltern-starke-kinder-2516/
LOCATION:Solothurn
CATEGORIES:Mehrteiliger Kurs
ATTACH;FMTTYPE=image/jpeg:https://kompass-so.ch/wp-content/uploads/2024/11/starke-grosseltern_1000x550px.jpg
ORGANIZER;CN="Fachstelle kompass":MAILTO:mail@kompass-so.ch
END:VEVENT
BEGIN:VEVENT
DTSTART;TZID=Europe/Paris:20250429T191500
DTEND;TZID=Europe/Paris:20250429T214500
DTSTAMP:20260422T103006
CREATED:20241203T095733Z
LAST-MODIFIED:20250212T094927Z
UID:10000080-1745954100-1745963100@kompass-so.ch
SUMMARY:SESK Basis (2502)
DESCRIPTION:Für alle Eltern / in Bal­sthal \nKinder auf dem Weg zu selb­st­ständi­gen\, ver­ant­wor­tungs­be­wussten und zufriede­nen Men­schen zu begleit­en\, ist eine anspruchsvolle Auf­gabe. Viele Eltern fühlen sich unsich­er und über­fordert. Der Kurs «Starke Eltern – Starke Kinder» gibt den Eltern mehr Sicher­heit und trägt zu einem entspan­nteren Fam­i­lien­all­t­ag bei. \nIm Basiskurs set­zen sich Eltern damit auseinan­der\, was ihnen in der Erziehung wichtig ist\, wie sie ihre Bedürfnisse und Gefüh­le aus­drück­en und sich mit ihrem Kind bess­er ver­ständi­gen kön­nen. \nDauer: 4 Kursabende à 2.5 hKurs­dat­en: 29. April\, 6. Mai\, 20. Mai\, 27. Mai 2025Kosten: CHF 160.– / Eltern­teil\, CHF 240.– / Eltern­paar \n			\n			\n				\n				\n				\n				\n			\n				\n				\n				\n				\n				\n				\n			\n				\n				\n				\n				\n				Kursanmeldung für den Kurs vom 29. April 2025 in Balsthal\, SESK Basis (2502)\n				\n				\n				\n					\n						\n				\n				\n				\n				\n				Anrede*\n				\n						Anrede*FrauHerr\n					\n			 \n				\n				\n				\n				\n				Vor­name*\n				\n			 \n				\n				\n				\n				\n				Name*\n				\n			 \n				\n				\n				\n				\n				Strasse*\n				\n			 \n				\n				\n				\n				\n				PLZ / Ort*\n				\n			 \n				\n				\n				\n				\n				Tele­fon*\n				\n			 \n				\n				\n				\n				\n				E‑Mail-Adresse*\n				\n			 \n				\n				\n				\n				\n				Nachricht\n				\n			 \n						\n						\n							\n			\n				\n					13 + 2 = \n				 \n			\n							Anmelden\n						\n						\n					\n				\n			\n			\n			\n				\n				\n				\n				\n				\n				\n				\n				\n				\n				Kosten Mehrteilige Ver­anstal­tung\nCHF 160.– / Eltern­teil\nCHF 240.– / Eltern­paar\nNach dem Absenden dieses For­mu­la­rs erhal­ten Sie eine automa­tis­che Anmeldebestä­ti­gung per E‑Mail. Die defin­i­tive Kurs­bestä­ti­gung erhal­ten Sie spätestens 1 Woche vor dem Anlass per E‑Mail. \nDie Anmel­dung ist verbindlich.\nSoll­ten Sie ver­hin­dert sein\, bit­ten wir Sie um frühzeit­ige Mit­teilung.
URL:https://kompass-so.ch/event/sesk-basis-2502/
LOCATION:Balsthal
CATEGORIES:Mehrteiliger Kurs
ATTACH;FMTTYPE=image/jpeg:https://kompass-so.ch/wp-content/uploads/2024/11/sesk-mit-logo_1000x550px.jpg
ORGANIZER;CN="Fachstelle kompass":MAILTO:mail@kompass-so.ch
END:VEVENT
BEGIN:VEVENT
DTSTART;TZID=Europe/Paris:20250429T194500
DTEND;TZID=Europe/Paris:20250429T214500
DTSTAMP:20260422T103006
CREATED:20241201T162159Z
LAST-MODIFIED:20241211T104457Z
UID:10000052-1745955900-1745963100@kompass-so.ch
SUMMARY:Starke Gefühle bei Kindern – so unterstützen Sie Ihr Kind (2565)
DESCRIPTION:Für Eltern von 4- bis 10-jähri­gen Kindern / online \nFrus­tra­tion\, Wut\, Angst oder Trau­rigkeit gehören zur Gefühlswelt der Kinder dazu. Wie kön­nen Eltern in solchen Momenten beson­nen reagieren und ihren Kindern einen unter­stützen­den Umgang mit Gefühlen lehren? \n			\n			\n				\n				\n				\n				\n			\n				\n				\n				\n				\n				\n				\n			\n				\n				\n				\n				\n				Kursanmeldung für den Kurs vom 29. April 2025\, online\, Starke Gefühle bei Kindern – so unterstützen Sie Ihr Kind (2565)\n				\n				\n				\n					\n						\n				\n				\n				\n				\n				Anrede*\n				\n						Anrede*FrauHerr\n					\n			 \n				\n				\n				\n				\n				Vor­name*\n				\n			 \n				\n				\n				\n				\n				Name*\n				\n			 \n				\n				\n				\n				\n				Strasse*\n				\n			 \n				\n				\n				\n				\n				PLZ / Ort*\n				\n			 \n				\n				\n				\n				\n				Tele­fon*\n				\n			 \n				\n				\n				\n				\n				E‑Mail-Adresse*\n				\n			 \n				\n				\n				\n				\n				Nachricht\n				\n			 \n						\n						\n							\n			\n				\n					4 + 7 = \n				 \n			\n							Anmelden\n						\n						\n					\n				\n			\n			\n			\n				\n				\n				\n				\n				\n				\n				\n				\n				\n				Kosten Einzelver­anstal­tungDie Teil­nehmenden aus dem Kan­ton Solothurn kön­nen frei nach ihren per­sön­lichen Möglichkeit­en entschei­den\, welchen Betrag sie für die Ver­anstal­tung bezahlen möcht­en. Richtwert CHF 10.–.Für Per­so­n­en ausser­halb des Kan­ton Solothurn gilt ein Min­dest­be­trag von CHF 20.– \nNach dem Absenden dieses For­mu­la­rs erhal­ten Sie eine automa­tis­che Anmeldebestä­ti­gung per E‑Mail. Die defin­i­tive Kurs­bestä­ti­gung erhal­ten Sie spätestens 3 Tage vor dem Anlass per E‑Mail. \nDie Anmel­dung ist verbindlich.Soll­ten Sie ver­hin­dert sein\, bit­ten wir Sie um frühzeit­ige Mit­teilung.
URL:https://kompass-so.ch/event/starke-gefuehle-bei-kindern-so-unterstuetzen-sie-ihr-kind-2565/
LOCATION:Online
CATEGORIES:Einzelveranstaltung
ATTACH;FMTTYPE=image/jpeg:https://kompass-so.ch/wp-content/uploads/2024/11/starke-gefuehle_1000x550px.jpg
ORGANIZER;CN="Fachstelle kompass":MAILTO:mail@kompass-so.ch
END:VEVENT
END:VCALENDAR